{"text_format":"1","workbook":"xlsx","n_sheets":28,"sheets":["User interface","Stand history","C Change","INPUT","LP1OUT","LP2OUT","300 Index","Simple screen","Log specs","Overriding","Economics","Multiple runs","Index table","Wood density","Ht-Age table","PLI","Annual growth","Default","Original Defaults","Change","Summary","Clearfell","Prod thin 1","Prod thin 2","Prod thin 3","Prod thin 4","Prod thin 5","Stand histories"],"not_rendered":{"charts":0,"images":5,"macros":1,"external_links":0,"defined_names":1,"comments":10,"pivot_tables":0},"unopened":[],"bounds":{"document_bytes":16777216,"sheet_cells":100000,"rows_first":2000,"rows_last":500,"rows_between":2000,"halvings":0,"cell_chars":16384,"cell_head_chars":4096},"cells_cut":0,"cells_raw":0,"read":"whole","date_system":"1900"}

{"sheet":"User interface","index":0,"n_rows":50,"n_cols":16,"rows_kept":50,"cut":false,"hidden":false,"merged":[[23,9,24,15],[14,9,14,10],[18,9,18,10],[49,1,49,15],[35,5,35,6],[29,5,29,7],[34,5,34,6],[23,5,23,7],[33,5,33,6],[48,1,48,15],[31,1,35,1],[30,5,30,6],[31,5,31,6],[32,5,32,6],[37,1,45,1],[39,9,39,15],[36,5,36,6],[19,9,19,10],[0,1,0,15],[16,1,21,1],[2,9,2,15],[9,9,9,10],[6,5,6,7],[21,9,21,10],[20,9,20,10],[17,9,17,10],[2,1,7,1],[9,1,14,1],[8,1,8,7],[10,9,10,10],[12,9,12,10],[11,9,11,10],[13,9,13,10]]}
[null,"Radiata Pine Calculator Version 4.0 Pro          Registered User: NZ Farm Forestry Association"]
[]
[null,"Stand information","300-index",26,null,null,null,null,null,"Stand parameters at clear-felling"]
[null,null,"Site index (m)",28.3,"Survival",null,null,null,null,"Age","DBH","MTH","SPH","BA","Vol","MH"]
[null,null,"Stems/ha planted",850,0.95,null,null,null,null,{"$f":"D6","v":30},{"$f":"VLOOKUP('User interface'!$J$5+1,'300 Index'!$G$5:$Q$95,10)","v":51.622999007878917},{"$f":"VLOOKUP('User interface'!$J$5+1,'300 Index'!$G$5:$Q$95,4)","v":38.562939382088778},{"$f":"VLOOKUP('User interface'!$J$5+1,'300 Index'!$G$5:$Q$95,2)","v":292.88393085907848},{"$f":"VLOOKUP('User interface'!$J$5+1,'300 Index'!$G$5:$Q$95,8)","v":61.31314636144478},{"$f":"VLOOKUP('User interface'!$J$5+1,'300 Index'!$G$5:$Q$95,6,TRUE)","v":783.00664902621565},{"$f":"calcmeanht(L5,M5)","v":37.113885203839992}]
[null,null,"Rotation age (years)",30]
[null,null,"Altitude (m)",300,null,{"$f":"IF(Change!J1>0,\"PUSH RUN TO UPDATE\",\"\")","v":""},null,null,null,"BIX","Juvenile","PLI","Density","SED","SED (pr)","Grazing"]
[null,null,"Latitude (0S)",40,null,null,null,null,null,{"$f":"Clearfell!N27","v":5.1688168020958463},{"$f":"calcjuvenile(D4,'300 Index'!G6:G105,'300 Index'!P6:P105,'300 Index'!H6:H105)","v":0.33065641485405417},{"$f":"conref4(Clearfell!O31)","v":6.6273168194177874},{"$f":"VLOOKUP('User interface'!$J$5+1,'300 Index'!$G$5:$AO$95,35,TRUE)*1000","v":361.02745452834125},{"$f":"Clearfell!N35","v":33.043438276100872},{"$f":"Clearfell!N29","v":41.643346490224907},{"$f":"UnderStoreyGrazing(Summary!R3,D36)","v":0}]
[null,{"$f":"IF(Change!P6>0,\"Warning! Pruned height and pruned log length (in log specs) do not match up!\",\"\")","v":""}]
[null,"Prunings",null,"Prune 1","Prune 2","Prune 3","Prune 4","Prune 5",null,"Pruning results",null,"Prune 1","Prune 2","Prune 3","Prune 4","Prune 5"]
[null,null,"Age at pruning (years)",5.5,6.8,8,null,null,null,"DOS (cm)",null,{"$f":"conref3(Summary!D28)","v":15.647755636733534},{"$f":"conref3(Summary!E28)","v":16.710553675172683},{"$f":"conref3(Summary!F28)","v":15.934753112573203},{"$f":"conref3(Summary!G28)","v":""},{"$f":"conref3(Summary!H28)","v":""}]
[null,null,"Pruned height (m)",2.4,4.5999999999999996,6,null,null,null,"GCL at pruning (m)",null,{"$f":"conref3(Summary!D29)","v":3.8401521848294569},{"$f":"conref3(Summary!E29)","v":3.6579344052569205},{"$f":"conref3(Summary!F29)","v":4.1428323751132936},{"$f":"conref3(Summary!G29)","v":""},{"$f":"conref3(Summary!H29)","v":""}]
[null,null,"Stems per hectare",450,350,320,null,null,null,"MTH at pruning (m)",null,{"$f":"conref3(Summary!D23)","v":6.5871479238885584},{"$f":"conref3(Summary!E23)","v":8.6396693816133894},{"$f":"conref3(Summary!F23)","v":10.575378570444949},{"$f":"conref3(Summary!G23)","v":""},{"$f":"conref3(Summary!H23)","v":""}]
[null,null,"Target DOS (cm)",null,null,null,null,null,null,"FC pruned SPH",null,{"$f":"conref3(Summary!D19)","v":""},{"$f":"conref3(Summary!E19)","v":""},{"$f":"conref3(Summary!F19)","v":292.88393085907848},{"$f":"conref3(Summary!G19)","v":""},{"$f":"conref3(Summary!H19)","v":""}]
[null,null,"Target green crown length (m)",null,null,null,null,null,null,"FC pruned TSV (m3)",null,{"$f":"conref3(Summary!D21)","v":""},{"$f":"conref3(Summary!E21)","v":""},{"$f":"conref3(Summary!F21)","v":783.00664902621565},{"$f":"conref3(Summary!G21)","v":""},{"$f":"conref3(Summary!H21)","v":""}]
[]
[null,"Thinnings",null,"Thin 1","Thin 2","Thin 3","Thin 4","Thin 5",null,"Thinning results",null,"Thin 1","Thin 2","Thin 3","Thin 4 ","Thin 5"]
[null,null,"Age at thinning (years)",8.8000000000000007,null,null,null,null,null,"MTH at thinning",null,{"$f":"conref3(Summary!D14)","v":11.873001522898338},{"$f":"conref3(Summary!E14)","v":""},{"$f":"conref3(Summary!F14)","v":""},{"$f":"conref3(Summary!G14)","v":""},{"$f":"conref3(Summary!H14)","v":""}]
[null,null,"SPH after thinning",307,null,null,null,null,null,"SPH before thin",null,{"$f":"conref3(Summary!D4)","v":804.11388333744719},{"$f":"conref3(Summary!E4)","v":""},{"$f":"conref3(Summary!F4)","v":""},{"$f":"conref3(Summary!G4)","v":""},{"$f":"conref3(Summary!H4)","v":""}]
[null,null,"Thinning coefficient",0.78,null,null,null,null,null,"SPH thinnings",null,{"$f":"conref3(Summary!D6)","v":497.11388333744719},{"$f":"conref3(Summary!E6)","v":""},{"$f":"conref3(Summary!F6)","v":""},{"$f":"conref3(Summary!G6)","v":""},{"$f":"conref3(Summary!H6)","v":""}]
[null,null,"Production or waste (P/W)","W",null,null,null,null,null,"DBH thinnings (cm)",null,{"$f":"conref3(Summary!D13)","v":19.257319729230758},{"$f":"conref3(Summary!E13)","v":""},{"$f":"conref3(Summary!F13)","v":""},{"$f":"conref3(Summary!G13)","v":""},{"$f":"conref3(Summary!H13)","v":""}]
[null,null,"Target final crop stocking",270,null,null,null,null,null,"Vol thinnings (m3/ha)",null,{"$f":"conref3(Summary!D9)","v":65.088738886615033},{"$f":"conref3(Summary!E9)","v":""},{"$f":"conref3(Summary!F9)","v":""},{"$f":"conref3(Summary!G9)","v":""},{"$f":"conref3(Summary!H9)","v":""}]
[]
[null,"Financial","Annual fixed costs ($/ha)",46,null,"Model Adjustments",null,null,null,"Volume by log grades"]
[null,null,"Establishment costs (cents/tree)",50,null,"Mort +",0]
[null,null,"Clearfell Logging Cost ($/m3)",35,null,"Mort x",0,null,null,"Log grade","Thin 1","Thin 2","Thin 3","Thin 4","Thin 5","Clearfell"]
[null,null,"Production Thin Logging Cost ($/m3)",45,null,"Drift",0,null,null,{"$f":"conref2(Clearfell!B2)","v":"Pruned"},{"$f":"conref3('Prod thin 1'!B35)","v":""},{"$f":"conref3('Prod thin 2'!B35)","v":""},{"$f":"conref3('Prod thin 3'!B35)","v":""},{"$f":"conref3('Prod thin 4'!B35)","v":""},{"$f":"conref3('Prod thin 5'!B35)","v":""},{"$f":"conref3(Clearfell!B35)","v":205.2809204383048}]
[null,null,"Labour Cost ($/hr)",25,null,null,null,null,null,{"$f":"conref2(Clearfell!C2)","v":"S1"},{"$f":"conref3('Prod thin 1'!B36)","v":""},{"$f":"conref3('Prod thin 2'!B36)","v":""},{"$f":"conref3('Prod thin 3'!B36)","v":""},{"$f":"conref3('Prod thin 4'!B36)","v":""},{"$f":"conref3('Prod thin 5'!B36)","v":""},{"$f":"conref3(Clearfell!B36)","v":9.5121737171360792}]
[null,null,"Labour Supervision (%)",12,null,null,null,null,null,{"$f":"conref2(Clearfell!D2)","v":"S2"},{"$f":"conref3('Prod thin 1'!B37)","v":""},{"$f":"conref3('Prod thin 2'!B37)","v":""},{"$f":"conref3('Prod thin 3'!B37)","v":""},{"$f":"conref3('Prod thin 4'!B37)","v":""},{"$f":"conref3('Prod thin 5'!B37)","v":""},{"$f":"conref3(Clearfell!B37)","v":53.861430623485084}]
[null,null,"Discount rate (%)",7,null,"Calibrate indices",null,null,null,{"$f":"conref2(Clearfell!E2)","v":"S3"},{"$f":"conref3('Prod thin 1'!B38)","v":""},{"$f":"conref3('Prod thin 2'!B38)","v":""},{"$f":"conref3('Prod thin 3'!B38)","v":""},{"$f":"conref3('Prod thin 4'!B38)","v":""},{"$f":"conref3('Prod thin 5'!B38)","v":""},{"$f":"conref3(Clearfell!B38)","v":56.320055945655852}]
[null,null,null,null,null,"Age (years)",null,12,null,{"$f":"conref2(Clearfell!F2)","v":"L1"},{"$f":"conref3('Prod thin 1'!B39)","v":""},{"$f":"conref3('Prod thin 2'!B39)","v":""},{"$f":"conref3('Prod thin 3'!B39)","v":""},{"$f":"conref3('Prod thin 4'!B39)","v":""},{"$f":"conref3('Prod thin 5'!B39)","v":""},{"$f":"conref3(Clearfell!B39)","v":55.197742552972763}]
[null,"Land & livestock","Land Value ($/ha)",0,null,"Stocking (sph)",null,300,null,{"$f":"conref2(Clearfell!G2)","v":"L2"},{"$f":"conref3('Prod thin 1'!B40)","v":""},{"$f":"conref3('Prod thin 2'!B40)","v":""},{"$f":"conref3('Prod thin 3'!B40)","v":""},{"$f":"conref3('Prod thin 4'!B40)","v":""},{"$f":"conref3('Prod thin 5'!B40)","v":""},{"$f":"conref3(Clearfell!B40)","v":118.89218684646718}]
[null,null,"Livestock Carrying Capacity (LSU/ha)",0,null,"DBH (cm)",null,null,null,{"$f":"conref2(Clearfell!H2)","v":"L3"},{"$f":"conref3('Prod thin 1'!B41)","v":""},{"$f":"conref3('Prod thin 2'!B41)","v":""},{"$f":"conref3('Prod thin 3'!B41)","v":""},{"$f":"conref3('Prod thin 4'!B41)","v":""},{"$f":"conref3('Prod thin 5'!B41)","v":""},{"$f":"conref3(Clearfell!B41)","v":77.406709437254719}]
[null,null,"Livestock capital value ($/LSU)",0,null,"Basal area (m2/ha)",null,18,null,{"$f":"conref2(Clearfell!I2)","v":"Pulp"},{"$f":"conref3('Prod thin 1'!B42)","v":""},{"$f":"conref3('Prod thin 2'!B42)","v":""},{"$f":"conref3('Prod thin 3'!B42)","v":""},{"$f":"conref3('Prod thin 4'!B42)","v":""},{"$f":"conref3('Prod thin 5'!B42)","v":""},{"$f":"conref3(Clearfell!B42)","v":89.084432111006777}]
[null,null,"Livestock Gross Margin ($/lsu/yr)",0,null,"Volume (m3/ha)",null,null,null,{"$f":"conref2(Clearfell!J2)","v":""},{"$f":"conref3('Prod thin 1'!B43)","v":""},{"$f":"conref3('Prod thin 2'!B43)","v":""},{"$f":"conref3('Prod thin 3'!B43)","v":""},{"$f":"conref3('Prod thin 4'!B43)","v":""},{"$f":"conref3('Prod thin 5'!B43)","v":""},{"$f":"conref3(Clearfell!B43)","v":""}]
[null,null,"Understorey grazing (Y/N)","N",null,"MTH (m)",null,18,null,{"$f":"conref2(Clearfell!K2)","v":""},{"$f":"conref3('Prod thin 1'!B44)","v":""},{"$f":"conref3('Prod thin 2'!B44)","v":""},{"$f":"conref3('Prod thin 3'!B44)","v":""},{"$f":"conref3('Prod thin 4'!B44)","v":""},{"$f":"conref3('Prod thin 5'!B44)","v":""},{"$f":"conref3(Clearfell!B44)","v":""}]
[null,null,null,null,null,"MH (m)",null,null,null,"Merchant.",{"$f":"IF(L22<>\"\",SUM(K27:K36),\"\")","v":0},{"$f":"IF(M22<>\"\",SUM(L27:L36),\"\")","v":""},{"$f":"IF(N22<>\"\",SUM(M27:M36),\"\")","v":""},{"$f":"IF(O22<>\"\",SUM(N27:N36),\"\")","v":""},{"$f":"IF(P22<>\"\",SUM(O27:O36),\"\")","v":""},{"$f":"SUM(P27:P36)","v":665.55565167228326}]
[null,"Log quality","Clearfell yield (%)",85,null,null,null,null,null,"Waste",{"$f":"IF(L22<>\"\",L22-K37,\"\")","v":65.088738886615033},{"$f":"IF(M22<>\"\",M22-L37,\"\")","v":""},{"$f":"IF(N22<>\"\",N22-M37,\"\")","v":""},{"$f":"IF(O22<>\"\",O22-N37,\"\")","v":""},{"$f":"IF(P22<>\"\",P22-O37,\"\")","v":""},{"$f":"O5-$P$37","v":117.45099735393239}]
[null,null,"Thinning Yield Reduction (%)",10]
[null,null,"B.H. Outerwood  Density (kg/m3)",410,null,null,null,null,null,"Economic results"]
[null,null,"Density measurement age (yrs)",15,null,null,null,null,null,"NPV","LEV","IRR","EFGM","Stumpage","Value/m3","Labour"]
[null,null,"Pruned log sweep (mm/m)",8,null,null,null,null,null,{"$f":"Economics!D29","v":2025.572824229987},{"$f":"Economics!D30","v":2331.9089850648397},{"$f":"Economics!D32","v":9.6584320068359375E-2},{"$f":"Economics!D33","v":0},{"$f":"Economics!G15-Economics!G23","v":33317.454015829564},{"$f":"Economics!D36","v":85.059606483869103},{"$f":"Economics!D35","v":66.333146408248325}]
[null,null,"Soil C (%)",5.3]
[null,null,"Soil N (%)",0.37]
[null,null,"Mean annual temperature (ºC)",12]
[null,null,"Theoretical clearfell yield (%)",{"$f":"Clearfell!N39*100","v":96.789854103552884}]
[]
[]
[null,"Developed for Future Forests Research - based on NZFFA Radiata Pine Calculator 2003-2007 produced by Leith Knowles - this version released in March 2014"]
[null,"For assitance, contact Mark Kimberley, Scion Research"]

{"sheet":"Stand history","index":1,"n_rows":45,"n_cols":14,"rows_kept":45,"cut":false,"hidden":false,"merged":[[0,1,0,7],[2,11,2,12]]}
[]
[]
[null,null,null,null,null,null,null,null,null,null,null,"CO2 equivalents (t/ha)"]
[null,"Age","DBH","MTH","MH","SPH","BA","VOL","Root Biomass","Grazing","Crown closure","Rotation 1","Rotation 2","This sheet displays detailed stand-level"]
[null,1,0,0.78196079470838642,0.73047667544813499,807.5,0,6.164375600878394E-2,null,null,0,0.16644961882791953,331.83530814933175,"results on a year-by-year basis."]
[null,2,0.30879528595251143,1.754166531879424,1.6386752010861834,807.41103028042858,6.0479417282185057E-3,0.37210754219714726,4.0175099458076013E-3,null,0,0.95807408832637686,283.32929418362534]
[null,3,2.58514835465611,2.96836208619077,2.772948472821906,807.04042860325262,0.42367986964703547,1.1012449272719276,0.46866524280743849,null,1.3266569817193672E-5,2.6081019225965743,243.52448996351168,"Press the 'Generate' button to access"]
[null,4,5.5764205169173566,4.340864533334714,4.0551229160264421,806.66996937195222,1.970509434370465,5.0145922940046628,2.6213936683071575,null,5.840631562588584E-3,11.765439323411263,217.74233024738396,"these results for the latest run"]
[null,5,8.8296166633099222,5.8196514720007126,5.4366033299813443,806.29820100871291,4.9379988613714971,13.931501408050305,7.3350897633719434,null,4.9226058746622565E-2,29.196179988485994,205.65789368573198]
[null,6,12.114233769890328,7.3684459171939825,6.8835042498986647,805.90977359590272,9.290731710839685,29.805310668034377,14.889130991503199,null,0.15861208209083086,57.353961341991635,208.82646440187696]
[null,7,14.905799047064864,8.9604830247507596,8.3708326217998117,805.45280185214176,14.057957204648561,51.263300590555886,23.678592494010534,null,0.19848243668139706,90.260507815047944,220.52862672647203]
[null,8,17.480928889464586,10.575378570444949,9.8795716483650722,804.81665498121902,19.319574795528691,79.447247624061916,33.809710254694707,null,0.27311788574013024,130.91199957735196,243.14790779083691]
[null,9,19.823444680296149,12.197314394936845,11.394990573942872,803.84928371989827,24.814439608050709,113.94903636631385,44.756474041250399,null,0.29235515715166255,171.38477351185119,268.25317178594264]
[null,10,21.908023918736131,13.813883732202004,13.270555094126497,306.83652876536689,11.568713612756858,58.74338510755797,21.372643578724727,null,0.32552315475030091,174.75116576642577,258.49552886113298]
[null,11,23.948954274290895,15.415306359582594,14.809324297083203,306.65960826192958,13.816603112604067,76.875270952884222,49.009238108014905,null,0.40392571348251272,185.08147775848832,257.59489964402684]
[null,12,26.571645825456006,16.99386860909004,16.326251753371384,306.45826849624211,16.997296487621913,102.77792259369944,54.573645576463036,null,0.52123877155946841,206.38910440187124,269.27259786025752]
[null,13,28.999985938955053,18.54350885964466,17.815553750338644,306.22052730308229,20.230260308458611,131.96469704104055,60.478944065430419,null,0.2248129732544574,231.03047114170548,285.64103329843812]
[null,14,31.234345725305445,20.059501858739296,19.272731047897015,305.93741371864905,23.44601365176025,163.91259187455964,66.549657404419477,null,0.30203559799513896,260.42548736963084,307.91580419501753]
[null,15,33.287325804393724,21.53821286393341,20.694334033322395,305.60124398028626,26.600177068450499,198.1420718608575,72.662567582097225,null,0.38482472200872314,292.69723423516115,334.048543514193]
[null,16,35.175218404293865,22.976902711511887,22.077773252469232,305.20586206513212,29.664571028556079,234.21478449582375,78.731059243372698,null,0.47975257498163359,327.73753313436242,363.7868801030404]
[null,17,36.913740008727885,24.373571024973682,23.421166964567856,304.74669398322885,32.620205854511113,271.71953279044743,84.690942856529631,null,0.56115267411406999,364.69606084302427,396.1589502390803]
[null,18,38.516702357600174,25.726828621838049,24.723217086779297,304.22071238728836,35.453455494498087,310.26489122646007,90.492178067469183,null,0.62742329263400942,403.15379317691105,430.64305512487704]
[null,19,39.996010400988915,27.035792690070863,25.983107349494105,303.62634743640172,38.154379649724696,349.47971529550631,96.095052333777957,null,0.6796461613203385,442.52402501193689,466.56556135349138]
[null,20,41.362034500710138,28.300000000000399,27.200419124273434,302.96335762318586,40.716035716529014,389.01745378273199,101.4685256556719,null,0.70536031045719516,482.38130059960758,503.42725608748555]
[null,21,42.623977950629623,29.519334592337206,28.375061496670359,302.23267157925272,43.134122107783497,428.56089338049253,106.58932388968381,null,0.71876566053874247,522.31832839415824,540.75813204978908]
[null,22,43.785019914611546,30.69396721729607,29.507211616380392,301.43655612964261,45.396107824975992,467.71672385378236,111.41531649825171,null,0.72956726326505938,561.87720696900976,578.04684840810069]
[null,23,44.907672051094941,31.824304405334878,30.597274710675755,300.57615592131964,47.617567619025216,507.4548595168979,116.21987461717174,null,0.73834267333945713,602.42385121512336,616.61369129211005]
[null,24,45.986274971963795,32.910945497939558,31.645842816619641,299.65174472606964,49.778851316316732,547.43233376881813,120.94965815522706,null,0.74551525159695642,643.1050413087753,655.56640314052504]
[null,25,47.023223435991603,33.954646303934339,32.653653513466345,298.66439353754294,51.877595574592888,587.48372552996284,125.59358465978634,null,0.75140144278020149,684.04312656429522,694.9938695469483]
[null,26,48.020888246328454,34.956288304342543,33.621561447232665,297.61561972432952,53.912279486586911,627.45941703244944,130.14293976748453,null,0.75617085438147447,724.94154543691377,734.57078939890937]
[null,27,48.981612855932887,35.916852528353616,34.550513355670184,296.5073241762268,55.882160027456955,667.22620388008374,134.59123155951977,null,0.76061474214239877,765.73297565815176,774.20511329059752]
[null,28,49.907712840104452,36.83739737946896,35.441526956278821,295.34172774633709,57.787212085030653,706.6676139921824,138.9340507848303,null,0.76468715804760035,806.26554217440173,813.72365413092712]
[null,29,50.801477287966613,37.719039815062182,36.295673110524163,294.12130853321952,59.628072245485143,745.68397480011038,143.16893614954023,null,0.76842304987681842,846.45978781146323,853.02855539116501]
[null,30,51.665171484427802,38.562939382088778,37.114060773543663,292.84874128223055,61.405985889130392,784.19226698556417,147.2952445276614,null,0.77185467684528708,886.22800929086736,892.01620361558878]
[null,31,null,null,null,null,null,null,75.221646255820772]
[null,32,null,null,null,null,null,null,38.414655432906599]
[null,33,null,null,null,null,null,null,19.617833768358267]
[null,34,null,null,null,null,null,null,10.018556653075199]
[null,35,null,null,null,null,null,null,5.1163384599969044]
[null,36,null,null,null,null,null,null,2.6128433609454582]
[null,37,null,null,null,null,null,null,1.3343430037349193]
[null,38,null,null,null,null,null,null,0.68143053587876046]
[null,39,null,null,null,null,null,null,0.34799715959710037]
[null,40,null,null,null,null,null,null,0.1777173412569174]
[null,41,null,null,null,null,null,null,9.0757790724481466E-2]

{"sheet":"C Change","index":2,"n_rows":55,"n_cols":28,"rows_kept":55,"cut":false,"hidden":true,"merged":[[1,6,1,13],[1,15,1,24],[1,26,1,27],[2,0,2,1],[2,7,2,8],[2,10,2,12],[2,15,2,19],[2,20,2,24],[3,0,3,1],[4,0,4,1],[4,7,4,8],[4,10,4,12],[4,15,4,19],[35,0,35,1],[4,26,4,27],[5,0,5,1],[25,0,25,1],[26,0,26,1],[27,0,27,1],[28,0,28,1],[4,20,4,24],[29,0,29,1],[31,0,31,1],[32,0,32,1],[33,0,33,1],[34,0,34,1],[49,0,49,1],[36,0,36,1],[37,0,37,1],[38,0,38,1],[40,0,40,1],[41,0,41,1],[42,0,42,1],[43,0,43,1],[44,0,44,1],[46,0,46,1],[47,0,47,1],[48,0,48,1],[50,0,50,1],[51,0,51,1],[52,0,52,1],[53,0,53,1],[54,0,54,1]]}
["Forest Carbon Predictor Version 3 (June 2011)"]
[null,null,null,null,null,null,"Yield Table",null,null,null,null,null,null,null,null,"Carbon Predictions",null,null,null,null,null,null,null,null,null,null,"Shrub Understorey"]
["Species",null,"PRAD",null,null,null,"Age","Stocking",null,null,"Volume",null,null,"Density",null,"Rotation 1",null,null,null,null,"Rotation 2",null,null,null,null,null,"Rotation 1","Rotation 2"]
["Initial stocking (stems/ha)",null,807.5,null,null,null,null,"b4 thin","Aft thin","Height","Net","Aft thin","Dead",null,null,"Total","AGL","BGL","DWL","FL","Total","AGL","BGL","DWL","FL"]
["1st rotation length (years)",null,30,null,null,null,"years","stems/ha",null,"m","m3/ha",null,null,"kg/m3",null,"tC/ha",null,null,null,null,"tC/ha",null,null,null,null,null,"tC/ha"]
["2nd rotation length (years)",null,30,null,null,null,0,807.5,null,0.25,5.1679999999999999E-3,null,0,305.02405166238401,null,3.3511249999999999E-3,2.9069999999999999E-3,4.4412500000000002E-4,0,0,106.48355021518167,2.9069999999999999E-3,4.4412500000000002E-4,63.887610182218616,42.592588907963048,null,0,5.5470000000000006]
[null,null,null,null,null,null,1,807.5,null,0.78196079470838642,6.164375600878394E-2,null,0,303.94954419568933,null,4.5395350589432601E-2,3.2257409787602824E-2,1.264314517682978E-2,0,4.9479562499999991E-4,90.500538586181378,3.2257409787602824E-2,1.264314517682978E-2,53.949778649116993,36.505859382099956,null,9.2100000000000001E-2,4.7253438626983257]
["Thinning",null,null,null,null,null,2,807.41103028042858,null,1.754166531879424,0.37210754219714726,null,1.2928395168222006E-5,302.91073246586012,null,0.26129293317992097,0.18879647986007708,6.7998031476901616E-2,2.5120123655648271E-6,4.4959098305767066E-3,77.271625686443272,0.18879647986007708,6.7998031476901616E-2,45.656798901301528,31.35803227380476,null,0.19060000000000002,4.06061058071601]
["Type","Age","Stocking after",null,null,null,3,807.04042860325262,null,2.96836208619077,1.1012449272719276,null,1.8299543332935938E-4,306.10417587306574,null,0.71130052434452018,0.5282054316852236,0.15609109247189706,3.7741415656776844E-5,2.6966258771742753E-2,66.415769990048645,0.5282054316852236,0.15609109247189706,38.723450413357781,27.008023052533737,null,0.29550000000000004,3.5280045559185211]
["(W or P)","(years)","(stems/ha)",null,null,null,4,806.66996937195222,null,4.340864533334714,5.0145922940046628,null,7.5966471310653255E-4,306.8449110594072,null,3.2087561791121626,2.3046125126569872,0.81329670360567374,1.7978889997661643E-4,9.0667173949525226E-2,59.384271885650172,2.3046125126569872,0.81329670360567374,32.915630509141138,23.350732160246373,null,0.40680000000000005,3.1068147638099632]
["W",9,307,null,null,null,5,806.29820100871291,null,5.8196514720007126,13.931501408050305,null,2.3627498301046698E-3,311.40105378584985,null,7.9625945423143625,5.9183113927101854,1.7041054072673116,6.1300317555879112E-4,0.33956473916130636,56.08851645974508,5.9183113927101854,1.7041054072673116,28.041086770489692,20.425012889277887,null,0.52449999999999997,2.7797419025811041]
[null,null,null,null,null,null,6,805.90977359590272,null,7.3684459171939825,29.805310668034377,null,5.7015089914431074E-3,316.53331078551145,null,15.64198945690681,10.019848041722232,3.0746647873756592,1.6373896892894636E-3,2.5458392381196289,56.952672109602815,10.019848041722232,3.0746647873756592,23.941815903747013,19.916343376757911,null,0.64860000000000007,2.5323363807524779]
[null,null,null,null,null,null,7,805.45280185214176,null,8.9604830247507596,51.263300590555886,null,1.2439780497336418E-2,325.74446493493616,null,24.616502131376709,15.997918291788531,4.391214918957786,3.8552760951621784E-3,4.2235136445352301,60.144170925401461,15.997918291788531,4.391214918957786,20.488049166261384,19.266988548393758,null,0.77910000000000013,2.3525288849942267]
[null,null,null,null,null,null,8,804.81665498121902,null,10.575378570444949,79.447247624061916,null,2.7942135013864507E-2,331.27527512010317,null,35.70327261200508,23.101533274252471,6.224177655614783,8.8602282245354574E-3,6.3687014539132907,66.313065761137338,23.101533274252471,6.224177655614783,17.573883574429765,19.413471256840324,null,0.91600000000000004,2.2302382774097298]
[null,null,null,null,null,null,9,803.84928371989827,306.99999999999972,12.197314394936845,113.94903636631385,44.220709793075073,6.2938161759970093E-2,336.46604797155152,null,46.741301866868504,12.804178422992731,3.1687111246338384,16.299578232576813,14.468834086665122,73.159955941620723,12.804178422992731,3.1687111246338384,31.393496135684639,25.793570258309515,null,1.0592999999999999,2.1570440838168108]
[null,null,null,null,null,null,10,306.83652876536689,null,13.813883732202004,58.74338510755797,null,1.4836595865419857E-2,344.20744668143146,null,47.659408845388853,16.68802370591898,3.8924535155659292,14.249228662584574,12.829702961319374,70.498780598490811,16.68802370591898,3.8924535155659292,27.246735649047409,22.671567727958493,null,1.2090000000000001,2.1259129329651407]
["Pruning",null,null,null,null,null,11,306.65960826192958,null,15.415306359582594,76.875270952884222,null,2.1161712279759281E-2,343.71594633614376,null,50.476766661405911,21.459691336766035,5.0148092333727909,12.476347707972344,11.525918383294739,70.25315444837095,21.459691336766035,5.0148092333727909,23.691394113688439,20.087259764543681,null,1.3651000000000002,2.1309700593635226]
["Lift","Age","Pr. Stocking","Pr. Height",null,null,12,306.45826849624211,null,16.99386860909004,102.77792259369944,null,3.1922357724172248E-2,336.81813608683365,null,56.287937564146702,28.245718504646298,6.6469312140061669,10.94157065335828,10.453717192135956,73.437981234615691,28.245718504646298,6.6469312140061669,20.637739760140349,17.907591755822882,null,1.5276000000000003,2.1673084463981329]
["(1 - 5)","(years)","(stems/ha)","(m)",null,null,13,306.22052730308229,null,18.54350885964466,131.96469704104055,null,4.9289225624114724E-2,339.97511028128332,null,63.008310311374224,35.736516294816326,8.0012281173344899,9.6121871199432327,9.6583787792801736,77.902099990483123,35.736516294816326,8.0012281173344899,18.011232790203096,16.153122788129213,null,1.6965000000000003,2.2308294092645453]
[1,6,450,2.4,null,null,14,305.93741371864905,null,20.059501858739296,163.91259187455964,null,7.4048252565778974E-2,343.18723118955654,null,71.025132918990224,43.775472455106254,9.6560298099941644,8.4607596106731613,9.1328710432166424,83.977037507732064,43.775472455106254,9.6560298099941644,15.749638482400936,14.795896760230706,null,1.8718000000000001,2.3181094386396568]
[2,7,350,4.5999999999999996,null,null,15,305.60124398028626,null,21.53821286393341,198.1420718608575,null,0.10770486442452347,346.35630396461704,null,79.826518427771219,52.300690410463353,11.29647375146064,7.4644102149877511,8.7649440508594783,91.10414823114354,52.300690410463353,11.29647375146064,13.801080931645513,13.70590313757404,null,2.0535000000000001,2.4262889791673925]
[3,8,320,6,null,null,16,305.20586206513212,null,22.976902711511887,234.21478449582375,null,0.15146228090101818,349.45404627351252,null,89.382963582098839,61.255297946535549,13.055950084983124,6.6040317668767763,8.4676837837033947,99.214603664465557,61.255297946535549,13.055950084983124,12.122243587133477,12.781112045813403,null,2.2416,2.5529795294409401]
[null,null,null,null,null,null,17,304.74669398322885,null,24.373571024973682,271.71953279044743,null,0.20613132961271369,352.4953374195066,null,99.462562048097524,70.531022197243914,14.84430599183198,5.8636091927937635,8.2236246662278667,108.04335006520373,70.531022197243914,14.84430599183198,10.676861510015037,11.991160366112787,null,2.4361000000000002,2.696186045385276]
[null,null,null,null,null,null,18,304.22071238728836,null,25.726828621838049,310.26489122646007,null,0.27207471686542573,355.51124185356787,null,109.95103450279393,80.019055399390481,16.683764244057659,5.2296375261741908,8.0185773331715993,117.44810594314829,80.019055399390481,16.683764244057659,9.4344585862697468,11.31082771343041,null,2.637,2.8542421261140811]
[null,null,null,null,null,null,19,303.62634743640172,null,27.035792690070863,349.47971529550631,null,0.34919007044775741,358.53325872303316,null,120.68837045780097,89.614328566608279,18.541403285287551,4.6906271690881134,7.8420114368170299,127.24515309640674,89.614328566608279,18.541403285287551,8.3692931932555794,10.72012805125533,null,2.8443000000000001,3.0257558766067429]
["Calibration measurement",null,null,null,null,null,20,302.96335762318586,null,28.300000000000399,389.01745378273199,null,0.43693307139465198,361.58733586273956,null,131.5585365271657,99.223015633518472,20.413353606564293,4.2366897281378106,7.685477558945113,137.29834256931423,99.223015633518472,20.413353606564293,7.4594835749303563,10.202489754301123,null,3.0579999999999998,3.2095646884151319]
["Age (years)",null,null,null,null,null,21,302.23267157925272,null,29.519334592337206,428.56089338049253,null,0.53437397942355802,364.69299788979077,null,142.45045319840679,108.76624766918641,22.283003302882634,3.8591983068748199,7.5420039194629371,147.47949055903339,108.76624766918641,22.283003302882634,6.6862888119085522,9.7439507750558043,null,3.2781000000000002,3.404697469334991]
["Stocking (stems/hs)",null,null,null,null,null,22,301.43655612964261,null,30.69396721729607,467.71672385378236,null,0.63992190084983558,368.01270324631469,null,153.2392382642754,118.15252985025052,24.130400348053691,3.5504438504947768,7.4058642154764067,157.64914047493656,118.15252985025052,24.130400348053691,6.0334523029456815,9.3327579736866682,null,3.5046000000000004,3.6103430949755699]
["BA (m2/ha)",null,null,null,null,null,23,300.57615592131964,null,31.824304405334878,507.4548595168979,null,0.7545869382703625,369.72896553438062,null,164.29741396776092,127.6355102765701,26.086441045090893,3.3039864277350834,7.271476218364838,168.16737035239365,127.6355102765701,26.086441045090893,5.4872946635570745,8.9581243671755857,null,3.7375000000000003,3.8258240572955264]
["MTH (m)",null,null,null,null,null,24,299.65174472606964,null,32.910945497939558,547.43233376881813,null,0.87965940008364707,371.72521690639292,null,175.39228399330236,137.12801275194747,28.004555496775158,3.1145705798291918,7.1451451647505344,178.7908372201432,137.12801275194747,28.004555496775158,5.0364153907523628,8.6218535806682119,null,3.9768000000000008,4.0505744540099364]
[null,null,null,null,null,null,25,298.66439353754294,null,33.954646303934339,587.48372552996284,null,1.0141218004367774,373.76817014896722,null,186.55721633571687,146.58699900413933,29.956004799410966,2.9774653216238596,7.0367472105427185,189.54378260371317,146.58699900413933,29.956004799410966,4.6708558886070843,8.3299229115557942,null,4.2225000000000001,4.2841216037976304]
["Site",null,null,null,null,null,26,297.61561972432952,null,34.956288304342543,627.45941703244944,null,1.15717372999035,375.85669434886154,null,197.71133057370378,155.97962169940988,31.89656595559406,2.8884225727655042,6.9467203459343336,200.3374880178844,155.97962169940988,31.89656595559406,4.3819111009853202,8.079389261895134,null,4.4746000000000006,4.526070690031549]
["Latitude (ºS)",null,40,null,null,null,27,296.5073241762268,null,35.916852528353616,667.22620388008374,null,1.3079156048567018,377.98857034808526,null,208.83626608858685,165.2839347085856,33.840699235162582,2.8435779941094737,6.8680541507291899,211.14684907925385,165.2839347085856,33.840699235162582,4.1619083839590294,7.8603067515466449,null,4.7331000000000003,4.7760919341441355]
["Altitude (m)",null,300,null,null,null,28,295.34172774633709,null,36.83739737946896,706.6676139921824,null,1.4653826714867997,380.16053630325337,null,219.89060241120049,174.47991198607255,35.774483899624386,2.8393740812828088,6.7968324442207466,221.9246329447983,174.47991198607255,35.774483899624386,4.0040290967133902,7.6662079623879658,null,4.9980000000000002,5.0339098819215522]
["Soil C (%)",null,5.3,null,null,null,29,294.12130853321952,null,37.719039815062182,745.68397480011038,null,1.6285783084309258,382.36831929126146,null,230.85266940312633,183.55102020982224,37.699158448051115,2.8725022113047429,6.729988533948231,232.64415147031775,183.55102020982224,37.699158448051115,3.9021660245250063,7.4918067879193861,null,5.2693000000000003,5.2992944546643681]
["Soil N (%)",null,0.37,null,null,null,30,292.84874128223055,null,38.562939382088778,784.19226698556417,null,1.7965054218246452,384.60665824450939,null,241.69854798841837,192.48407956914093,39.609349041732514,2.9398605984557222,6.6652587790892017,243.27714644061513,192.48407956914093,39.609349041732514,3.8508106530924402,7.3329071766492504,null,5.5470000000000006,5.5720534744886727]
["M A Temperature (ºC)",null,12]
["300 Index (m3/ha/yr)",null,26]
["Site Index (m)",null,28.3]
[]
["Wood density"]
["Core Density (kg/m3)",null,410]
["OWD Age (years)",null,15]
["Inner ring (no. from pith)"]
["Outer ring (no. from pith)"]
[]
["Other options"]
["Drift factor",null,0]
["Mortality +",null,0]
["Mortality x",null,0]
["Clearfell Removal %",null,85]
["Prod Thin Removal %",null,75]
["Density: Tree or Sheath (\"T\" or \"S\")",null,"S"]
["Height: Top or Mean (\"T\" or \"M\")",null,"T"]
["Needle Retention (years)",null,2.1]

{"sheet":"INPUT","index":3,"n_rows":103,"n_cols":10,"rows_kept":103,"cut":false,"hidden":true,"merged":[]}
[2]
["Rotation 1"]
[0,0,1,0,0,1,2,0]
[30,6,3,0,6]
[0,807.5,-1,-1,0,0]
[6,0,-1,1.3401003876415711,0,0]
[7,0,-1,2.2968447011990247,0,0]
[8,0,-1,2.8553087038856391,0,0]
[9,307,30,-1,0,0]
[30,0,-2,-1,0.85,0]
[0,0,-1,-1,0,0]
[0,0,-1,-1,0,0]
[0,0,-1,-1,0,0]
[0,0,-1,-1,0,0]
[-1.825E-3,1.7725000399999999,30,0.05,0.70000000000000007,7.2,1,200,6,0.3]
[4.3E-3,0,0,0,0,2.8999999999999998E-3,0,1.1000000000000001E-3,0,0]
[35]
[0,807.5,0.23354005737606987,5.1679999999999999E-3,5.1679999999999999E-3,5.1679999999999999E-3,0.305024051662384,0.305024051662384]
[1,807.5,0.73047667544813499,6.164375600878394E-2,6.164375600878394E-2,6.164375600878394E-2,0.30403962719756039,0.30394954419568931]
[2,807.41103028042858,1.6386752010861834,0.37210754219714726,0.37212047059231546,0.37210754219714726,0.30309774644302823,0.30291073246586014]
[3,807.04042860325262,2.772948472821906,1.1012449272719276,1.101427922705257,1.1012449272719276,0.30508831188287078,0.30610417587306576]
[4,806.66996937195222,4.0551229160264421,5.0145922940046628,5.0153519587177691,5.0145922940046628,0.30645914770737481,0.3068449110594072]
[5,806.29820100871291,5.4366033299813443,13.931501408050305,13.933864157880411,13.931501408050305,0.30962223301033059,0.31140105378584987]
[6,805.90977359590272,6.8835042498986647,29.805310668034377,29.81101217702582,29.805310668034377,0.31330295728145158,0.31653331078551145]
[6,805.90977359590272,7.3684459171939825,29.805310668034377,29.81101217702582,29.805310668034377,0.31330295728145158,0.31653331078551145]
[7,805.45280185214176,8.3708326217998117,51.263300590555886,51.275740371053224,51.263300590555886,0.31851077150281348,0.3257444649349362]
[7,805.45280185214176,8.9604830247507596,51.263300590555886,51.275740371053224,51.263300590555886,0.31851077150281348,0.3257444649349362]
[8,804.81665498121902,9.8795716483650722,79.447247624061916,79.475189759075775,79.447247624061916,0.32303898493521604,0.33127527512010319]
[8,804.81665498121902,10.575378570444949,79.447247624061916,79.475189759075775,79.447247624061916,0.32303898493521604,0.33127527512010319]
[9,803.84928371989827,11.394990573942872,113.94903636631385,114.01197452807382,113.94903636631385,0.32710446637394719,0.33646604797155155]
[9,306.99999999999972,11.71732486941028,44.220709793075073,44.283647954835047,44.220709793075073,0.32710446637394719,0.33646604797155155]
[10,306.83652876536689,13.270555094126497,58.74338510755797,58.758221703423388,58.74338510755797,0.33133270465917386,0.34420744668143149]
[11,306.65960826192958,14.809324297083203,76.875270952884222,76.896432665163985,76.875270952884222,0.33425342964262811,0.34371594633614377]
[12,306.45826849624211,16.326251753371384,102.77792259369944,102.80984495142361,102.77792259369944,0.33489980092459909,0.33681813608683364]
[13,306.22052730308229,17.815553750338644,131.96469704104055,132.01398626666466,131.96469704104055,0.33602231257177057,0.33997511028128335]
[14,305.93741371864905,19.272731047897015,163.91259187455964,163.98664012712541,163.91259187455964,0.33741881337670521,0.34318723118955657]
[15,305.60124398028626,20.694334033322395,198.1420718608575,198.24977672528203,198.1420718608575,0.33896278459055967,0.34635630396461703]
[16,305.20586206513212,22.077773252469232,234.21478449582375,234.36624677672478,234.21478449582375,0.34057860175036048,0.34945404627351251]
[17,304.74669398322885,23.421166964567856,271.71953279044743,271.92566412006016,271.71953279044743,0.3422234381269546,0.35249533741950662]
[18,304.22071238728836,24.723217086779297,310.26489122646007,310.53696594332547,310.26489122646007,0.34387423127807476,0.35551124185356786]
[19,303.62634743640172,25.983107349494105,349.47971529550631,349.82890536595409,349.47971529550631,0.34551910838286265,0.35853325872303315]
[20,302.96335762318586,27.200419124273434,389.01745378273199,389.45438685412665,389.01745378273199,0.34715220059987006,0.36158733586273956]
[21,302.23267157925272,28.375061496670359,428.56089338049253,429.09526735991608,428.56089338049253,0.34877069512152192,0.36469299788979076]
[22,301.43655612964261,29.507211616380392,467.71672385378236,468.35664575463221,467.71672385378236,0.35038157788383167,0.36801270324631469]
[23,300.57615592131964,30.597274710675755,507.4548595168979,508.20944645516823,507.4548595168979,0.35189664686142769,0.36972896553438062]
[24,299.65174472606964,31.645842816619641,547.43233376881813,548.31199316890172,547.43233376881813,0.35334467267124353,0.37172521690639293]
[25,298.66439353754294,32.653653513466345,587.48372552996284,588.49784733039962,587.48372552996284,0.3547370337921838,0.37376817014896724]
[26,297.61561972432952,33.621561447232665,627.45941703244944,628.61659076243984,627.45941703244944,0.35608257584977843,0.37585669434886154]
[27,296.5073241762268,34.550513355670184,667.22620388008374,668.53411948494045,667.22620388008374,0.35738817657234268,0.37798857034808525]
[28,295.34172774633709,35.441526956278821,706.6676139921824,708.13299666366925,706.6676139921824,0.35865917578269707,0.38016053630325336]
[29,294.12130853321952,36.295673110524163,745.68397480011038,747.31255310854135,745.68397480011038,0.3598997073333785,0.38236831929126147]
[30,292.84874128223055,37.114060773543663,784.19226698556417,785.98877240738886,784.19226698556417,0.36111295888500977,0.3846066582445094]
["Rotation 2"]
[0,0,1,0,0,1,2,0]
[30,6,3,0,6]
[0,807.5,-1,-1,0,0]
[6,0,-1,1.3401003876415711,0,0]
[7,0,-1,2.2968447011990247,0,0]
[8,0,-1,2.8553087038856391,0,0]
[9,307,30,-1,0,0]
[30,0,-2,-1,0.85,0]
[0,0,-1,-1,0,0]
[0,0,-1,-1,0,0]
[0,0,-1,-1,0,0]
[0,0,-1,-1,0,0]
[-1.825E-3,1.7725000399999999,30,0.05,0.70000000000000007,7.2,2,200,6,0.3]
[4.3E-3,0,0,0,0,2.8999999999999998E-3,0,1.1000000000000001E-3,0,0]
[35]
[0,807.5,0.23354005737606987,5.1679999999999999E-3,5.1679999999999999E-3,5.1679999999999999E-3,0.305024051662384,0.305024051662384]
[1,807.5,0.73047667544813499,6.164375600878394E-2,6.164375600878394E-2,6.164375600878394E-2,0.30403962719756039,0.30394954419568931]
[2,807.41103028042858,1.6386752010861834,0.37210754219714726,0.37212047059231546,0.37210754219714726,0.30309774644302823,0.30291073246586014]
[3,807.04042860325262,2.772948472821906,1.1012449272719276,1.101427922705257,1.1012449272719276,0.30508831188287078,0.30610417587306576]
[4,806.66996937195222,4.0551229160264421,5.0145922940046628,5.0153519587177691,5.0145922940046628,0.30645914770737481,0.3068449110594072]
[5,806.29820100871291,5.4366033299813443,13.931501408050305,13.933864157880411,13.931501408050305,0.30962223301033059,0.31140105378584987]
[6,805.90977359590272,6.8835042498986647,29.805310668034377,29.81101217702582,29.805310668034377,0.31330295728145158,0.31653331078551145]
[6,805.90977359590272,7.3684459171939825,29.805310668034377,29.81101217702582,29.805310668034377,0.31330295728145158,0.31653331078551145]
[7,805.45280185214176,8.3708326217998117,51.263300590555886,51.275740371053224,51.263300590555886,0.31851077150281348,0.3257444649349362]
[7,805.45280185214176,8.9604830247507596,51.263300590555886,51.275740371053224,51.263300590555886,0.31851077150281348,0.3257444649349362]
[8,804.81665498121902,9.8795716483650722,79.447247624061916,79.475189759075775,79.447247624061916,0.32303898493521604,0.33127527512010319]
[8,804.81665498121902,10.575378570444949,79.447247624061916,79.475189759075775,79.447247624061916,0.32303898493521604,0.33127527512010319]
[9,803.84928371989827,11.394990573942872,113.94903636631385,114.01197452807382,113.94903636631385,0.32710446637394719,0.33646604797155155]
[9,306.99999999999972,11.71732486941028,44.220709793075073,44.283647954835047,44.220709793075073,0.32710446637394719,0.33646604797155155]
[10,306.83652876536689,13.270555094126497,58.74338510755797,58.758221703423388,58.74338510755797,0.33133270465917386,0.34420744668143149]
[11,306.65960826192958,14.809324297083203,76.875270952884222,76.896432665163985,76.875270952884222,0.33425342964262811,0.34371594633614377]
[12,306.45826849624211,16.326251753371384,102.77792259369944,102.80984495142361,102.77792259369944,0.33489980092459909,0.33681813608683364]
[13,306.22052730308229,17.815553750338644,131.96469704104055,132.01398626666466,131.96469704104055,0.33602231257177057,0.33997511028128335]
[14,305.93741371864905,19.272731047897015,163.91259187455964,163.98664012712541,163.91259187455964,0.33741881337670521,0.34318723118955657]
[15,305.60124398028626,20.694334033322395,198.1420718608575,198.24977672528203,198.1420718608575,0.33896278459055967,0.34635630396461703]
[16,305.20586206513212,22.077773252469232,234.21478449582375,234.36624677672478,234.21478449582375,0.34057860175036048,0.34945404627351251]
[17,304.74669398322885,23.421166964567856,271.71953279044743,271.92566412006016,271.71953279044743,0.3422234381269546,0.35249533741950662]
[18,304.22071238728836,24.723217086779297,310.26489122646007,310.53696594332547,310.26489122646007,0.34387423127807476,0.35551124185356786]
[19,303.62634743640172,25.983107349494105,349.47971529550631,349.82890536595409,349.47971529550631,0.34551910838286265,0.35853325872303315]
[20,302.96335762318586,27.200419124273434,389.01745378273199,389.45438685412665,389.01745378273199,0.34715220059987006,0.36158733586273956]
[21,302.23267157925272,28.375061496670359,428.56089338049253,429.09526735991608,428.56089338049253,0.34877069512152192,0.36469299788979076]
[22,301.43655612964261,29.507211616380392,467.71672385378236,468.35664575463221,467.71672385378236,0.35038157788383167,0.36801270324631469]
[23,300.57615592131964,30.597274710675755,507.4548595168979,508.20944645516823,507.4548595168979,0.35189664686142769,0.36972896553438062]
[24,299.65174472606964,31.645842816619641,547.43233376881813,548.31199316890172,547.43233376881813,0.35334467267124353,0.37172521690639293]
[25,298.66439353754294,32.653653513466345,587.48372552996284,588.49784733039962,587.48372552996284,0.3547370337921838,0.37376817014896724]
[26,297.61561972432952,33.621561447232665,627.45941703244944,628.61659076243984,627.45941703244944,0.35608257584977843,0.37585669434886154]
[27,296.5073241762268,34.550513355670184,667.22620388008374,668.53411948494045,667.22620388008374,0.35738817657234268,0.37798857034808525]
[28,295.34172774633709,35.441526956278821,706.6676139921824,708.13299666366925,706.6676139921824,0.35865917578269707,0.38016053630325336]
[29,294.12130853321952,36.295673110524163,745.68397480011038,747.31255310854135,745.68397480011038,0.3598997073333785,0.38236831929126147]
[30,292.84874128223055,37.114060773543663,784.19226698556417,785.98877240738886,784.19226698556417,0.36111295888500977,0.3846066582445094]

{"sheet":"LP1OUT","index":4,"n_rows":74,"n_cols":27,"rows_kept":74,"cut":false,"hidden":true,"merged":[]}
[]
["AGE","X1","X2","X3","X4","X5","X6","X7","X8","X9","X10","X11","X12","X13","X14","X15","X16","SPH","BA","HT","GCL","VOL","DENS","LAI","PRNHT","EXT","CSHRUB"]
[0,0,0,3.4722500000000001E-3,0,0,0,0,1.7563124999999998E-3,0,0,0,0,0,8.8825000000000004E-4,0,5.8543749999999991E-4,807.5,0,0.2,0,0,0,5.9441293752242105E-3,-1,0,0]
[1,8.5768051178865434E-2,8.6468802936913391E-2,2.3572393789099533E-2,2.3090462500000002E-3,0,1.59295187310814E-2,0,1.892209279697684E-2,6.6190598056116504E-3,9.8959124999999982E-4,0,0,0,1.8667230548047909E-2,1.332375E-3,3.7817680080478684E-3,807.5,6.164375600878394E-2,0.73047667544813499,0.53047667544813493,6.164375600878394E-2,0.30695879067266008,4.426512333447858E-2,0,0,9.2100000000000001E-2]
[2,0.46237003426319867,0.4420938613721157,0.126011049263486,1.5675641869751192E-2,8.0816618750000025E-4,0.1012255293972347,1.5747521595539506E-14,0.11296490325762759,4.248721588771967E-2,8.9918196611534131E-3,0,4.6321679870690462E-6,3.9185674406060834E-7,9.3508847066083547E-2,2.8640385822071866E-2,2.0907669744538983E-2,807.41103028042858,0.37210754219714726,1.6386752010861834,1.4386752010861832,0.37210754219714726,0.30358133186609093,0.24258463634755939,0,0,0.19060000000000002]
[3,1.0548499185529991,0.89979075234632666,0.27811142508444014,8.3797347760218188E-2,5.4864746544129178E-3,0.29348392865493339,5.7885495639947561E-11,0.33615708751265649,0.12558291557862308,5.3932517543485506E-2,0,6.9581839970505365E-5,5.9009913430483168E-6,0.18659926936517102,0.15401065579371984,5.9374599645900444E-2,807.04042860325262,1.1012449272719276,2.772948472821906,2.5071428881399833,1.1012449272719276,0.30525188283537047,0.62186411857726887,0,0,0.29550000000000004]
[4,5.3144446897845414,5.0703204328247349,1.3613201209340959,0.18494409768115269,2.932907171607637E-2,1.2481928427748576,2.0348063421406546E-8,1.5369481052531342,0.55670618662971283,0.18133434789905045,0,3.3150818190555952E-4,2.8069618047673368E-5,1.0698872205816348,0.35382401882874204,0.248490766606594,806.66996937195222,5.0145922940046628,4.0551229160264421,3.514853180613069,5.0145922940046628,0.30649512764789988,2.5564345443133329,0,0,0.40680000000000005]
[5,11.288404647278572,9.4680334216249253,2.6659867413831506,0.90527788042117385,6.4730434188403463E-2,3.2476755961697328,1.3917753367451729E-5,4.3136872027880813,1.5120264926085256,0.67912947832261272,0,1.1300702341815838E-3,9.5936116935998371E-5,1.8961843219260979,1.7746663599102483,0.63925101271646023,806.29820100871291,13.931501408050305,5.4366033299813443,4.5613490531315817,13.931501408050305,0.30963548554037551,5.7192697084239157,0,0,0.52449999999999997]
[6,18.61857957689546,14.856641702295745,3.9891905881010006,1.7728811830197952,0.31684725814741088,6.4991558350564755,1.0484447457214806E-3,9.3382950205180979,3.1676298608652962,1.943323892358487,0,3.0182916720569923E-3,2.5648770652193472E-4,2.9816997138860222,3.6961163356460656,1.2706323377367328,805.90977359590272,29.805310668034377,6.8835042498986647,5.626017539726818,29.805310668034377,0.31330976967581953,9.3924592216220795,0,0,0.64860000000000007]
[6,0,0,3.6958130739969519,1.3650225688062188,0.15499867173842266,4.2149344106480395,0,9.3382950205180979,3.1676298608652962,2.8064086070851002,2.2852698691541575,3.0182916720569923E-3,2.5648770652193472E-4,2.9816997138860222,3.6961163356460656,1.2706323377367328,805.90977359590272,29.805310668034377,6.8835042498986647,5.5434038622570938,29.805310668034377,0.31330976967581953,8.0769555733747822,1.3401003876415711,0,0.64860000000000007]
[7,23.686820181338806,17.725441550671242,4.5313273700732219,2.4577156942079732,0.4777578990821767,8.2824755109935797,3.6756406903617816E-3,16.328206451967603,5.380251715770731,4.2871953990275866,2.0047648162260625,7.1061770769406708E-3,6.0437511338368567E-4,3.4021781221448419,6.2466854119391444,2.0697450903789587,805.45280185214176,51.263300590555886,8.3708326217998117,6.6948122038391764,51.263300590555886,0.31851648769911062,11.472490187928864,0,0,0.77910000000000013]
[7,0,0,4.4006586829089969,2.0884736705016018,0.29115750471984131,6.817595183100063,0,16.328206451967603,5.380251715770731,4.9737065042605186,3.4733207848099412,7.1061770769406708E-3,6.0437511338368567E-4,3.4021781221448419,6.2466854119391444,2.0697450903789587,805.45280185214176,51.263300590555886,8.3708326217998117,6.0739879206007874,51.263300590555886,0.31851648769911062,10.428060586502324,2.2968447011990247,0,0.77910000000000013]
[8,29.233650988081454,21.96668014974604,4.9786114325525466,2.9264380241344834,0.73096578467556084,11.706732390766401,3.0380669153084724E-2,25.665081398995088,8.2324329204332933,6.7869992578801419,3.0469886287132195,1.6327330968257774E-2,1.3931254808131404E-3,4.2159223907962735,8.1016761809480506,3.0682718694609949,804.81665498121902,79.447247624061916,9.8795716483650722,7.5827269471660479,79.447247624061916,0.32304557006732593,13.246081179383189,0,0,0.91600000000000004]
[8,0,0,4.8317080343411698,2.542717113098679,0.49783668223045779,9.59745145037855,0,25.665081398995088,8.2324329204332933,7.5507526695724261,5.1866502382541553,1.6327330968257774E-2,1.3931254808131404E-3,4.2159223907962735,8.1016761809480506,3.0682718694609949,804.81665498121902,79.447247624061916,9.8795716483650722,7.0242629444794336,79.447247624061916,0.32304557006732593,12.086509409855463,2.8553087038856391,0,0.91600000000000004]
[9,34.026719789133764,24.970688679235181,5.1760195000864684,3.213085842836878,0.88995098958453789,15.038732189752213,0.13511879393206122,37.274351105786884,11.671625503834504,9.4242936966368909,4.5500157561570838,3.7259336592045077E-2,3.1893378088598094E-3,4.6588034225590764,10.212688153049475,4.2609990976165246,803.84928371989827,113.94903636631385,11.394990573942872,8.5396818700572332,113.94903636631385,0.32711422838154081,14.22216312871593,0,0,1.0592999999999999]
[9,0,0,2.0086809287339089,1.246916526257974,0.34536724219382625,5.8361477466202283,5.2436151849954253E-2,14.465223362445796,4.5294596661556259,15.102385331959066,13.835282841371177,25.453801289665886,7.1453551754877376,1.8079625831120509,13.063528992496501,1.6535848878837733,307,44.220709793075073,11.394990573942872,8.5396818700572332,44.220709793075073,0.32711422838154081,5.519258156101813,-1,0,1.0592999999999999]
[10,13.866400804919543,9.8169153200184525,1.8939572274116823,1.3357728176080497,0.43642078419029096,8.0330952961718225,5.5554687993168969E-2,19.464227368771667,5.9706000587495032,13.522332469172554,12.137073453466192,22.699094055262901,5.7993632699062472,1.8143069723823553,8.9824377910663955,2.1570192296912798,306.83652876536689,58.74338510755797,13.270555094126497,10.415246390240858,58.74338510755797,0.33134330500588371,5.8784119060182611,0,0,1.2090000000000001]
[11,16.556264105593065,12.502357214766654,2.0831661001841155,1.2594815562287689,0.46752048616281749,10.571588599570505,6.0658815513583882E-2,25.69664591401262,7.7273950281532278,12.404526284844792,10.647310481744686,20.245467180509138,4.7072282354355517,2.3022234385923546,7.0330305982854018,2.7803212018596586,306.65960826192958,76.875270952884222,14.809324297083203,11.954015593197564,76.875270952884222,0.33426413455845555,6.091975126887017,0,0,1.3651000000000002]
[12,22.395493994266573,17.783028155175046,2.6261846714396406,1.385305456622437,0.4408185446800692,13.871389911872836,9.3226991979061605E-2,34.42118999715985,10.140812516607783,11.567026177193409,9.3404082070785037,18.061882487722066,3.8212588189944956,3.1530499114045507,6.8291898450655246,3.6533214355386976,306.45826849624211,102.77792259369944,16.326251753371384,13.408144341960657,102.77792259369944,0.33490840375547692,7.0335323760477833,0,0,1.5276000000000003]
[13,24.799416339071271,18.710543601663574,2.7064366500995134,1.7464128065073612,0.48485690981785312,17.335863928486376,0.20474505867215259,44.344161688987739,12.843745683454459,11.122836133573063,8.1939214249872858,16.121544029367442,3.1028302105190226,3.1587105512145199,8.007585992738278,4.6505555470616571,306.22052730308229,131.96469704104055,17.815553750338644,14.491080238447909,131.96469704104055,0.33603048908752364,7.7667208943883139,0,0,1.6965000000000003]
[14,26.83389246497488,20.347810336633835,2.7791364882119716,1.7997803723161765,0.61124448227757666,20.799713155446028,0.49332033135278497,55.308698400497406,15.792896016660301,11.077582122719466,7.1881599637138187,14.400893349849738,2.5206258714965846,3.5191636033280296,8.5817071033361536,5.7590516801105558,305.93741371864905,163.91259187455964,19.272731047897015,15.541387566788227,163.91259187455964,0.33742800213191976,8.1569664629681924,0,0,1.8718000000000001]
[15,28.544280273336412,21.069025642865348,2.831818966376793,1.8481257646609612,0.62992313031066183,24.052708593427923,1.1083330504048057,67.165090893184171,18.949280654062946,11.224037583507718,6.3058505182112388,12.879535005342793,2.0492854246327088,3.6436668488583339,9.3979648145933972,6.9653804225613944,305.60124398028626,198.1420718608575,20.694334033322395,16.558111265926932,198.1420718608575,0.33897440489241437,8.3353105432427448,0,0,2.0535000000000001]
[16,29.965371405057297,21.760291942170028,2.8704976696601405,1.8831596126405674,0.64684401763133659,26.862852790477131,2.2190163046423024,79.772190578606271,22.277669345415323,11.40352757514809,5.5318399922586998,11.539790633277828,1.6682729004757242,3.8342308245509238,9.9765233842923315,8.2560349194133593,305.20586206513212,234.21478449582375,22.077773252469232,17.540748087263701,234.21478449582375,0.34059417192781305,8.4705762110734302,0,0,2.2416]
[17,31.117041159188915,21.928896424913638,2.8968657651589065,1.9088809503239936,0.65910586442419872,29.047534619166754,3.937698318516837,92.994556843812134,25.745196645354575,11.594414078658232,4.8528352537974992,10.366263512698985,1.3609548728885406,3.9434153383093844,10.540077461286705,9.6174020330850123,304.74669398322885,271.71953279044743,23.421166964567856,18.48914940694053,271.71953279044743,0.34224465164059581,8.5666053046804862,0,0,2.4361000000000002]
[18,32.011318201088883,21.936792076299561,2.911249447379809,1.9264157338306729,0.66810833261339786,30.556943828143726,6.2385284397597864,106.70103122544737,29.320583922062113,11.779979832389955,4.2571748339532434,9.3454249978948187,1.113850054453563,4.046944566053206,10.974360188881695,11.035833791606203,304.22071238728836,310.26489122646007,24.723217086779297,19.403444409702104,310.26489122646007,0.34390301398158218,8.6278706361732453,0,0,2.637]
[19,32.659200385731069,21.825556934497392,2.9136434150166939,1.9359808825075731,0.67424550684073559,31.490023783800744,8.9514891605702562,120.76539430124706,32.974047908640522,11.949394224812204,3.7346286488218565,8.4652349930860904,0.9160193450901355,4.1087586619345835,11.338109739743022,12.497880083233484,303.62634743640172,349.47971529550631,25.983107349494105,20.283978888697742,349.47971529550631,0.34555766476784666,8.6553638958590842,0,0,2.8443000000000001]
[20,33.074022877267694,21.735560882237742,2.9042024925390493,1.9375728709861015,0.67759330887765068,32.020782251959126,11.847249632887687,135.06804701486709,36.677559149163351,12.094732813520062,3.2762223043701639,7.7148082048152355,0.75857125146038507,4.1491480639652378,11.605430667978524,13.990583694920259,302.96335762318586,389.01745378273199,27.200419124273434,21.131266288496199,389.01745378273199,0.34720305143507318,8.649448358356306,0,0,3.0579999999999998]
[21,33.272196290034628,21.638752567663722,2.8833794440457474,1.931294657538468,0.67815050484513573,32.310475808274248,14.729673627812787,149.49777101294012,40.405174361409273,12.209924871924958,2.8740829670009171,7.0841344852599031,0.63426212848973718,4.1608322443559977,11.794328816577547,15.501750282916296,302.23267157925272,428.56089338049253,28.375061496670359,21.945948478384409,428.56089338049253,0.34883670750660478,8.6109329007119495,0,0,3.2781000000000002]
[22,33.194880471367739,21.44111876080553,2.8449033178745062,1.917447330290422,0.67595313013846403,32.469303449150893,17.461995918105654,163.91889657652601,44.124549152658723,12.290424278244286,2.5213041527085274,6.5637253762194598,0.53716232477009362,4.1362515434486546,11.90252619849122,17.016559978415074,301.43655612964261,467.71672385378236,29.507211616380392,22.728760708657525,467.71672385378236,0.35046618651115485,8.53123432364767,0,0,3.5046000000000004]
[23,33.810041235272237,22.007990963325263,2.8748022234627006,1.8918607063865467,0.67110656560164794,32.564254233163908,20.078983751658338,178.62469240226429,47.912646578745438,12.331125324063295,2.2118271126663811,6.1454806971912124,0.46249215827895473,4.2602355114363473,11.917589890448767,18.56532067060277,300.57615592131964,507.4548595168979,30.597274710675755,23.480530546570311,507.4548595168979,0.35200114660901421,8.5287551892604725,0,0,3.7375000000000003]
[24,34.192214889338416,22.145457918577101,2.8842698350695097,1.9117434786026959,0.66215124723529151,32.626218408283322,22.534472268671497,193.50149630844416,51.742239801997862,12.349953551381441,1.940336778119627,5.822719553395503,0.40642160626288099,4.266871191552454,12.110796414569929,20.135673957588459,299.65174472606964,547.43233376881813,31.645842816619641,24.20215650016095,547.43233376881813,0.35347107646396397,8.5575321742188244,0,0,3.9768000000000008]
[25,34.4639334951313,22.346602111146062,2.8882650547182349,1.9180394403212242,0.66911021751094379,32.672356071602103,24.814437936979637,208.49073160919315,55.60003343624178,12.371323943581425,1.7021704775040123,5.5891211943791079,0.36580944886861128,4.3119761625801516,12.213489066322246,21.721057677953389,298.66439353754294,587.48372552996284,32.653653513466345,24.894573174850283,587.48372552996284,0.35488767186038367,8.5838328686607763,0,0,4.2225000000000001]
[26,34.634304988281613,22.391841552633714,2.8864115372255683,1.9206962613876264,0.67131380411242869,32.711549660564685,26.915081449290501,223.53874496208849,59.473857020810996,12.400202833802563,1.4932378580661041,5.4387645422769815,0.33808060325402656,4.3192748903771241,12.330438995704906,23.315445724150472,297.61561972432952,627.45941703244944,33.621561447232665,25.558739936567765,627.45941703244944,0.35626008454747288,8.5886315823148642,0,0,4.4746000000000006]
[27,34.713074173385863,22.41523667651952,2.8792132410236166,1.9194636722550029,0.67224369148566931,32.748287721921528,28.838199303050942,238.5970794464483,63.352729484918427,12.426157664768059,1.3099506366903197,5.366040540324569,0.32111544789437846,4.3286689854067424,12.397523053504042,24.913382340986125,296.5073241762268,667.22620388008374,34.550513355670184,26.195629338910223,667.22620388008374,0.35759548719601819,8.5778892243769622,0,0,4.7331000000000003]
[28,34.71043367049964,22.361339887974019,2.8672180377610732,1.9146768052807053,0.67181228528925119,32.784796622104629,30.588661061176012,253.6226547883405,67.226903251574029,12.444503914993009,1.1491609734484844,5.3655869890528276,0.31316117351279033,4.3220645476747395,12.443814543792053,26.51000437219292,295.34172774633709,706.6676139921824,35.441526956278821,26.806217786923629,706.6676139921824,0.35889950206653481,8.5527526191501888,0,0,4.9980000000000002]
[29,34.636861346743174,22.26626277346886,2.8510377408284016,1.9066999951111137,0.67013688184824693,32.822158749094179,32.173086626652534,268.57786698938452,71.087890530193704,12.451869658419124,1.0081074094773383,5.4322434142666634,0.31276100834282272,4.3104263659085298,12.456127802532295,28.101053436725522,294.12130853321952,745.68397480011038,36.295673110524163,27.391478056191914,745.68397480011038,0.36017653062931931,8.514830201250863,0,0,5.2693000000000003]
[30,34.502982916927976,22.122984899427742,2.831328793283844,1.8959400976508869,0.66734499828888993,32.86088389025236,33.599162478271701,283.43061911981312,74.928474335445671,12.446150117476529,0.88436744070187367,5.5610232927038572,0.31869790420758737,4.2902237480193524,12.444580894078296,29.682879760721029,292.84874128223055,784.19226698556417,37.114060773543663,27.952373350959867,784.19226698556417,0.36143001028219862,8.4658720151446083,0,0,5.5470000000000006]
[30,0,0,0,0,0,0,0,0,0,17.840764006700152,67.344413809225941,52.528048124783979,75.247172239653253,0,16.73480464209765,0,0,0,0,0,0,0.36143001028219862,0,-1,266.14647404845402,5.5470000000000006]
[0,0,0,3.4722500000000001E-3,0,0,0,0,1.7563124999999998E-3,0,17.840764006700152,67.344413809225941,52.528048124783979,75.247172239653253,8.8825000000000004E-4,16.73480464209765,5.8543749999999991E-4,807.5,0,0.2,0,0,0,5.9441293752242105E-3,-1,0,5.5470000000000006]
[1,8.5768051178865434E-2,8.6468802936913391E-2,2.3572393789099533E-2,2.3090462500000002E-3,0,1.59295187310814E-2,0,1.892209279697684E-2,6.6190598056116504E-3,13.933483324078512,59.078235440121404,46.832096583204169,61.067460715029817,1.8667230548047909E-2,8.0340386032068718,3.7817680080478684E-3,807.5,6.164375600878394E-2,0.73047667544813499,0.53047667544813493,6.164375600878394E-2,0.30695879067266008,4.426512333447858E-2,0,0,4.7253438626983257]
[2,0.46237003426319867,0.4420938613721157,0.126011049263486,1.5675641869751192E-2,8.0816618750000025E-4,0.1012255293972347,1.5747521595539506E-14,0.11296490325762759,4.248721588771967E-2,10.889376849271184,51.826687698338333,41.75379805636603,49.559799746237033,9.3508847066083547E-2,3.8843393753613702,2.0907669744538983E-2,807.41103028042858,0.37210754219714726,1.6386752010861834,1.4386752010861832,0.37210754219714726,0.30358133186609093,0.24258463634755939,0,0,4.06061058071601]
[3,1.0548499185529991,0.89979075234632666,0.27811142508444014,8.3797347760218188E-2,5.4864746544129178E-3,0.29348392865493339,5.7885495639947561E-11,0.33615708751265649,0.12558291557862308,8.5508161812067964,45.465229923860676,37.226232673070186,40.220668153645377,0.18659926936517102,2.0047461707725831,5.9374599645900444E-2,807.04042860325262,1.1012449272719276,2.772948472821906,2.5071428881399833,1.1012449272719276,0.30525188283537047,0.62186411857726887,0,0,3.5280045559185211]
[4,5.3144446897845414,5.0703204328247349,1.3613201209340959,0.18494409768115269,2.932907171607637E-2,1.2481928427748576,2.0348063421406546E-8,1.5369481052531342,0.55670618662971283,6.8168561421508578,39.884608178341892,33.189824123043337,32.64143689523894,1.0698872205816348,1.2421770660185962,0.248490766606594,806.66996937195222,5.0145922940046628,4.0551229160264421,3.514853180613069,5.0145922940046628,0.30649512764789988,2.5564345443133329,0,0,3.1068147638099632]
[5,11.288404647278572,9.4680334216249253,2.6659867413831506,0.90527788042117385,6.4730434188403463E-2,3.2476755961697328,1.3917753367451729E-5,4.3136872027880813,1.5120264926085256,5.861046899445423,34.988978879110348,29.591674154307253,26.490499386672127,1.8961843219260979,2.2010758225613785,0.63925101271646023,806.29820100871291,13.931501408050305,5.4366033299813443,4.5613490531315817,13.931501408050305,0.30963548554037551,5.7192697084239157,0,0,2.7797419025811041]
[6,18.61857957689546,14.856641702295745,3.9891905881010006,1.7728811830197952,0.31684725814741088,6.4991558350564755,1.0484447457214806E-3,9.3382950205180979,3.1676298608652962,5.9900694222424447,30.694262747392607,26.38487080602474,21.498761001469283,2.9816997138860222,3.9007928777186081,1.2706323377367328,805.90977359590272,29.805310668034377,6.8835042498986647,5.626017539726818,29.805310668034377,0.31330976967581953,9.3924592216220795,0,0,2.5323363807524779]
[6,0,0,3.6958130739969519,1.3650225688062188,0.15499867173842266,4.2149344106480395,0,9.3382950205180979,3.1676298608652962,6.8531541369690583,32.979532616546763,26.38487080602474,21.498761001469283,2.9816997138860222,3.9007928777186081,1.2706323377367328,805.90977359590272,29.805310668034377,6.8835042498986647,5.5434038622570938,29.805310668034377,0.31330976967581953,8.0769555733747822,1.3401003876415711,0,2.5323363807524779]
[7,23.686820181338806,17.725441550671242,4.5313273700732219,2.4577156942079732,0.4777578990821767,8.2824755109935797,3.6756406903617816E-3,16.328206451967603,5.380251715770731,7.447444405868656,28.931465617102049,23.528206029501614,17.447892303021149,3.4021781221448419,6.3449301521339647,2.0697450903789587,805.45280185214176,51.263300590555886,8.3708326217998117,6.6948122038391764,51.263300590555886,0.31851648769911062,11.472490187928864,0,0,2.3525288849942267]
[7,0,0,4.4006586829089969,2.0884736705016018,0.29115750471984131,6.817595183100063,0,16.328206451967603,5.380251715770731,8.133955511101588,30.400021585685927,23.528206029501614,17.447892303021149,3.4021781221448419,6.3449301521339647,2.0697450903789587,805.45280185214176,51.263300590555886,8.3708326217998117,6.0739879206007874,51.263300590555886,0.31851648769911062,10.428060586502324,2.2968447011990247,0,2.3525288849942267]
[8,29.233650988081454,21.96668014974604,4.9786114325525466,2.9264380241344834,0.73096578467556084,11.706732390766401,3.0380669153084724E-2,25.665081398995088,8.2324329204332933,9.2549512730211454,26.668576219426281,20.986884192612006,14.160882956247525,4.2159223907962735,8.1488336562415657,3.0682718694609949,804.81665498121902,79.447247624061916,9.8795716483650722,7.5827269471660479,79.447247624061916,0.32304557006732593,13.246081179383189,0,0,2.2302382774097298]
[8,0,0,4.8317080343411698,2.542717113098679,0.49783668223045779,9.59745145037855,0,25.665081398995088,8.2324329204332933,10.01870468471343,28.808237828967219,20.986884192612006,14.160882956247525,4.2159223907962735,8.1488336562415657,3.0682718694609949,804.81665498121902,79.447247624061916,9.8795716483650722,7.0242629444794336,79.447247624061916,0.32304557006732593,12.086509409855463,2.8553087038856391,0,2.2302382774097298]
[9,34.026719789133764,24.970688679235181,5.1760195000864684,3.213085842836878,0.88995098958453789,15.038732189752213,0.13511879393206122,37.274351105786884,11.671625503834504,11.351606112795766,25.272175683286999,18.733844863909578,11.49443961670698,4.6588034225590764,10.235323741190362,4.2609990976165246,803.84928371989827,113.94903636631385,11.394990573942872,8.5396818700572332,113.94903636631385,0.32711422838154081,14.22216312871593,0,0,2.1570440838168108]
[9,0,0,2.0086809287339089,1.246916526257974,0.34536724219382625,5.8361477466202283,5.2436151849954253E-2,14.465223362445796,4.5294596661556259,17.02969774811794,34.55744276850109,44.150386816983421,18.636605454385858,1.8079625831120509,13.086164580637387,1.6535848878837733,307,44.220709793075073,11.394990573942872,8.5396818700572332,44.220709793075073,0.32711422838154081,5.519258156101813,-1,0,2.1570440838168108]
[10,13.866400804919543,9.8169153200184525,1.8939572274116823,1.3357728176080497,0.43642078419029096,8.0330952961718225,5.5554687993168969E-2,19.464227368771667,5.9706000587495032,15.027439994234351,30.315695461682633,39.3682894746591,15.125181823435721,1.8143069723823553,8.9933028733740219,2.1570192296912798,306.83652876536689,58.74338510755797,13.270555094126497,10.415246390240858,58.74338510755797,0.33134330500588371,5.8784119060182611,0,0,2.1259129329651407]
[11,16.556264105593065,12.502357214766654,2.0831661001841155,1.2594815562287689,0.46752048616281749,10.571588599570505,6.0658815513583882E-2,25.69664591401262,7.7273950281532278,13.579918838228785,26.594600690858581,35.107115342096478,12.275672885280398,2.3022234385923546,7.0382458377930632,2.7803212018596586,306.65960826192958,76.875270952884222,14.809324297083203,11.954015593197564,76.875270952884222,0.33426413455845555,6.091975126887017,0,0,2.1309700593635226]
[12,22.395493994266573,17.783028155175046,2.6261846714396406,1.385305456622437,0.4408185446800692,13.871389911872836,9.3226991979061605E-2,34.42118999715985,10.140812516607783,12.484932460662305,23.33025105098346,31.31198727813149,9.9634922421492096,3.1530499114045507,6.8316931600292019,3.6533214355386976,306.45826849624211,102.77792259369944,16.326251753371384,13.408144341960657,102.77792259369944,0.33490840375547692,7.0335323760477833,0,0,2.1673084463981329]
[13,24.799416339071271,18.710543601663574,2.7064366500995134,1.7464128065073612,0.48485690981785312,17.335863928486376,0.20474505867215259,44.344161688987739,12.843745683454459,11.839662135920914,20.466583440337512,27.934855382721338,8.0876101976848513,3.1587105512145199,8.0087875839208422,4.6505555470616571,306.22052730308229,131.96469704104055,17.815553750338644,14.491080238447909,131.96469704104055,0.33603048908752364,7.7667208943883139,0,0,2.2308294092645453]
[14,26.83389246497488,20.347810336633835,2.7791364882119716,1.7997803723161765,0.61124448227757666,20.799713155446028,0.49332033135278497,55.308698400497406,15.792896016660301,11.637377307583144,17.954416212878268,24.93321194949516,6.5660650153067124,3.5191636033280296,8.5822838671037829,5.7590516801105558,305.93741371864905,163.91259187455964,19.272731047897015,15.541387566788227,163.91259187455964,0.33742800213191976,8.1569664629681924,0,0,2.3181094386396568]
[15,28.544280273336412,21.069025642865348,2.831818966376793,1.8481257646609612,0.62992313031066183,24.052708593427923,1.1083330504048057,67.165090893184171,18.949280654062946,11.661201759988709,15.75060451515937,22.269767072064965,5.3323947912260605,3.6436668488583339,9.39824166120186,6.9653804225613944,305.60124398028626,198.1420718608575,20.694334033322395,16.558111265926932,198.1420718608575,0.33897440489241437,8.3353105432427448,0,0,2.4262889791673925]
[16,29.965371405057297,21.760291942170028,2.8704976696601405,1.8831596126405674,0.64684401763133659,26.862852790477131,2.2190163046423024,79.772190578606271,22.277669345415323,11.744924790354295,13.817299301272511,19.911779899712087,4.332707274554866,3.8342308245509238,9.9766562706643924,8.2560349194133593,305.20586206513212,234.21478449582375,22.077773252469232,17.540748087263701,234.21478449582375,0.34059417192781305,8.4705762110734302,0,0,2.5529795294409401]
[17,31.117041159188915,21.928896424913638,2.8968657651589065,1.9088809503239936,0.65910586442419872,29.047534619166754,3.937698318516837,92.994556843812134,25.745196645354575,11.861023432354029,12.121297299871545,17.830424545063831,3.5232984749662419,3.9434153383093844,10.540141246745293,9.6174020330850123,304.74669398322885,271.71953279044743,23.421166964567856,18.48914940694053,271.71953279044743,0.34224465164059581,8.5666053046804862,0,0,2.696186045385276]
[18,32.011318201088883,21.936792076299561,2.911249447379809,1.9264157338306729,0.66810833261339786,30.556943828143726,6.2385284397597864,106.70103122544737,29.320583922062113,11.988184657479572,10.633470769381248,16.000199406224063,2.86871776631543,4.046944566053206,10.974390805901816,11.035833791606203,304.22071238728836,310.26489122646007,24.723217086779297,19.403444409702104,310.26489122646007,0.34390301398158218,8.6278706361732453,0,0,2.8542421261140811]
[19,32.659200385731069,21.825556934497392,2.9136434150166939,1.9359808825075731,0.67424550684073559,31.490023783800744,8.9514891605702562,120.76539430124706,32.974047908640522,12.111988854706773,9.3282672478038879,14.398389735290634,2.3401966512205252,4.1087586619345835,11.338124435912681,12.497880083233484,303.62634743640172,349.47971529550631,25.983107349494105,20.283978888697742,349.47971529550631,0.34555766476784666,8.6553638958590842,0,0,3.0257558766067429]
[20,33.074022877267694,21.735560882237742,2.9042024925390493,1.9375728709861015,0.67759330887765068,32.020782251959126,11.847249632887687,135.06804701486709,36.677559149163351,12.221708802953414,8.1832707056488321,13.004593107348423,1.9143740425122888,4.1491480639652378,11.60543772213996,13.990583694920259,302.96335762318586,389.01745378273199,27.200419124273434,21.131266288496199,389.01745378273199,0.34720305143507318,8.649448358356306,0,0,3.2095646884151319]
[21,33.272196290034628,21.638752567663722,2.8833794440457474,1.931294657538468,0.67815050484513573,32.310475808274248,14.729673627812787,149.49777101294012,40.405174361409273,12.309084985042055,7.178816565069555,11.800314246428753,1.5722633773883521,4.1608322443559977,11.794332202575038,15.501750282916296,302.23267157925272,428.56089338049253,28.375061496670359,21.945948478384409,428.56089338049253,0.34883670750660478,8.6109329007119495,0,0,3.404697469334991]
[22,33.194880471367739,21.44111876080553,2.8449033178745062,1.917447330290422,0.67595313013846403,32.469303449150893,17.461995918105654,163.91889657652601,44.124549152658723,12.367861973963578,6.2976539734097585,10.768499662789635,1.2984049431017273,4.1362515434486546,11.902527823770015,17.016559978415074,301.43655612964261,467.71672385378236,29.507211616380392,22.728760708657525,467.71672385378236,0.35046618651115485,8.53123432364767,0,0,3.6103430949755699]
[23,33.810041235272237,22.007990963325263,2.8748022234627006,1.8918607063865467,0.67110656560164794,32.564254233163908,20.078983751658338,178.62469240226429,47.912646578745438,12.391599203426788,5.5246495309243846,9.894304469044199,1.0802848580699509,4.2602355114363473,11.917590670582589,18.56532067060277,300.57615592131964,507.4548595168979,30.597274710675755,23.480530546570311,507.4548595168979,0.35200114660901421,8.5287551892604725,0,0,3.8258240572955264]
[24,34.192214889338416,22.145457918577101,2.8842698350695097,1.9117434786026959,0.66215124723529151,32.626218408283322,22.534472268671497,193.50149630844416,51.742239801997862,12.397179776946404,4.8465273843900212,9.165034435147124,0.90779634635760209,4.266871191552454,12.110796789034165,20.135673957588459,299.65174472606964,547.43233376881813,31.645842816619641,24.20215650016095,547.43233376881813,0.35347107646396397,8.5575321742188244,0,0,4.0505744540099364]
[25,34.4639334951313,22.346602111146062,2.8882650547182349,1.9180394403212242,0.66911021751094379,32.672356071602103,24.814437936979637,208.49073160919315,55.60003343624178,12.408204600231659,4.2516412228799298,8.569007539705142,0.77270423750902695,4.3119761625801516,12.21348924606508,21.721057677953389,298.66439353754294,587.48372552996284,32.653653513466345,24.894573174850283,587.48372552996284,0.35488767186038367,8.5838328686607763,0,0,4.2841216037976304]
[26,34.634304988281613,22.391841552633714,2.8864115372255683,1.9206962613876264,0.67131380411242869,32.711549660564685,26.915081449290501,223.53874496208849,59.473857020810996,12.429004263912226,3.7297742598780403,8.0955227907418639,0.6682994112287759,4.3192748903771241,12.330439081981465,23.315445724150472,297.61561972432952,627.45941703244944,33.621561447232665,25.558739936567765,627.45941703244944,0.35626008454747288,8.5886315823148642,0,0,4.526070690031549]
[27,34.713074173385863,22.41523667651952,2.8792132410236166,1.9194636722550029,0.67224369148566931,32.748287721921528,28.838199303050942,238.5970794464483,63.352729484918427,12.448649736539688,3.2719637665536032,7.7347095339783936,0.58910723393966502,4.3286689854067424,12.397523094916789,24.913382340986125,296.5073241762268,667.22620388008374,34.550513355670184,26.195629338910223,667.22620388008374,0.35759548719601819,8.5778892243769622,0,0,4.7760919341441355]
[28,34.71043367049964,22.361339887974019,2.8672180377610732,1.9146768052807053,0.67181228528925119,32.784796622104629,30.588661061176012,253.6226547883405,67.226903251574029,12.46206878210738,2.870347142668551,7.4774060846513493,0.53065210877543123,4.3220645476747395,12.443814563670172,26.51000437219292,295.34172774633709,706.6676139921824,35.441526956278821,26.806217786923629,706.6676139921824,0.35889950206653481,8.5527526191501888,0,0,5.0339098819215522]
[29,34.636861346743174,22.26626277346886,2.8510377408284016,1.9066999951111137,0.67013688184824693,32.822158749094179,32.173086626652534,268.57786698938452,71.087890530193704,12.46558669435419,2.5180268814845816,7.3150644857136538,0.48926756333635851,4.3104263659085298,12.456127812073792,28.101053436725522,294.12130853321952,745.68397480011038,36.295673110524163,27.391478056191914,745.68397480011038,0.36017653062931931,8.514830201250863,0,0,5.2992944546643681]
[30,34.502982916927976,22.122984899427742,2.831328793283844,1.8959400976508869,0.66734499828888993,32.86088389025236,33.599162478271701,283.43061911981312,74.928474335445671,12.456862243769244,2.2089521095292559,7.2396780574388462,0.46194324874603437,4.2902237480193524,12.444580898658215,29.682879760721029,292.84874128223055,784.19226698556417,37.114060773543663,27.952373350959867,784.19226698556417,0.36143001028219862,8.4658720151446083,0,0,5.5720534744886727]
[30,0,0,0,0,0,0,0,0,0,17.851476132992865,68.668998478053311,54.206702889518965,75.390417584191709,0,16.734804646677567,0,0,0,0,0,0,0.36143001028219862,0,-1,266.14647404845402,5.5720534744886727]

{"sheet":"LP2OUT","index":5,"n_rows":121,"n_cols":8,"rows_kept":121,"cut":false,"hidden":true,"merged":[]}
["CARDTYPE A:",2,"SIMULATION RUNS SPECIFIED"]
["CARDTYPE B: THE TITLE IS"]
["Rotation 1"]
["CARDTYPE C: MATRICES TO BE OUTPUT. YESF/YESA/YESX",0,0,1]
["NUTRIENT SIMULATED IF YESN=1.0. YESN= ",0]
["INPNAP/INPX/INDEAD",1,2,0]
["GROWTH ADJUSTED WHEN NLIMITED=1. NLIMITED=",0]
["CARDTYPE D: CEASE AT AGE AGEND=",30]
["DENSITY_REGION/HT/PHYSIOL_AGE/NDIST",6,0.2,0,6]
["CARDTYPE E: ONE CARD FOR EACH OF",6,"DISTURBANCES"]
["ADIST","SPHAN","BAN","PRNHT","XTRACT","XTRACC"]
[0,807.5,-1,-1,0,0]
[6,0,-1,1.3401003876415711,0,0]
[7,0,-1,2.2968447011990247,0,0]
[8,0,-1,2.8553087038856391,0,0]
[9,307,30,-1,0,0]
[30,0,-2,-1,0.85,0]
["CARDTYPE G: HT GROWTH COEFF:",-1.825E-3,1.7725000399999999,"HT AGE 20:=",30]
["FRACTION CONSUMPTION 1 YR FAS:",0.05,"FRACTION RETENTION OLDER FAS:",0.70000000000000007,"RADIATION:",7.2,"ROTATION NO",1]
["SOIL C=",6,"SOIL Kjeldahl N=",0.3]
["CRDTYPE K: AVERAGE TREE COMPONENT WEIGHTS(KG),STARTING AT 'X3':="]
[4.3E-3,0,0,0,0,2.8999999999999998E-3,0,1.1000000000000001E-3]
["INITIAL VEGETATION DM, AND SITE PRP LOSS, RESP",0,0]
["    DRYMAT  VERS",2]
["Rotation 1"]
[" CARDTYPES N AND O: NYRS OF DATA =",35]
["AGE","SPH","HT","LIVEVOL","GROSSVOL","BA","STEMDENS","RINGDENS"]
[0,807.5,0.23354005737606987,5.1679999999999999E-3,5.1679999999999999E-3,5.1679999999999999E-3,0.305024051662384,0.305024051662384]
[1,807.5,0.73047667544813499,6.164375600878394E-2,6.164375600878394E-2,6.164375600878394E-2,0.30403962719756039,0.30394954419568931]
[2,807.41103028042858,1.6386752010861834,0.37210754219714726,0.37212047059231546,0.37210754219714726,0.30309774644302823,0.30291073246586014]
[3,807.04042860325262,2.772948472821906,1.1012449272719276,1.101427922705257,1.1012449272719276,0.30508831188287078,0.30610417587306576]
[4,806.66996937195222,4.0551229160264421,5.0145922940046628,5.0153519587177691,5.0145922940046628,0.30645914770737481,0.3068449110594072]
[5,806.29820100871291,5.4366033299813443,13.931501408050305,13.933864157880411,13.931501408050305,0.30962223301033059,0.31140105378584987]
[6,805.90977359590272,6.8835042498986647,29.805310668034377,29.81101217702582,29.805310668034377,0.31330295728145158,0.31653331078551145]
[6,805.90977359590272,7.3684459171939825,29.805310668034377,29.81101217702582,29.805310668034377,0.31330295728145158,0.31653331078551145]
[7,805.45280185214176,8.3708326217998117,51.263300590555886,51.275740371053224,51.263300590555886,0.31851077150281348,0.3257444649349362]
[7,805.45280185214176,8.9604830247507596,51.263300590555886,51.275740371053224,51.263300590555886,0.31851077150281348,0.3257444649349362]
[8,804.81665498121902,9.8795716483650722,79.447247624061916,79.475189759075775,79.447247624061916,0.32303898493521604,0.33127527512010319]
[8,804.81665498121902,10.575378570444949,79.447247624061916,79.475189759075775,79.447247624061916,0.32303898493521604,0.33127527512010319]
[9,803.84928371989827,11.394990573942872,113.94903636631385,114.01197452807382,113.94903636631385,0.32710446637394719,0.33646604797155155]
[9,306.99999999999972,11.71732486941028,44.220709793075073,44.283647954835047,44.220709793075073,0.32710446637394719,0.33646604797155155]
[10,306.83652876536689,13.270555094126497,58.74338510755797,58.758221703423388,58.74338510755797,0.33133270465917386,0.34420744668143149]
[11,306.65960826192958,14.809324297083203,76.875270952884222,76.896432665163985,76.875270952884222,0.33425342964262811,0.34371594633614377]
[12,306.45826849624211,16.326251753371384,102.77792259369944,102.80984495142361,102.77792259369944,0.33489980092459909,0.33681813608683364]
[13,306.22052730308229,17.815553750338644,131.96469704104055,132.01398626666466,131.96469704104055,0.33602231257177057,0.33997511028128335]
[14,305.93741371864905,19.272731047897015,163.91259187455964,163.98664012712541,163.91259187455964,0.33741881337670521,0.34318723118955657]
[15,305.60124398028626,20.694334033322395,198.1420718608575,198.24977672528203,198.1420718608575,0.33896278459055967,0.34635630396461703]
[16,305.20586206513212,22.077773252469232,234.21478449582375,234.36624677672478,234.21478449582375,0.34057860175036048,0.34945404627351251]
[17,304.74669398322885,23.421166964567856,271.71953279044743,271.92566412006016,271.71953279044743,0.3422234381269546,0.35249533741950662]
[18,304.22071238728836,24.723217086779297,310.26489122646007,310.53696594332547,310.26489122646007,0.34387423127807476,0.35551124185356786]
[19,303.62634743640172,25.983107349494105,349.47971529550631,349.82890536595409,349.47971529550631,0.34551910838286265,0.35853325872303315]
[20,302.96335762318586,27.200419124273434,389.01745378273199,389.45438685412665,389.01745378273199,0.34715220059987006,0.36158733586273956]
[21,302.23267157925272,28.375061496670359,428.56089338049253,429.09526735991608,428.56089338049253,0.34877069512152192,0.36469299788979076]
[22,301.43655612964261,29.507211616380392,467.71672385378236,468.35664575463221,467.71672385378236,0.35038157788383167,0.36801270324631469]
[23,300.57615592131964,30.597274710675755,507.4548595168979,508.20944645516823,507.4548595168979,0.35189664686142769,0.36972896553438062]
[24,299.65174472606964,31.645842816619641,547.43233376881813,548.31199316890172,547.43233376881813,0.35334467267124353,0.37172521690639293]
[25,298.66439353754294,32.653653513466345,587.48372552996284,588.49784733039962,587.48372552996284,0.3547370337921838,0.37376817014896724]
[26,297.61561972432952,33.621561447232665,627.45941703244944,628.61659076243984,627.45941703244944,0.35608257584977843,0.37585669434886154]
[27,296.5073241762268,34.550513355670184,667.22620388008374,668.53411948494045,667.22620388008374,0.35738817657234268,0.37798857034808525]
[28,295.34172774633709,35.441526956278821,706.6676139921824,708.13299666366925,706.6676139921824,0.35865917578269707,0.38016053630325336]
[29,294.12130853321952,36.295673110524163,745.68397480011038,747.31255310854135,745.68397480011038,0.3598997073333785,0.38236831929126147]
[30,292.84874128223055,37.114060773543663,784.19226698556417,785.98877240738886,784.19226698556417,0.36111295888500977,0.3846066582445094]
["CARDTYPE B: THE TITLE IS"]
["Rotation 2"]
["CARDTYPE C: MATRICES TO BE OUTPUT. YESF/YESA/YESX",0,0,1]
["NUTRIENT SIMULATED IF YESN=1.0. YESN= ",0]
["INPNAP/INPX/INDEAD",1,2,0]
["GROWTH ADJUSTED WHEN NLIMITED=1. NLIMITED=",0]
["CARDTYPE D: CEASE AT AGE AGEND=",30]
["DENSITY_REGION/HT/PHYSIOL_AGE/NDIST",6,0.2,0,6]
["CARDTYPE E: ONE CARD FOR EACH OF",6,"DISTURBANCES"]
["ADIST","SPHAN","BAN","PRNHT","XTRACT","XTRACC"]
[0,807.5,-1,-1,0,0]
[6,0,-1,1.3401003876415711,0,0]
[7,0,-1,2.2968447011990247,0,0]
[8,0,-1,2.8553087038856391,0,0]
[9,307,30,-1,0,0]
[30,0,-2,-1,0.85,0]
["CARDTYPE G: HT GROWTH COEFF:",-1.825E-3,1.7725000399999999,"HT AGE 20:=",30]
["FRACTION CONSUMPTION 1 YR FAS:",0.05,"FRACTION RETENTION OLDER FAS:",0.70000000000000007,"RADIATION:",7.2,"ROTATION NO",2]
["SOIL C=",6,"SOIL Kjeldahl N=",0.3]
["CRDTYPE K: AVERAGE TREE COMPONENT WEIGHTS(KG),STARTING AT 'X3':="]
[4.3E-3,0,0,0,0,2.8999999999999998E-3,0,1.1000000000000001E-3]
["INITIAL VEGETATION DM, AND SITE PRP LOSS, RESP",11.094000000000001,0]
[" CARDTYPES N AND O: NYRS OF DATA =",35]
["AGE","SPH","HT","LIVEVOL","GROSSVOL","BA","STEMDENS","RINGDENS"]
[0,807.5,0.23354005737606987,5.1679999999999999E-3,5.1679999999999999E-3,5.1679999999999999E-3,0.305024051662384,0.305024051662384]
[1,807.5,0.73047667544813499,6.164375600878394E-2,6.164375600878394E-2,6.164375600878394E-2,0.30403962719756039,0.30394954419568931]
[2,807.41103028042858,1.6386752010861834,0.37210754219714726,0.37212047059231546,0.37210754219714726,0.30309774644302823,0.30291073246586014]
[3,807.04042860325262,2.772948472821906,1.1012449272719276,1.101427922705257,1.1012449272719276,0.30508831188287078,0.30610417587306576]
[4,806.66996937195222,4.0551229160264421,5.0145922940046628,5.0153519587177691,5.0145922940046628,0.30645914770737481,0.3068449110594072]
[5,806.29820100871291,5.4366033299813443,13.931501408050305,13.933864157880411,13.931501408050305,0.30962223301033059,0.31140105378584987]
[6,805.90977359590272,6.8835042498986647,29.805310668034377,29.81101217702582,29.805310668034377,0.31330295728145158,0.31653331078551145]
[6,805.90977359590272,7.3684459171939825,29.805310668034377,29.81101217702582,29.805310668034377,0.31330295728145158,0.31653331078551145]
[7,805.45280185214176,8.3708326217998117,51.263300590555886,51.275740371053224,51.263300590555886,0.31851077150281348,0.3257444649349362]
[7,805.45280185214176,8.9604830247507596,51.263300590555886,51.275740371053224,51.263300590555886,0.31851077150281348,0.3257444649349362]
[8,804.81665498121902,9.8795716483650722,79.447247624061916,79.475189759075775,79.447247624061916,0.32303898493521604,0.33127527512010319]
[8,804.81665498121902,10.575378570444949,79.447247624061916,79.475189759075775,79.447247624061916,0.32303898493521604,0.33127527512010319]
[9,803.84928371989827,11.394990573942872,113.94903636631385,114.01197452807382,113.94903636631385,0.32710446637394719,0.33646604797155155]
[9,306.99999999999972,11.71732486941028,44.220709793075073,44.283647954835047,44.220709793075073,0.32710446637394719,0.33646604797155155]
[10,306.83652876536689,13.270555094126497,58.74338510755797,58.758221703423388,58.74338510755797,0.33133270465917386,0.34420744668143149]
[11,306.65960826192958,14.809324297083203,76.875270952884222,76.896432665163985,76.875270952884222,0.33425342964262811,0.34371594633614377]
[12,306.45826849624211,16.326251753371384,102.77792259369944,102.80984495142361,102.77792259369944,0.33489980092459909,0.33681813608683364]
[13,306.22052730308229,17.815553750338644,131.96469704104055,132.01398626666466,131.96469704104055,0.33602231257177057,0.33997511028128335]
[14,305.93741371864905,19.272731047897015,163.91259187455964,163.98664012712541,163.91259187455964,0.33741881337670521,0.34318723118955657]
[15,305.60124398028626,20.694334033322395,198.1420718608575,198.24977672528203,198.1420718608575,0.33896278459055967,0.34635630396461703]
[16,305.20586206513212,22.077773252469232,234.21478449582375,234.36624677672478,234.21478449582375,0.34057860175036048,0.34945404627351251]
[17,304.74669398322885,23.421166964567856,271.71953279044743,271.92566412006016,271.71953279044743,0.3422234381269546,0.35249533741950662]
[18,304.22071238728836,24.723217086779297,310.26489122646007,310.53696594332547,310.26489122646007,0.34387423127807476,0.35551124185356786]
[19,303.62634743640172,25.983107349494105,349.47971529550631,349.82890536595409,349.47971529550631,0.34551910838286265,0.35853325872303315]
[20,302.96335762318586,27.200419124273434,389.01745378273199,389.45438685412665,389.01745378273199,0.34715220059987006,0.36158733586273956]
[21,302.23267157925272,28.375061496670359,428.56089338049253,429.09526735991608,428.56089338049253,0.34877069512152192,0.36469299788979076]
[22,301.43655612964261,29.507211616380392,467.71672385378236,468.35664575463221,467.71672385378236,0.35038157788383167,0.36801270324631469]
[23,300.57615592131964,30.597274710675755,507.4548595168979,508.20944645516823,507.4548595168979,0.35189664686142769,0.36972896553438062]
[24,299.65174472606964,31.645842816619641,547.43233376881813,548.31199316890172,547.43233376881813,0.35334467267124353,0.37172521690639293]
[25,298.66439353754294,32.653653513466345,587.48372552996284,588.49784733039962,587.48372552996284,0.3547370337921838,0.37376817014896724]
[26,297.61561972432952,33.621561447232665,627.45941703244944,628.61659076243984,627.45941703244944,0.35608257584977843,0.37585669434886154]
[27,296.5073241762268,34.550513355670184,667.22620388008374,668.53411948494045,667.22620388008374,0.35738817657234268,0.37798857034808525]
[28,295.34172774633709,35.441526956278821,706.6676139921824,708.13299666366925,706.6676139921824,0.35865917578269707,0.38016053630325336]
[29,294.12130853321952,36.295673110524163,745.68397480011038,747.31255310854135,745.68397480011038,0.3598997073333785,0.38236831929126147]
[30,292.84874128223055,37.114060773543663,784.19226698556417,785.98877240738886,784.19226698556417,0.36111295888500977,0.3846066582445094]

{"sheet":"300 Index","index":6,"n_rows":83,"n_cols":44,"rows_kept":83,"cut":false,"hidden":true,"merged":[]}
["300 Index Growth Model Version 1.04 (CTRL+A)",null,null,null,null,null,null,"Model last updated June 2007",null,null,null,null,null,null,null,null,null,null,"Crop elements",null,null,null,null,null,null,26,27,28,29,30,31,32,33,34,35,36,37,38,39,40,41,42,43,44]
["Site Productivity Indices",null,null,null,"Site Location",null,null,"Stocking",null,"MTH",null,"Volume",null,"BA",null,"DBH",null,"Mean","Element 1",null,null,"Element 2",null,null,"Element 3",null,null,"Element 4",null,null,"DBH20",null,null,null,null,null,"Pruning","Lift","Volume","Density","Density","DBH20"]
[null,"300Index",26,null,"Latitude",40,"Age","b4 thin","aft thin",null,"Crown Lth","b4 thin","aft thin","b4 thin","aft thin","b4 thin","aft thin","Height","stocking","dia","vol","stocking","dia","vol","stocking","dia","vol","stocking","dia","vol",null,null,null,null,null,null,"stems","height","Mortality","Sheath","Tree"]
[null,"SI",28.3,null,"Altitude",300,"yrs","sph","sph","m","m","m3/ha","m3/ha","m2/ha","m2/ha","cm",null,"m","sph","cm","m3/ha","sph","cm","m3/ha","sph","cm","m3/ha","sph","cm","m3/ha","cm",null,null,null,null,null,"sph","m","m3/ha","kg/m3","kg/m3","cm"]
[null,null,null,null,null,null,0,807.5,null,0.25,null,5.1679999999999999E-3,null,0,null,0,null,0.25,807.5,0,0,null,null,null,null,null,null,null,null,null,null,null,null,null,null,null,null,null,0,0.305024051662384,0.305024051662384,null,34.082555698634742,0.28893897673922447]
["Data used to estimate 300 Index (CTRL+I)",null,null,null,null,null,1,807.5,null,0.78196079470838642,null,6.164375600878394E-2,null,0,null,0,null,0.73047667544813499,807.5,0,0,null,null,null,null,null,null,null,null,null,null,null,null,null,null,null,null,null,0,0.30394954419568931,0.30403962719756039,null,34.042721704984068,0.28893897673922447]
[null,"Age",null,null,null,null,2,807.41103028042858,null,1.754166531879424,null,0.37210754219714726,null,6.0479417282185057E-3,null,0.30879528595251143,null,1.6386752010861834,807.41103028042858,0.30879528595251143,3.6713356667336473E-2,null,null,null,null,null,null,null,null,null,null,null,null,null,null,null,null,null,1.2928395168222006E-5,0.30291073246586014,0.30309774644302828,null,34.010175932660481,0.28893897673922447]
[null,"Sph",null,null,null,null,3,807.04042860325262,null,2.96836208619077,null,1.1012449272719276,null,0.42367986964703547,null,2.58514835465611,null,2.772948472821906,807.04042860325262,2.58514835465611,1.1012449272719276,null,null,null,null,null,null,null,null,null,null,null,null,null,null,null,null,null,1.8299543332935938E-4,0.30610417587306576,0.30508831188287078,null,33.987709300256441,0.29430042999059164]
[null,"DBH",null,null,null,null,4,806.66996937195222,null,4.340864533334714,null,5.0145922940046628,null,1.970509434370465,null,5.5764205169173566,null,4.0551229160264421,806.66996937195222,5.5764205169173566,5.0145922940046628,null,null,null,null,null,null,null,null,null,null,null,null,null,null,null,null,null,7.5966471310653255E-4,0.3068449110594072,0.30645914770737487,null,33.971730048201046,0.29646404595870246]
[null,"BA",null,null,null,null,5,806.29820100871291,null,5.8196514720007126,null,13.931501408050305,null,4.9379988613714971,null,8.8296166633099222,null,5.4366033299813443,806.29820100871291,8.8296166633099222,13.931501408050305,null,null,null,null,null,null,null,null,null,null,null,null,null,null,null,null,null,2.3627498301046698E-3,0.31140105378584987,0.30962223301033065,null,33.961918818283294,0.30349356444231224]
[null,"Vol",null,null,null,null,5.5,806.10841079028432,null,6.5871479238885584,3.8401521848294569,20.901034414510871,null,6.9534325128835199,null,10.478933819048057,null,6.1536041989226664,450,11.159908630373026,13.233475703654834,356.10841079028432,9.5492084361732115,7.6675587108560395,null,null,null,null,null,null,null,null,null,null,null,null,450,2.4,2.2182437705224288E-3,0.31639638675687431,0.31188110150415965,null,33.959542031621019,0.31107404241021863]
[null,null,18,null,null,null,6,805.91101042100206,null,7.3684459171939825,null,28.394107840466585,null,8.8508400751999954,null,11.823958698259961,null,6.8835040976586193,449.88980369763192,12.306401994478994,17.17052900329611,356.02120672337014,11.184590339268372,11.223578837170471,null,null,null,null,null,null,null,null,null,null,null,null,null,null,3.2659373849400265E-3,0.32289484877200014,0.3147875783491631,null,33.960341588946704,0.31967321152394762]
["Data used to estimate Site Index (CTRL+J)",null,null,null,null,null,6.8,805.56011897902579,null,8.6396693816133894,3.6579344052569205,45.543643526845791,null,12.807053783774998,null,14.226230459430331,null,8.071114815197312,350,14.980742209766703,21.942435998525749,99.693922911902064,13.079606799824186,4.764399791374279,355.86619606712372,13.765285305748359,18.836807736945772,null,null,null,null,null,null,null,null,null,350,4.5999999999999996,8.7109379167642238E-3,0.3234400550378374,0.31804568302101521,null,33.961553273745686,0.32134377448334411]
[null,"Age",null,null,null,null,7,805.4598072526619,null,8.9604830247507596,null,50.322109392118378,null,13.79985393317361,null,14.768266122489383,null,8.3708315713000356,349.95641653130508,15.422347687819194,23.843548239212392,99.681508606278342,13.703058632818019,5.361737875065022,355.82188211507844,14.393618721668517,21.116823277840972,null,null,null,null,null,null,null,null,null,null,null,3.229432231309907E-3,0.32667476303795528,0.31886507960052568,null,33.962487052251142,0.32566737330869061]
[null,"MTH",null,null,null,null,8,804.83642947512442,null,10.575378570444949,4.1428323751132936,78.293646518668822,null,19.039047986779984,null,17.353337095538333,null,9.8795681398435331,320,17.652863269739427,32.213149024688072,29.685571169180264,15.554829493094781,2.3202180862483677,99.604361072984872,16.754721506709675,9.0324521504047173,355.54649723295944,17.388581682170813,34.727827257327633,null,null,null,null,null,null,320,6,2.6941883752910081E-2,0.33115505670498824,0.32325585159988529,null,33.970419563001165,0.33253397630341103]
[null,null,null,null,null,null,8.8000000000000007,804.11388333744719,307.00000000000045,11.873001522898338,null,105.31424784639131,40.225508959776271,23.427110663165131,8.9481477497454325,19.258159802652958,19.262452789641223,11.405774379034783,307.00000000000045,19.262452789641223,40.225508959776271,null,null,null,null,null,null,null,null,null,null,null,null,null,null,null,null,null,4.4618720552396365E-2,0.33596050069970956,0.32651549846965799,null,42.98583730819545,0.33976622032205867]
["Stocking history",null,null,null,"thinning",null,9,306.96882381553496,null,12.197314394936845,null,42.828855129109925,null,9.3267488078331251,null,19.666732327833724,null,11.717371373193643,306.96882381553496,19.666732327833724,42.828855129109925,null,null,null,null,null,null,null,null,null,null,null,null,null,null,null,null,null,2.2816461722848444E-3,0.34100488387983707,0.32739623380311195,null,42.98678549166678,0.34667018798142746]
[null,"Age","b4 thin","aft thin","coeff.","dbh ratio",10,306.80705842903313,null,13.813883732202004,null,57.282887729826655,null,11.281088446719529,null,21.635006525917312,null,13.270604911839396,306.80705842903313,21.635006525917312,57.282887729826655,null,null,null,null,null,null,null,null,null,null,null,null,null,null,null,null,null,1.4276442583115695E-2,0.34353139096577118,0.33146757337570354,null,42.991707295718598,0.35070233385856231]
[null,0,807.5,null,null,null,11,306.63212955646122,null,15.415306359582594,null,75.713555962260131,null,13.607810938521808,null,23.768375808326034,null,14.809376169463185,306.63212955646122,23.768375808326034,75.713555962260131,null,null,null,null,null,null,null,null,null,null,null,null,null,null,null,null,null,2.0520799969346141E-2,0.34234355507356984,0.33411507299222282,null,42.997033230910056,0.34955393845633786]
[null,8.8000000000000007,null,307,0.78,null,12,306.43281369659081,null,16.99386860909004,null,101.58618211730138,null,16.800207796758652,null,26.418240778622621,null,16.326304768133806,306.43281369659081,26.418240778622621,101.58618211730138,null,null,null,null,null,null,null,null,null,null,null,null,null,null,null,null,null,3.119012664058313E-2,0.33649071301408662,0.33472011636410248,null,43.003106258421937,0.34214920287116335]
[null,null,null,null,0.78400000000000003,null,13,306.19752804227295,null,18.54350885964466,null,130.74650514811867,null,20.043510824300746,null,28.866907405315352,null,17.815606068263911,306.19752804227295,28.866907405315352,130.74650514811867,null,null,null,null,null,null,null,null,null,null,null,null,null,null,null,null,null,4.8283060102069571E-2,0.3397098290889643,0.3358329693212283,null,43.010281580655096,0.34682027696042328]
[null,null,null,null,0.78400000000000003,null,14,305.91724643851768,null,20.059501858739296,null,162.67111517452901,null,23.268433153981679,null,31.116861796029493,null,19.272780730040996,305.91724643851768,31.116861796029493,162.67111517452901,null,null,null,null,null,null,null,null,null,null,null,null,null,null,null,null,null,7.2703079225987274E-2,0.34296528220449873,0.33723270342362538,null,43.01883805969468,0.35142526473978064]
[null,null,null,null,0.78400000000000003,null,15,305.58422251956307,null,21.53821286393341,null,196.88109221673005,null,26.430893071879307,null,33.182160288664782,null,20.694379116980461,305.58422251956307,33.182160288664782,196.88109221673005,null,null,null,null,null,null,null,null,null,null,null,null,null,null,null,null,null,0.1059656610863033,0.34616468383196214,0.33878472064005888,null,43.029017352604477,0.35583676280748694]
[null,null,null,null,0.78400000000000003,null,16,305.19223499970076,null,22.976902711511887,null,232.93955199235683,null,29.503055924979463,null,35.080111351965606,null,22.077811817055156,305.19223499970076,35.080111351965606,232.93955199235683,null,null,null,null,null,null,null,null,null,null,null,null,null,null,null,null,null,0.14928815309891091,0.34928302412868295,0.34040983175072714,null,43.041016659329266,0.36001827865561842]
[null,null,null,null,null,null,17,304.73664353496235,null,24.373571024973682,null,270.43689538344643,null,32.466223931226502,null,36.827119566924743,null,23.421197191356228,304.73664353496235,36.827119566924743,270.43689538344643,null,null,null,null,null,null,null,null,null,null,null,null,null,null,null,null,null,0.20349893095860624,0.3523377043246223,0.34206368720264074,null,43.054987148693087,0.36399038289904206]
[null,null,null,null,null,null,18,304.21435480524445,null,25.726828621838049,null,308.98285990779021,null,35.3069598980439,null,38.437445068099301,null,24.723237311096877,304.21435480524445,38.437445068099301,308.98285990779021,null,null,null,null,null,null,null,null,null,null,null,null,null,null,null,null,null,0.26898032216139373,0.35536190600509943,0.3437226551801833,null,43.071035004467653,0.36779467953537276]
[null,null,null,null,null,null,19,303.62373542872365,null,27.035792690070863,null,348.20682133647205,null,38.015411700395305,null,39.923277862584193,null,25.983116102070248,303.62373542872365,39.923277862584193,348.20682133647205,null,null,null,null,null,null,null,null,null,null,null,null,null,null,null,null,null,0.34564973987976205,0.35838879371047538,0.34537473094886562,null,43.089223966230747,0.37147251317079472]
[null,null,null,null,null,null,20,302.96448496076641,null,28.300000000000399,null,387.76214470834435,null,40.584650328518649,null,41.295168775733408,null,27.200415159591309,302.96448496076641,41.295168775733408,387.76214470834435,null,null,null,null,null,null,null,null,null,null,null,null,null,null,null,null,null,0.43298094959510036,0.36144552409663716,0.34701410041408426,null,43.109578967981449,0.3750569793610512]
[null,null,null,null,null,null,21,302.23747948034492,null,29.519334592337206,null,427.33107102646829,null,43.010342013965499,null,42.562437394984684,null,28.375043808088712,302.23747948034492,42.562437394984684,427.33107102646829,null,null,null,null,null,null,null,null,null,null,null,null,null,null,null,null,null,0.53005920276964669,0.36455244827443833,0.34863807218042703,null,43.132090575188279,0.37857195057342591]
[null,null,null,null,null,null,22,301.44492283333153,null,30.69396721729607,null,466.49369925512161,null,45.277402305755004,null,43.72712924309463,null,29.50717950826694,301.44492283333153,43.72712924309463,466.49369925512161,null,null,null,null,null,null,null,null,null,null,null,null,null,null,null,null,null,0.63530196269661787,0.36790699689392437,0.3502557183268285,null,43.156709769285406,0.38226243270063159]
[null,null,null,null,null,null,23,300.58810648345406,null,31.824304405334878,null,506.22227232628666,null,47.501906486227803,null,44.85220781165355,null,30.597226997046022,300.58810648345406,44.85220781165355,506.22227232628666,null,null,null,null,null,null,null,null,null,null,null,null,null,null,null,null,null,0.74952385839540803,0.36965540326316426,0.35177821514825247,null,43.183417147385079,0.38382310147943488]
[null,null,null,null,null,null,24,299.66725525402722,null,32.910945497939558,null,546.19519813334853,null,49.666356699069368,null,45.933094896000114,null,31.645778538833596,299.66725525402722,45.933094896000114,546.19519813334853,null,null,null,null,null,null,null,null,null,null,null,null,null,null,null,null,null,0.87417739234013103,0.37165229593634969,0.35323268629618854,null,43.21222818587507,0.38559116414651845]
[null,null,null,null,null,null,25,298.6834154549951,null,33.954646303934339,null,586.24664440147319,null,51.768355451525892,null,46.972192474050146,null,32.653571863624563,298.6834154549951,46.972192474050146,586.24664440147319,null,null,null,null,null,null,null,null,null,null,null,null,null,null,null,null,null,1.0082507396860438,0.37369595003396844,0.35463070420535864,null,43.24313446676998,0.38731432472107874]
[null,null,null,null,null,null,26,297.63808256701356,null,34.956288304342543,null,626.2265173898802,null,53.806346850459676,null,47.97187642028922,null,33.621461767642707,297.63808256701356,47.97187642028922,626.2265173898802,null,null,null,null,null,null,null,null,null,null,null,null,null,null,null,null,null,1.1509485850981842,0.37578530837477064,0.35598126724337603,null,43.276114943969048,0.38899161100833274]
[null,null,null,null,null,null,27,296.53313857682724,null,35.916852528353616,null,666.00109332687896,null,55.779553409810056,null,48.934493907914373,null,34.550395134808369,296.53313857682724,48.934493907914373,666.00109332687896,null,null,null,null,null,null,null,null,null,null,null,null,null,null,null,null,null,1.3013749279627127,0.37791820937182652,0.35729137405739791,null,43.311137594496408,0.39062089288637525]
[null,null,null,null,null,null,28,295.3707884949726,null,36.83739737946896,null,705.45335398068141,null,57.687916886805041,null,49.86236334511392,null,35.441389821845966,295.3707884949726,49.86236334511392,705.45335398068141,null,null,null,null,null,null,null,null,null,null,null,null,null,null,null,null,null,1.4585670926341354,0.38009143938380918,0.35856646065965952,null,43.348161094795216,0.39219901731877688]
[null,null,null,null,null,null,29,294.15349762168103,null,37.719039815062182,null,744.48306684320437,null,59.532042521319802,null,50.757776034348183,null,36.295516820175656,294.15349762168103,50.757776034348183,744.48306684320437,null,null,null,null,null,null,null,null,null,null,null,null,null,null,null,null,null,1.6215290934445175,0.38230076839403987,0.35981073773877642,null,43.387136484480273,0.39372191986075955]
["Pruning history",null,null,null,null,null,30,292.88393085907848,null,38.562939382088778,null,783.00664902621565,null,61.31314636144478,null,51.622999007878917,null,37.113885203839992,292.88393085907848,51.622999007878917,783.00664902621565,null,null,null,null,null,null,null,null,null,null,null,null,null,null,null,null,null,1.7892631386550155,0.38454097522513409,0.36102745452834123,null,43.428008786922931,0.39518472057040854]
[null,"Age","Height","Sph"]
[null,5.5,2.4,450]
[null,6.8,4.5999999999999996,350]
[null,8,6,320]
[]
[]
[]
["Other options",null,null,null,"Implementation"]
[null,"Fell age",30,null,5]
[null,"Step length",0.01]
[null,null,null,null,null,"Bias"]
["Volume table (place X in box)",null,null,null,null,"Correctn"]
[null,"2007 Model",null,"x","Old","x"]
[null,"2006 Model",null,null,"Young","x"]
[null,"Direct sawlog V182",null,null,"SI","x"]
[null,"Woodhill V236"]
[null,"Otago/Sthld V328"]
[null,"Kaingaroa V358"]
[null,"Northland V11"]
[null,"V430"]
[null,"NZ 3-point taper"]
[null,"NSW 1"]
[null,"NSW 2"]
[]
["Height model (place X in box)",null,null,null,null,"Drift"]
[null,"NSW",null,null,null,0]
[null,"NZ",null,"x"]
[]
["Mortality model (place X in box)",null,null,null,null,"Mortality"]
[null,"NSW",null,null,"Add",0]
[null,"NZ 2004 model",null,null,"Mult",0]
[null,"NZ simple model",null,null,"Thin","x"]
[null,"NZ 2006 model"]
[null,"NZ 2007 model",null,"x"]
[]
["Wood Density"]
[null,"Soil C",null,5.3]
[null,"Soil N",null,0.37]
[null,"MATemp",null,12]
[null,"Out Dens",null,410]
[null,"Out Age",null,15]
[null,"Inner ring"]
[null,"Outer ring"]
[null,"Genetic adjustment"]
[null,"Model",null,2]

{"sheet":"Simple screen","index":7,"n_rows":18,"n_cols":9,"rows_kept":18,"cut":false,"hidden":false,"merged":[[11,4,11,5],[2,1,7,1],[0,1,0,15]]}
[null,"Radiata Pine Calculator Version 3.0 pro"]
[]
[null,"Stand information","300-index",26,null,null,"Economic results","EFGM ($/lsu)",{"$f":"'User interface'!M42","v":0}]
[null,null,"Site index (m)",28.3,null,null,null,"NPV ($/ha)",{"$f":"'User interface'!J42","v":2025.572824229987}]
[null,null,"Stems/ha planted",850,null,null,null,"LEV ($/ha)",{"$f":"'User interface'!K42","v":2331.9089850648397}]
[null,null,"Rotation age (years)",30,null,null,null,"IRR",{"$f":"'User interface'!L42","v":9.6584320068359375E-2}]
[null,null,"Altitude (m)",300,null,null,null,"Stumpage ($/ha)",{"$f":"'User interface'!N42","v":33317.454015829564}]
[null,null,"Latitude (0S)",40,null,null,null,"Value per m3 ($)",{"$f":"'User interface'!O42","v":85.059606483869103}]
[null,null,null,null,null,null,null,"Silvicultural labour (hrs/ha)",{"$f":"'User interface'!P42","v":66.333146408248325}]
[null,"Financial,","Labour Cost ($/hr)",25,null,null,null,"Grazing (% of existing)",{"$f":"'User interface'!P8","v":0}]
[null,"Land & livestock","Discount rate (%)",7]
[null,null,"Land Value ($/ha)",0,null,null,"Stand results","Rotation age (years)",{"$f":"'User interface'!J5","v":30}]
[null,null,"Livestock Carrying Capacity (LSU/ha)",8,null,null,null,"DBH (cm)",{"$f":"'User interface'!K5","v":51.622999007878917}]
[null,null,"Livestock capital value ($/LSU)",85,null,null,null,"MTH (m)",{"$f":"'User interface'!L5","v":38.562939382088778}]
[null,null,"Livestock Gross Margin ($/lsu/yr)",45,null,null,null,"Stocking at clearfelling (stems/ha)",{"$f":"'User interface'!M5","v":292.88393085907848}]
[null,null,"Understorey grazing (Y/N)","y",null,null,null,"Basal area (m2/ha)",{"$f":"'User interface'!N5","v":61.31314636144478}]
[null,null,null,null,null,null,null,"Total volume (m3/ha)",{"$f":"'User interface'!O5","v":783.00664902621565}]
[null,null,null,null,null,null,null,"Merchantable volume (m3/ha)",{"$f":"'User interface'!P37","v":665.55565167228326}]

{"sheet":"Log specs","index":8,"n_rows":29,"n_cols":10,"rows_kept":29,"cut":false,"hidden":false,"merged":[[28,2,32,10],[23,2,23,11],[24,1,24,2],[0,1,0,11],[2,1,2,11],[12,2,12,11],[13,1,13,11]]}
[null,"Log grade specifications and prices   Values entered here will be used next time the user interface is 'run'"]
[]
[null,"Grades A"]
[null,"Grade","Pruned","S1","S2","S3","L1","L2","L3","Pulp"]
[null,"Pruned",1,0,0,0,0,0,0,0]
[null,"Length min",4.2,4,4,4,4,4,4,4]
[null,"Length max",5.5,5.5,5.5,5.5,5.5,5.5,5.5,5.5]
[null,"SED minimum",300,400,300,200,400,300,200,100]
[null,"Branch maximum",0,6,6,6,12,12,12,15]
[null,"Grade specific conversion",1,1,1,1,1,1,1,1]
[null,"% downgraded to poorest grade",0,0.05,0.05,0.1,0.05,0.1,0.15]
[null,"Price ($/m3)",{"$f":"C26+('User interface'!L8-4)*C27","v":146.27316819417788},88,80,64,65,56,52,40]
[null,null,"most valuable logs <----------------> least valuable logs"]
[null,"Grades B"]
[null,"Grade","Pruned","AL","AM","KL","KM","S3L3","Pulp"]
[null,"Pruned",1,0,0,0,0,0,0]
[null,"Length min",5.5,12.1,8.1,11.1,7.3,4,4]
[null,"Length max",5.8,12.1,8.1,11.1,7.3,5.5,5.5]
[null,"SED minimum",300,310,350,210,230,150,100]
[null,"Branch maximum",0,6,6,6,5,8,15]
[null,"Grade specific conversion",1,1,1,1,1,1,1]
[null,"% downgraded to poorest grade",0,0.02,0.03,0.05,0.05,0.15]
[null,"Price ($/m3)",{"$f":"C12","v":146.27316819417788},92,86,80,74,58,51]
[null,null,"most valuable logs <----------------> least valuable logs"]
[null,"Pruned log prices"]
[null,"Pruned log price for PLI 4 ($/m3)",120]
[null,"PLI premium ($/PLI unit)",10]
[]
[null,null,"The above log grade specifications do not specifically allow for sweep, kink or wobble. These have the effect of lowering the conversion ratio and must be allowed for by using the overall conversion percent (in the user interface), the grade specific conversion (rows 10 and 21 above) and/or percent downgraded to poorest grade (rows 11 and 22 above)."]

{"sheet":"Overriding","index":9,"n_rows":8,"n_cols":7,"rows_kept":8,"cut":false,"hidden":false,"merged":[]}
[null,"This page is for overriding some of the costs and other parameters estimated by the Calculator for use in subsequent economic calculations"]
[null,"If the cells are zero or empty, no overriding will take effect"]
[]
[null,"Operation/element",1,2,3,4,5]
[null,"Cost of pruning ($/ha)"]
[null,"Cost of thinning ($/ha)"]
[null,"DOS (cm)"]
[null,"Cost of clearfelling ($/ha)"]

{"sheet":"Economics","index":10,"n_rows":41,"n_cols":13,"rows_kept":41,"cut":false,"hidden":false,"merged":[[0,1,0,15],[38,1,54,1],[28,1,36,1],[24,5,24,11],[2,5,2,11],[16,5,16,11],[10,1,14,1],[16,1,18,1]]}
[null,"Economic calculations and details- values entered into the pale green cells will be automatically used next time the user interface is 'run'"]
[]
[null,"Financial","Annual fixed costs ($/ha)",{"$f":"'User interface'!D24","v":46},null,"Value by log grade"]
[null,null,"Establishment costs (cents/tree)",{"$f":"'User interface'!D25","v":50},null,null,"Clearfell","Thin 1","Thin 2","Thin 3","Thin 4","Thin 5","Prices"]
[null,null,"Clearfell Logging Cost ($/m3)",{"$f":"'User interface'!D26","v":35},null,{"$f":"'User interface'!J27","v":"Pruned"},{"$f":"conref4('User interface'!P27)*M5","v":30027.090602327808},{"$f":"conref4('User interface'!K27)*$M5","v":0},{"$f":"conref4('User interface'!L27)*$M5","v":0},{"$f":"conref4('User interface'!M27)*$M5","v":0},{"$f":"conref4('User interface'!N27)*$M5","v":0},{"$f":"conref4('User interface'!O27)*$M5","v":0},{"$f":"Clearfell!B10","v":146.27316819417788}]
[null,null,"Production Thin Logging Cost ($/m3)",{"$f":"'User interface'!D27","v":45},null,{"$f":"'User interface'!J28","v":"S1"},{"$f":"conref4('User interface'!P28)*M6","v":837.07128710797497},{"$f":"conref4('User interface'!K28)*$M6","v":0},{"$f":"conref4('User interface'!L28)*$M6","v":0},{"$f":"conref4('User interface'!M28)*$M6","v":0},{"$f":"conref4('User interface'!N28)*$M6","v":0},{"$f":"conref4('User interface'!O28)*$M6","v":0},{"$f":"Clearfell!C10","v":88}]
[null,null,"Labour Cost ($/hr)",{"$f":"'User interface'!D28","v":25},null,{"$f":"'User interface'!J29","v":"S2"},{"$f":"conref4('User interface'!P29)*M7","v":4308.9144498788064},{"$f":"conref4('User interface'!K29)*$M7","v":0},{"$f":"conref4('User interface'!L29)*$M7","v":0},{"$f":"conref4('User interface'!M29)*$M7","v":0},{"$f":"conref4('User interface'!N29)*$M7","v":0},{"$f":"conref4('User interface'!O29)*$M7","v":0},{"$f":"Clearfell!D10","v":80}]
[null,null,"Labour Supervision (%)",{"$f":"'User interface'!D29","v":12},null,{"$f":"'User interface'!J30","v":"S3"},{"$f":"conref4('User interface'!P30)*M8","v":3604.4835805219745},{"$f":"conref4('User interface'!K30)*$M8","v":0},{"$f":"conref4('User interface'!L30)*$M8","v":0},{"$f":"conref4('User interface'!M30)*$M8","v":0},{"$f":"conref4('User interface'!N30)*$M8","v":0},{"$f":"conref4('User interface'!O30)*$M8","v":0},{"$f":"Clearfell!E10","v":64}]
[null,null,"Discount rate (%)",{"$f":"'User interface'!D30","v":7},null,{"$f":"'User interface'!J31","v":"L1"},{"$f":"conref4('User interface'!P31)*M9","v":3587.8532659432294},{"$f":"conref4('User interface'!K31)*$M9","v":0},{"$f":"conref4('User interface'!L31)*$M9","v":0},{"$f":"conref4('User interface'!M31)*$M9","v":0},{"$f":"conref4('User interface'!N31)*$M9","v":0},{"$f":"conref4('User interface'!O31)*$M9","v":0},{"$f":"Clearfell!F10","v":65}]
[null,null,null,null,null,{"$f":"'User interface'!J32","v":"L2"},{"$f":"conref4('User interface'!P32)*M10","v":6657.962463402162},{"$f":"conref4('User interface'!K32)*$M10","v":0},{"$f":"conref4('User interface'!L32)*$M10","v":0},{"$f":"conref4('User interface'!M32)*$M10","v":0},{"$f":"conref4('User interface'!N32)*$M10","v":0},{"$f":"conref4('User interface'!O32)*$M10","v":0},{"$f":"Clearfell!G10","v":56}]
[null,"Land & livestock","Land Value ($/ha)",{"$f":"'User interface'!D32","v":0},null,{"$f":"'User interface'!J33","v":"L3"},{"$f":"conref4('User interface'!P33)*M11","v":4025.1488907372454},{"$f":"conref4('User interface'!K33)*$M11","v":0},{"$f":"conref4('User interface'!L33)*$M11","v":0},{"$f":"conref4('User interface'!M33)*$M11","v":0},{"$f":"conref4('User interface'!N33)*$M11","v":0},{"$f":"conref4('User interface'!O33)*$M11","v":0},{"$f":"Clearfell!H10","v":52}]
[null,null,"Livestock Carrying Capacity (LSU/ha)",{"$f":"'User interface'!D33","v":0},null,{"$f":"'User interface'!J34","v":"Pulp"},{"$f":"conref4('User interface'!P34)*M12","v":3563.3772844402711},{"$f":"conref4('User interface'!K34)*$M12","v":0},{"$f":"conref4('User interface'!L34)*$M12","v":0},{"$f":"conref4('User interface'!M34)*$M12","v":0},{"$f":"conref4('User interface'!N34)*$M12","v":0},{"$f":"conref4('User interface'!O34)*$M12","v":0},{"$f":"Clearfell!I10","v":40}]
[null,null,"Livestock capital value ($/LSU)",{"$f":"'User interface'!D34","v":0},null,{"$f":"'User interface'!J35","v":""},{"$f":"conref4('User interface'!P35)*M13","v":0},{"$f":"conref4('User interface'!K35)*$M13","v":0},{"$f":"conref4('User interface'!L35)*$M13","v":0},{"$f":"conref4('User interface'!M35)*$M13","v":0},{"$f":"conref4('User interface'!N35)*$M13","v":0},{"$f":"conref4('User interface'!O35)*$M13","v":0},{"$f":"Clearfell!J10","v":0}]
[null,null,"Livestock Gross Margin ($/lsu/yr)",{"$f":"'User interface'!D35","v":0},null,{"$f":"'User interface'!J36","v":""},{"$f":"conref4('User interface'!P36)*M14","v":0},{"$f":"conref4('User interface'!K36)*$M14","v":0},{"$f":"conref4('User interface'!L36)*$M14","v":0},{"$f":"conref4('User interface'!M36)*$M14","v":0},{"$f":"conref4('User interface'!N36)*$M14","v":0},{"$f":"conref4('User interface'!O36)*$M14","v":0},{"$f":"Clearfell!K10","v":0}]
[null,null,"Understorey grazing (Y/N)",{"$f":"'User interface'!D36","v":"N"},null,"Revenue",{"$f":"SUM(G5:G14)","v":56611.901824359476},0,0,0,0,0]
[]
[null,"Plant & release","Plant time per plant (min.)",1.036,null,"Cost of thinnings and clear felling"]
[null,null,"Release time per plant (min.)",{"$f":"0.0024242*60","v":0.145452},null,"Age",{"$f":"'User interface'!J5","v":30},{"$f":"'User interface'!D18","v":8.8000000000000007},{"$f":"'User interface'!E18","v":0},{"$f":"'User interface'!F18","v":0},{"$f":"'User interface'!G18","v":0},{"$f":"'User interface'!H18","v":0}]
[null,null,"Supervision multiplier",1.1000000000000001,null,"Volume",{"$f":"'User interface'!P37","v":665.55565167228326},{"$f":"'User interface'!L22","v":65.088738886615033},{"$f":"'User interface'!M22","v":""},{"$f":"'User interface'!N22","v":""},{"$f":"'User interface'!O22","v":""},{"$f":"'User interface'!P22","v":""}]
[null,null,null,null,null,"Stems",{"$f":"'User interface'!M5","v":292.88393085907848},{"$f":"'User interface'!L20","v":497.11388333744719},{"$f":"'User interface'!M20","v":""},{"$f":"'User interface'!N20","v":""},{"$f":"'User interface'!O20","v":""},{"$f":"'User interface'!P20","v":""}]
[null,"Pruning","Slope (degrees)",20,null,"Waste/Prod./Clearfell","C",{"$f":"conref2('User interface'!D21)","v":"W"},{"$f":"conref2('User interface'!E21)","v":""},{"$f":"conref2('User interface'!F21)","v":""},{"$f":"conref2('User interface'!G21)","v":""},{"$f":"conref2('User interface'!H21)","v":""}]
[null,"labour","Hindrance (scale: 1-4)",2,null,"Time per tree (min.)",null,{"$f":"wastethintime('User interface'!L21,Summary!D4,$D$26,$D$25)*$D$27","v":1.039789994919466},{"$f":"wastethintime('User interface'!M21,Summary!E4,$D$26,$D$25)*$D$27","v":0},{"$f":"wastethintime('User interface'!N21,Summary!F4,$D$26,$D$25)*$D$27","v":0},{"$f":"wastethintime('User interface'!O21,Summary!G4,$D$26,$D$25)*$D$27","v":0},{"$f":"wastethintime('User interface'!P21,Summary!H4,$D$26,$D$25)*$D$27","v":0}]
[null,null,"Supervision multiplier",1.1000000000000001,null,"Cost",{"$f":"costf1(G21,G19,$D$5,$D$6,G20,$D$7,G22,Overriding!C8)","v":23294.447808529912},{"$f":"costf1(H21,H19,$D$5,$D$6,H20,$D$7,$H$22,Overriding!C6)","v":215.37251759576674},{"$f":"costf1(I21,I19,$D$5,$D$6,I20,$D$7,$I$22,Overriding!D6)","v":0},{"$f":"costf1(J21,J19,$D$5,$D$6,J20,$D$7,$J$22,Overriding!E6)","v":0},{"$f":"costf1(K21,K19,$D$5,$D$6,K20,$D$7,$K$22,Overriding!F6)","v":0},{"$f":"costf1(L21,L19,$D$5,$D$6,L20,$D$7,$L$22,Overriding!G6)","v":0}]
[]
[null,"Waste thin","Slope (degrees)",20,null,"Cost of pruning"]
[null,"labour","Hindrance (scale: 1-4)",2,null,"Age",{"$f":"conref3('User interface'!D11)","v":5.5},{"$f":"conref3('User interface'!E11)","v":6.8},{"$f":"conref3('User interface'!F11)","v":8},{"$f":"conref3('User interface'!G11)","v":""},{"$f":"conref3('User interface'!H11)","v":""}]
[null,null,"Supervision multiplier",1.1000000000000001,null,"Stems",{"$f":"Summary!D30","v":450},{"$f":"Summary!E30","v":350},{"$f":"Summary!F30","v":320},{"$f":"Summary!G30","v":0},{"$f":"Summary!H30","v":0}]
[null,null,null,null,null,"Time per tree (min.)",{"$f":"prunetime(Summary!D25,Summary!D22,Summary!D30,Summary!D26,$D$22,$D$21)*$D$23","v":1.3232976239732006},{"$f":"prunetime(Summary!E25,Summary!E22,Summary!E30,Summary!E26,$D$22,$D$21)*$D$23","v":2.4215035160841625},{"$f":"prunetime(Summary!F25,Summary!F22,Summary!F30,Summary!F26,$D$22,$D$21)*$D$23","v":2.6746934633195645},{"$f":"prunetime(Summary!G25,Summary!G22,Summary!G30,Summary!G26,$D$22,$D$21)*$D$23","v":0},{"$f":"prunetime(Summary!H25,Summary!H22,Summary!H30,Summary!H26,$D$22,$D$21)*$D$23","v":0}]
[null,"Economic results","NPV ($/ha)",{"$f":"EconCalc(G15:L15,G23:L23,G18:L18,G30:L30,G26:L26,D3:D13,'User interface'!D5,D37,Summary!M4:N78,D17,D18,D19)","v":2025.572824229987},null,"Hours worked",{"$f":"prunecosts(D7,D8,G27:K27,G28:K28,Overriding!C5:G5)","v":9.9247321797990047},14.125437177157615,14.265031804371009,0,0]
[null,null,"LEV ($/ha)",2331.9089850648397,null,"Cost",277.89250103437217,395.51224096041324,399.42089052238833,0,0]
[null,null,"Annuity ($/yr)",163.2336289545388]
[null,null,"IRR (%)",9.6584320068359375E-2]
[null,null,"EFGM ($/lsu)",0]
[null,null,"Cost/m3",38.416250729883345]
[null,null,"Labour hours",{"$f":"LabourHours('User interface'!D5,SUM(G29:K29),H20:L20,H22:L22,D17,D18)","v":66.333146408248325}]
[null,null,"Value/m3",{"$f":"SUM(G15:L15)/D37","v":85.059606483869103}]
[null,null,"Merchantable volume",{"$f":"SUM('User interface'!K37:P37)","v":665.55565167228326}]
[]
[null,"Additional costs","Text","Year","Cost ($/ha)"]
[null,null,"Poisoning possums",2,20]
[null,null,"Spraying dothistroma",8,25]

{"sheet":"Multiple runs","index":11,"n_rows":6,"n_cols":69,"rows_kept":6,"cut":false,"hidden":false,"merged":[[0,1,0,33],[3,6,3,8],[3,9,3,11],[3,12,3,14],[3,22,3,29],[3,30,3,35],[3,15,3,17],[3,37,3,46],[3,48,3,57],[3,59,3,68],[3,18,3,20],[2,22,2,35],[2,1,2,20],[3,1,3,5]]}
[null,"Multiple runs"]
[]
[null,"Input",null,null,null,null,null,null,null,null,null,null,null,null,null,null,null,null,null,null,null,null,"Output"]
[null,"Stand",null,null,null,null,"Thin1",null,null,"Thin 2",null,null,"Prune 1",null,null,"Prune 2",null,null,"Prune 3",null,null,null,"Stand",null,null,null,null,null,null,null,"Economics",null,null,null,null,null,null,"Volume by log grades - Clearfelling",null,null,null,null,null,null,null,null,null,null,"Volume by log grades - 1st thinning",null,null,null,null,null,null,null,null,null,null,"Volume by log grades - 2nd thinning"]
[null,"Stand number","300-index","Site index","Rotation age","Initial stocking","Waste/Prod.","Age at thinning","Stems after","Waste/Prod.","Age at thinning","Stems after","Age at pruning","Pruned height","Stems pruned","Age at pruning","Pruned height","Stems pruned","Age at pruning","Pruned height","Stems pruned",null,"DBH (cm)","MTH (m)","Stocking (stem/ha)","Volume (m3/ha)","BIX (cm)","Juvenile %","PLI","Density (g/ccm)","LEV ($/ha)","NPV ($/ha)","EFGM ($/lsu)","IRR","Stumpage ($/ha)","Labour (hs)",null,{"$f":"Clearfell!B2","v":"Pruned"},{"$f":"Clearfell!C2","v":"S1"},{"$f":"Clearfell!D2","v":"S2"},{"$f":"Clearfell!E2","v":"S3"},{"$f":"Clearfell!F2","v":"L1"},{"$f":"Clearfell!G2","v":"L2"},{"$f":"Clearfell!H2","v":"L3"},{"$f":"Clearfell!I2","v":"Pulp"},{"$f":"Clearfell!J2","v":0},{"$f":"Clearfell!K2","v":0},null,{"$f":"AL5","v":"Pruned"},{"$f":"AM5","v":"S1"},"S2","S3","L1","L2","L3","Pulp",0,0,null,{"$f":"AL5","v":"Pruned"},{"$f":"AM5","v":"S1"},"S2","S3","L1","L2","L3","Pulp",0,0]
[null,1,26,28.3,30,800,"W",8.8000000000000007,500,"W",15,300,5.5,2.4,450,6.8,4.5999999999999996,350,8,6,320,null,50.909321130505759,38.562939382088778,288.91082165654439,751.17627751827376,4.9685511606565758,0.32248330139065734,6.4470137307342608,361.04376029346059,2344.35,2036.38,0,9.7431182861328125E-2,32967.93,67.154354279272411,null,196.87081414681157,16.393905001396835,77.112122411986405,76.760849010844424,42.175805062971428,88.633466851290962,55.596756784945583,84.956116620285556]

{"sheet":"Index table","index":12,"n_rows":23,"n_cols":11,"rows_kept":23,"cut":false,"hidden":false,"merged":[[3,2,3,4],[3,5,3,7],[3,8,3,10]]}
[null,"300-index and site index (SI) lookup table showing averages for a selection of permanent "]
[null,"sample plots located throughout New Zealand*"]
[]
[null,"                                ","Farm",null,null,"Forest",null,null,"Sand"]
[null,"Region"," N  ","I300 "," SI  "," N  ","I300 "," SI  "," N  ","I300 "," SI  "]
[null,"Northland",191,28.4,32.4,127,18.100000000000001,26.5,285,18.100000000000001,27.3]
[null,"Auckland",12,30.4,30.7,74,23.7,34,185,19.600000000000001,27.8]
[null,"Waikato",130,29.3,31.7,322,27.6,32.1,52,19.2,25.2]
[null,"Bay of Plenty",193,32.6,32.6,876,27.2,32.5,"    .","    .","    ."]
[null,"Gisborne",57,31.9,34.200000000000003,3,36.9,32.799999999999997,"    .","    .","    ."]
[null,"Hawkes Bay",383,30.3,31.1,153,30.2,29,"    .","    .","    ."]
[null,"Taranaki",17,33.799999999999997,31.6,"    .","    .","    .",2,30.5,30]
[null,"Wanganui/Manawatu",38,27.5,29.5,20,31.6,31.3,77,19.5,24.7]
[null,"Wellington",6,33.200000000000003,32.6,68,26.8,28.3,"    .","    .","    ."]
[null,"Nelson",15,28.5,32.200000000000003,206,23.3,29.3,"    .","    .","    ."]
[null,"Marlborough",134,23.7,26.6,110,25.6,29.3,"    .","    .","    ."]
[null,"Canterbury",55,26.2,24.5,293,18.2,23.7,"    .","    .","    ."]
[null,"West Coast",1,25.1,31.4,99,21.8,28,"    .","    .","    ."]
[null,"Otago",152,27.4,26.4,140,26.1,25.4,"    .","    .","    ."]
[null,"Southland",81,25.7,25.5,51,26.5,25.6,"    .","    .","    ."]
[null,"New Zealand",1465,29,30.2,2542,25.2,29.8,601,18.899999999999999,26.9]
[]
[null,"*Based on 4,608 PSPs in stands established from 1975, aged 7 or more years, with known previous cover (pasture or forest/scrub)"]

{"sheet":"Wood density","index":13,"n_rows":43,"n_cols":6,"rows_kept":43,"cut":false,"hidden":false,"merged":[]}
[null,"Breast height outerwood density lookup tables"]
[]
[null,"Regional average breast height outerwood (50mm core) basic densities (kg/m3) at age 27"]
[null,null,"Auckland",null,499.5]
[null,null,"Rotorua",null,463.5]
[null,null,"Wellington",null,438.5]
[null,null,"Nelson",null,464.5]
[null,null,"Westland",null,443.5]
[null,null,"Canterbury",null,429.5]
[null,null,"Southland",null,424]
[null,"Values are from FRI Bulletin 50 (Cown, McConchie & Young 1991) & are for rings 16-25 for typical forest sites."]
[null,"On fertile farm sites, densities are lower (typically by 20-30 kg/m3). Density can also be influenced by stocking & genetics."]
[]
[]
[]
[null,"Average, upper and lower limits for outerwood density by age"]
[null,null,"Age (yrs)","Low Density","Average Density","High Density"]
[null,null,10,{"$f":"E18-46.9*0.842","v":326.77883597006513},{"$f":"500-298*0.923^C18","v":366.26863597006513},{"$f":"E18+46.9*0.842","v":405.75843597006514}]
[null,null,11,{"$f":"E19-46.9*0.842","v":337.07615100037009},{"$f":"500-298*0.923^C19","v":376.56595100037009},{"$f":"E19+46.9*0.842","v":416.05575100037009}]
[null,null,12,346.58057277334154,386.07037277334155,425.56017277334155]
[null,null,13,355.35315406979424,394.84295406979425,434.33275406979425]
[null,null,14,363.45024660642014,402.94004660642014,442.42984660642014]
[null,null,15,370.92386301772575,410.41366301772575,449.90346301772576]
[null,null,16,377.8220109653609,417.31181096536091,456.80161096536091]
[null,null,17,384.18900152102805,423.67880152102805,463.16860152102805]
[null,null,18,390.06573380390893,429.55553380390893,469.04533380390893]
[null,null,19,395.48995770100794,434.97975770100794,474.46955770100794]
[null,null,20,400.49651635803031,439.98631635803031,479.47611635803031]
[null,null,21,405.11756999846199,444.60736999846199,484.09716999846199]
[null,null,22,409.38280250858043,448.87260250858043,488.36240250858043]
[null,null,23,413.31961211541972,452.80941211541972,492.29921211541972]
[null,null,24,416.95328738253238,456.44308738253238,495.93288738253239]
[null,null,25,420.30716965407737,459.79696965407737,499.28676965407737]
[null,null,26,423.40280299071344,462.89260299071344,502.38240299071344]
[null,null,27,426.26007256042851,465.74987256042851,505.23967256042852]
[null,null,28,428.8973323732755,468.38713237327551,507.87693237327551]
[null,null,29,431.33152318053328,470.82132318053328,510.31112318053329]
[null,null,30,433.57828129563222,473.06808129563223,512.55788129563223]
[null,null,31,435.65203903586854,475.14183903586854,514.63163903586849]
[null,null,32,437.56611743010666,477.05591743010666,516.54571743010661]
[null,null,33,439.33281178798842,478.82261178798842,518.31241178798837]
[null,null,34,440.96347068031332,480.45327068031332,519.94307068031333]
[null,null,35,442.46856883792918,481.95836883792919,521.44816883792919]

{"sheet":"Ht-Age table","index":14,"n_rows":55,"n_cols":14,"rows_kept":55,"cut":false,"hidden":false,"merged":[[7,1,7,13],[7,0,8,0],[0,0,0,13],[1,0,1,13],[3,0,3,1]]}
["National Height/Age Table for Pinus radiata in New Zealand"]
["Displays values for Mean Top Height (MTH) for a given Site Index (SI) and age"]
[null,null,null,null,null,null,"This sheet is 'stand-alone' - values for site index estimated here do not link to the user interface"]
["Site values:"]
["Latitude (0S)",36]
["Altitude (m)",250]
[]
["Age (yrs)","Site Index- MTH (m) at age 20 years"]
[null,16,18,20,22,24,26,28,30,32,34,36,38,40]
[5,{"$f":"minasmth(B$9,$B$5,$B$6,$A10)","v":3.1514933924546544},3.6161761618312935,4.1019291904587298,4.6085250956796724,5.1357262297199266,5.683286177189582,6.2509511157325726,6.8384610506588048,7.4455509336977981,8.0719516753306522,8.7173910594957658,9.3815945688286462,10.064286127991044]
[6,4.0282004270117699,4.6134908878122181,5.2213649624740821,5.8514442452532345,6.5033483483847094,7.1766960640933197,7.8711063880672185,8.586199418377765,9.3215971425122142,10.076924123980632,10.851808098858072,11.645880491620664,12.458776858722768]
[7,4.939105903664001,5.6454865462871169,6.375166703270521,7.1276416640554343,7.9024134274319611,8.69899134969641,9.5168926777546208,10.355642981353698,11.214776497000317,12.093836394680501,12.992374977214064,13.909953820939263,14.846143865413936]
[8,5.8694161589996066,6.6959059854565686,7.5457325940339786,8.4182940599214362,9.3130033279179276,10.229288266190242,11.166591645503971,12.124371055836628,13.102098770675957,14.099261567909554,15.11536051499734,16.149910725062306,17.202441089616983]
[9,6.8074563039823035,7.7520256680819735,8.7193994715269909,9.7089088089386664,10.71990667003011,11.751767395615463,12.803886108631655,13.875678128075705,14.966578372443767,16.076040758138944,17.203537597364562,18.348558999212631,19.510612276973145]
[10,7.7439791363748629,8.8038467826767679,9.8855144001772892,10.988275558675458,12.111451257192462,13.254388835749902,14.416460913767589,15.597064358025117,16.795619282293682,18.011568080060115,19.24437449120834,20.493522703072571,21.758516485913976]
[11,8.6716656532270715,9.8435172432428306,11.035778069474404,12.247731742296693,13.478693165177551,14.728006994959973,15.995046176898409,17.279210552195778,18.579925535529345,19.896640859882197,21.228829385894681,22.575985972901673,23.937626408815792]
[12,9.5847494966306321,10.864901440753048,12.163760486392295,13.480625357999328,14.814828212890678,16.165732767590136,17.532732539456269,18.915249196502291,20.312731008652225,21.724651394025631,23.150507554193833,24.589819192698325,26.042127311461801]
[13,10.478726393222098,11.863250294857265,13.264532571610726,14.681909368064829,16.114750709359406,17.562458424691158,19.024464216164926,20.500227861885588,21.989235543057699,23.490998285673871,25.00505050812458,26.530948666755492,28.068269992036832]
[14,11.350124547423343,12.834942550313425,14.334379382065761,15.847828078296288,17.374714399717917,18.91449468888198,20.466653890081172,22.030703718444837,23.606180965564842,25.192645930167838,26.789680963410603,28.396889119330815,30.013892901847807]
[15,{"$f":"minasmth(B$9,$B$5,$B$6,$A20)","v":12.196320291923243},13.777278501860206,15.370572922840964,16.975670180274815,18.592066990708439,20.21928808658582,21.856884308800993,23.504430851600386,25.161525645973438,26.827787869075109,28.50285656847306,30.186389391124113,31.878061407975803]
[16,13.015388270276725,14.688313394803229,16.371189719981594,18.063571530332517,19.765039234070663,21.475197484883008,23.193673462710663,24.920115298128358,26.654190626588729,28.395585260271115,30.1440019665731,31.899159343429488,33.660790782657749]
[17,13.805978544870849,15.566721528327234,17.334962794192155,19.110355914344051,20.892575437796314,22.68131532968971,24.476287547349713,26.27722073960064,28.083859057092148,29.895961062761231,31.713298732751436,33.535656539163398,35.362830606936271]
[18,14.567215066101058,16.411684548608946,18.261160567189567,20.115405379580917,21.97419605093997,23.837323319530082,25.704590565030106,27.575812868802622,29.45081615670534,31.329436416114973,33.21151897977925,35.096917869940292,36.985495196897091]
[19,15.298611326821547,17.222799079962286,19.149487174016496,21.078553940542076,23.00988547784366,24.943375041061554,26.878922488837695,28.816433780529877,30.755820518668429,32.696999531976687,34.639892494821268,36.584425579432896,38.530529137652195]
[20,16,18,20,22,24,26,28,30,32,34,36,38,40]
[21,16.671474059657157,18.743496494092362,20.81304121919711,22.880233913600758,24.945191898430011,27.008024820576011,29.068835270014624,31.127719338487289,33.184767125939153,35.240063200325878,37.293687015722199,39.345713293077971,41.396212367457167]
[22,17.313337403572657,19.453718632725288,21.58918081000704,23.719977915195283,25.846346746779133,27.968508350071964,30.086669305260465,32.201022891153187,34.311750138396881,36.419020784213693,38.522994139233667,40.623819875719484,42.721638745373454]
[23,17.926063386949298,20.131272670933477,22.329169044052506,24.52013620457025,26.704531492434199,28.88268811263756,31.054917137427058,33.2215093125848,35.382736689778099,37.538854104195963,39.690100514303055,41.836700218482633,43.978863961559803]
[24,18.510259976028742,20.776903616393167,23.033896839115823,25.281753440335788,27.520951429121077,29.751936086061434,31.975122713802151,34.190899115082246,36.399627829228791,38.601648154109363,40.797277977151928,42.986815436121162,45.17054042781924]
[25,{"$f":"minasmth(B$9,$B$5,$B$6,$A30)","v":19.066640464316077},21.391463881908113,23.704362671059659,26.005980219002083,28.296914535658651,30.577722177863777,32.848921773908003,35.110997195038784,37.364400414439416,39.609554088985604,41.846853894600315,44.076670642177589,46.299352197727984]
[26,19.595998878683574,21.975887049447248,24.341644977348423,26.694044384409001,29.033801943081279,31.361584087782251,33.678011331459679,35.983662145485347,38.279076453466864,40.564758782990609,42.841181113675034,45.108785455077737,47.367986183837324]
[27,20.099189350221938,22.531165940996683,24.946879172837725,27.347227218926431,29.733043517894544,32.105102486540218,34.464124639554527,36.810781186692488,39.145698168439225,41.469460183220349,43.782613752362131,46.085670363139386,48.37910922520549]
[28,20.577108843940429,23.058334326576944,25.521238548904808,27.966843732896148,30.396097728151116,32.809880632707824,35.209010720981169,37.594249761758427,39.96630779805264,42.325847451136788,44.673487802984717,47.009807904411133,49.335349950247981]
[29,21.030682738608707,23.558451709345938,26.065918448438776,28.55422640151447,31.024435102374461,33.477527702689507,35.914417707861588,38.335955014722984,40.74293133382281,43.136085068057191,45.516105710017797,47.883637812406349,50.239284578977362]
[30,21.460852827886242,24.032590717309958,26.582123208100558,29.110711806011469,31.619524707205873,34.109645232294241,36.582079365191611,39.037762505357755,41.477565527236202,43.902300228170496,46.312724235388444,48.709545433508396,51.093425966191354]
[31,21.868567379945191,24.481826704962927,27.071055440383475,29.637629723968118,32.182823164006031,34.707816168551879,37.213704278363899,39.701505625061486,42.172167619425565,44.626572960668739,47.065545045495782,49.489852845520282,51.900215312821032]
[32,22.254772947773432,24.907229229340707,27.533907294985845,30.136294286005544,32.715765802025054,35.273596112371131,37.810967270789057,40.328977267963303,42.828647337848842,45.310928518159066,47.776707552027929,50.226812206488454,52.662016073675908]
[33,22.620407668344811,25.309855115953486,27.971853394628454,30.607996875997742,33.219759609603464,35.808506400042553,38.375502688319195,40.921923384725829,43.448860780261889,45.957331646377291,48.448283618181129,50.922600943764529,53.381109671604982]
[34,22.966395827509015,25.690742872750793,28.386045186874277,31.054000501811405,33.696177697834848,36.314028727357019,38.908899245426362,41.482038106951876,44.034605868535813,46.567682414022798,49.082273806919027,51.579318459237733,54.05969269470679]
[35,{"$f":"minasmth(B$9,$B$5,$B$6,$A40)","v":23.293643500084283},26.050908246178686,28.777606492427815,31.475535405246898,34.146355035272407,36.791601066473312,39.412696176394284,42.010960180081554,44.587619106268207,47.14381333409235,49.680604901375595,52.198984080800358,54.699875307778306]
[36,23.603035102271214,26.391340743698759,29.14763006314876,31.873795714827278,34.571585249219289,37.242614664380895,39.888380475021862,42.510270484210857,45.109573416767212,47.687487551591573,50.245128471671926,52.783536034739583,55.303680654094038]
[37,23.895430716983093,26.713000972810594,29.497174990680382,32.249936974541626,34.973118320195802,37.668411944254409,40.337385039991695,42.981490456933237,45.602076873490489,48.200397908661635,50.777620299058718,53.334831250707751,55.873045060723328]
[38,24.171664072685022,27.0168186684236,29.82726483002839,32.605074406540048,35.352159022352112,38.07028515828771,40.761087571300095,43.426081261342091,46.066672164696357,48.684166728323433,51.279780498807995,53.854645841644995,56.409818891393208]
[39,24.432541073408245,27.303691298991431,30.1388863223318,32.940281786870429,35.709865984725241,38.449475663619594,41.160810086923426,43.84544356672896,46.504836658950154,49.140346183291626,51.753234208772575,54.344676126652885,56.915767916550436]
[40,24.678838792212105,27.574483157665888,30.432988618012502,33.256590831260887,36.047351266994802,38.807173712435421,41.537818948965089,44.240917830065229,46.917982959055067,49.570419137505773,52.199532731894323,54.806540086253037,57.392575091692954]
[41,24.911304852884022,27.830024858273166,30.71048291594521,33.554991003201046,36.365680359323136,39.144518663836841,41.893325305509869,44.613784983713543,47.307459849618887,49.975800365862277,52.620155038889848,55.241779157442998,57.841842652974805]
[42,25.130657135411134,28.071113167514625,30.972242446640436,33.836429669577576,36.665872529423616,39.462599539093091,42.228485868809599,44.965267449505767,47.674553558372132,50.35783807267407,53.016509552453044,55.651860291073376,58.265094454137042]
[43,25.337583749989392,28.298511114740606,31.219102738002274,34.101812540223534,36.948901451556907,39.762455853816718,42.544403962651316,45.296530411778136,48.020489263966809,50.717815642095204,53.389936147060354,56.03817820679599,58.663778481470047]
[44,25.532743232277262,28.512948329184141,31.451862111277638,34.352004337236963,37.215696062019539,40.045078670770934,42.842130782159423,45.608683292529385,48.346432793677621,51.056953564502635,53.741708309232834,56.402057791566506,59.039269494166206]
[45,{"$f":"minasmth(B$9,$B$5,$B$6,$A50)","v":25.716764919438425},28.715121561877751,31.671282362579149,34.587829648052463,37.467141594117237,40.311411825685596,43.122666818138676,45.902781380856922,48.653492463501316,51.37641149194134,54.07303541221831,56.744756596749482,59.39287174640458]
[46,25.890249472407628,28.905695355784683,31.878089592028974,34.810073923213089,37.70408075282436,40.562353285861192,43.386963405613486,46.179827576475589,48.942721020858819,51.677290383467259,54.38506506676918,57.067467396535633,59.725821755088397]
[47,26.053769514890401,29.085302833102947,32.07297514829429,35.01948458576048,37.927314995499913,40.798756607664409,43.635924362656638,46.440774213637035,49.215117656657959,51.960634707782148,54.678885516225975,57.371320776861793,60.03929108355625]
[48,26.207870363983723,29.254546573370682,32.256596661202366,35.216772224280255,38.137605890312074,41.021432464424173,43.870407691094506,46.686524937316534,49.471630059047605,52.227434676123494,54.955528049655364,57.657387729507263,60.334389116992895]
[49,26.353070831078504,29.413999560021715,32.429579139348377,35.402611846032642,38.335676528547125,41.231150220859064,44.091227315365302,46.917936608262686,49.713156485935556,52.478628483102149,55.215969411486242,57.926682230679965,60.612165809830806]
[50,26.489864074958174,29.56420617649977,32.59251611323954,35.577644170365168,38.522212970851605,41.428639534117572,44.299154839808082,47.135821217533547,49.940547837374304,52.715104537195309,55.461134190066147,58.180163787330379,60.87361438928707]

{"sheet":"PLI","index":15,"n_rows":2,"n_cols":2,"rows_kept":2,"cut":false,"hidden":false,"merged":[]}
[null,"Pruned log Index (PLI) description "]
[null,"(background information only)"]

{"sheet":"Annual growth","index":16,"n_rows":33,"n_cols":2,"rows_kept":33,"cut":false,"hidden":false,"merged":[]}
[]
[]
[]
[]
[]
[]
[]
[]
[]
[]
[]
[]
[]
[]
[]
[]
[]
[]
[]
[]
[]
[]
[]
[]
[]
[]
[]
[]
[]
[]
[]
[]
[null,"From Jackson et al NZ Journal of Forestry Science, 1976 5(3) pp 265-286"]

{"sheet":"Default","index":17,"n_rows":42,"n_cols":8,"rows_kept":42,"cut":false,"hidden":false,"merged":[[37,1,41,1],[0,1,0,7],[2,1,7,1],[9,1,14,1],[16,1,21,1]]}
[null,"Default settings"]
[]
[null,"Stand information","300-index",26]
[null,null,"Site index (m)",28.3,"Survival"]
[null,null,"Number of stems planted",850,0.95]
[null,null,"Rotation age (years)",30]
[null,null,"Altitude",300]
[null,null,"Latitude",40]
[]
[null,"Prunings",null,"Prune 1","Prune 2","Prune 3","Prune 4","Prune 5"]
[null,null,"Time of pruning (years)",5.5,6.8,8]
[null,null,"Pruned height (m)",2.4,4.5999999999999996,6]
[null,null,"Stems per hectare",450,350,320]
[null,null,"Target DOS (cm)"]
[null,null,"Target green crown length (m)"]
[]
[null,"Thinnings",null,"Thin 1","Thin 2","Thin 3","Thin 4","Thin 5"]
[null,null,"Age at thinning (years)",8.8000000000000007]
[null,null,"SPH after thinning",307]
[null,null,"Thinning coefficient",0.78]
[null,null,"Production or waste (P/W)","W"]
[null,null,"Target final crop stocking",270]
[]
[null,"Financial","Annual fixed costs ($/ha)",46,null,"Model Adjustments"]
[null,null,"Establishment costs (cents/tree)",50,null,"Mort +",0]
[null,null,"Clearfell Logging Cost ($/m3)",35,null,"Mort x",0]
[null,null,"Production Thin Log. Cost ($/m3)",45,null,"Drift",0]
[null,null,"Labour Cost ($/hr)",25]
[null,null,"Labour Supervision (%)",12]
[null,null,"Discount rate (%)",7]
[]
[null,"Land & livestock","Land Value ($/ha)",0]
[null,null,"Livestock Carrying Capacity",0]
[null,null,"Livestock capital value ($/LSU)",0]
[null,null,"Livestock Gross Margin",0]
[null,null,"Understorey grazing (Y/N)","N"]
[]
[null,"Log quality","Clearfell Conversion (%)",85]
[null,null,"Thinning Conv. Reduction (%)",10]
[null,null,"B.H. Outerwood  Density (kg/m3)",410]
[null,null,"Density measurement age (yrs)",15]
[null,null,"Pruned log sweep (mm/m)",8]

{"sheet":"Original Defaults","index":18,"n_rows":42,"n_cols":8,"rows_kept":42,"cut":false,"hidden":true,"merged":[[37,1,41,1],[0,1,0,7],[2,1,7,1],[9,1,14,1],[16,1,21,1]]}
[null,"Default settings"]
[]
[null,"Stand information","300-index",26]
[null,null,"Site index (m)",28.3,"Survival"]
[null,null,"Number of stems planted",850,0.95]
[null,null,"Rotation age (years)",30]
[null,null,"Altitude",300]
[null,null,"Latitude",40]
[]
[null,"Prunings",null,"Prune 1","Prune 2","Prune 3","Prune 4","Prune 5"]
[null,null,"Time of pruning (years)",5.5,6.8,8]
[null,null,"Pruned height (m)",2.4,4.5999999999999996,6]
[null,null,"Stems per hectare",450,350,320]
[null,null,"Target DOS (cm)"]
[null,null,"Target green crown length (m)"]
[]
[null,"Thinnings",null,"Thin 1","Thin 2","Thin 3","Thin 4","Thin 5"]
[null,null,"Age at thinning (years)",8.8000000000000007]
[null,null,"SPH after thinning",307]
[null,null,"Thinning coefficient",0.78]
[null,null,"Production or waste (P/W)","W"]
[null,null,"Target final crop stocking",270]
[]
[null,"Financial","Annual fixed costs ($/ha)",0]
[null,null,"Establishment costs (cents/tree)",50]
[null,null,"Clearfell Logging Cost ($/m3)",35]
[null,null,"Production Thin Log. Cost ($/m3)",45]
[null,null,"Labour Cost ($/hr)",25]
[null,null,"Labour Supervision (%)",12]
[null,null,"Discount rate (%)",7]
[]
[null,"Land & livestock","Land Value ($/ha)",0]
[null,null,"Livestock Carrying Capacity",8]
[null,null,"Livestock capital value ($/LSU)",85]
[null,null,"Livestock Gross Margin",45]
[null,null,"Understorey grazing (Y/N)","y"]
[]
[null,"Log quality","Clearfell Conversion (%)",85]
[null,null,"Thinning Conv. Reduction (%)",10]
[null,null,"B.H. Outerwood  Density (kg/m3)",410]
[null,null,"Density measurement age (yrs)",15]
[null,null,"Pruned log sweep (mm/m)",8]

{"sheet":"Change","index":19,"n_rows":42,"n_cols":17,"rows_kept":42,"cut":false,"hidden":true,"merged":[]}
[null,null,null,null,null,null,null,null,"SUM",{"$f":"SUM(J3:N42)","v":0},null,null,null,null,null,"To check that log specs correspond to pruning"]
[null,null,null,null,null,null,null,null,null,null,null,null,null,null,null,{"$f":"MAX('User interface'!D12:H12)","v":6},"Max pruned height"]
[null,null,null,26,null,null,null,null,null,{"$f":"IF(D3='User interface'!D3,0,1)","v":0},{"$f":"IF(E3='User interface'!E3,0,1)","v":0},null,null,null,null,{"$f":"'Log specs'!C6","v":4.2},"Log length minimum"]
[null,null,null,28.3,"Survival",null,null,null,null,{"$f":"IF(D4='User interface'!D4,0,1)","v":0},{"$f":"IF(E4='User interface'!E4,0,1)","v":0},null,null,null,null,{"$f":"'Log specs'!C7","v":5.5},"Log length meximum"]
[null,null,null,850,0.95,null,null,null,null,{"$f":"IF(D5='User interface'!D5,0,1)","v":0},{"$f":"IF(E5='User interface'!E5,0,1)","v":0}]
[null,null,null,30,null,null,null,null,null,{"$f":"IF(D6='User interface'!D6,0,1)","v":0},{"$f":"IF(E6='User interface'!E6,0,1)","v":0},null,null,null,null,{"$f":"IF(AND(P2<>0,ABS(P2-P4)>1),1,0)","v":0}]
[null,null,null,300,null,"PUSH RUN TO UPDATE",null,null,null,{"$f":"IF(D7='User interface'!D7,0,1)","v":0}]
[null,null,null,40,null,null,null,null,null,{"$f":"IF(D8='User interface'!D8,0,1)","v":0}]
[]
[null,null,null,"Prune 1","Prune 2","Prune 3","Prune 4","Prune 5"]
[null,null,null,5.5,6.8,8,null,null,null,{"$f":"IF(D11='User interface'!D11,0,1)","v":0},{"$f":"IF(E11='User interface'!E11,0,1)","v":0},{"$f":"IF(F11='User interface'!F11,0,1)","v":0},{"$f":"IF(G11='User interface'!G11,0,1)","v":0},{"$f":"IF(H11='User interface'!H11,0,1)","v":0}]
[null,null,null,2.4,4.5999999999999996,6,null,null,null,{"$f":"IF(D12='User interface'!D12,0,1)","v":0},{"$f":"IF(E12='User interface'!E12,0,1)","v":0},{"$f":"IF(F12='User interface'!F12,0,1)","v":0},{"$f":"IF(G12='User interface'!G12,0,1)","v":0},{"$f":"IF(H12='User interface'!H12,0,1)","v":0}]
[null,null,null,450,350,320,null,null,null,{"$f":"IF(D13='User interface'!D13,0,1)","v":0},{"$f":"IF(E13='User interface'!E13,0,1)","v":0},{"$f":"IF(F13='User interface'!F13,0,1)","v":0},{"$f":"IF(G13='User interface'!G13,0,1)","v":0},{"$f":"IF(H13='User interface'!H13,0,1)","v":0}]
[]
[]
[]
[null,null,null,"Thin 1","Thin 2","Thin 3","Thin 4","Thin 5"]
[null,null,null,8.8000000000000007,null,null,null,null,null,{"$f":"IF(D18='User interface'!D18,0,1)","v":0},{"$f":"IF(E18='User interface'!E18,0,1)","v":0},{"$f":"IF(F18='User interface'!F18,0,1)","v":0},{"$f":"IF(G18='User interface'!G18,0,1)","v":0},{"$f":"IF(H18='User interface'!H18,0,1)","v":0}]
[null,null,null,307,null,null,null,null,null,{"$f":"IF(D19='User interface'!D19,0,1)","v":0},{"$f":"IF(E19='User interface'!E19,0,1)","v":0},{"$f":"IF(F19='User interface'!F19,0,1)","v":0},{"$f":"IF(G19='User interface'!G19,0,1)","v":0},{"$f":"IF(H19='User interface'!H19,0,1)","v":0}]
[null,null,null,0.78,null,null,null,null,null,{"$f":"IF(D20='User interface'!D20,0,1)","v":0},{"$f":"IF(E20='User interface'!E20,0,1)","v":0},{"$f":"IF(F20='User interface'!F20,0,1)","v":0},{"$f":"IF(G20='User interface'!G20,0,1)","v":0},{"$f":"IF(H20='User interface'!H20,0,1)","v":0}]
[null,null,null,"W",null,null,null,null,null,{"$f":"IF(D21='User interface'!D21,0,1)","v":0},{"$f":"IF(E21='User interface'!E21,0,1)","v":0},{"$f":"IF(F21='User interface'!F21,0,1)","v":0},{"$f":"IF(G21='User interface'!G21,0,1)","v":0},{"$f":"IF(H21='User interface'!H21,0,1)","v":0}]
[null,null,null,270]
[]
[null,null,null,46,null,"Model Adjustments",null,null,null,{"$f":"IF(D24='User interface'!D24,0,1)","v":0}]
[null,null,null,50,null,"Mort +",0,null,null,{"$f":"IF(D25='User interface'!D25,0,1)","v":0}]
[null,null,null,35,null,"Mort x",0,null,null,{"$f":"IF(D26='User interface'!D26,0,1)","v":0}]
[null,null,null,45,null,"Drift",0,null,null,{"$f":"IF(D27='User interface'!D27,0,1)","v":0}]
[null,null,null,25,null,null,null,null,null,{"$f":"IF(D28='User interface'!D28,0,1)","v":0}]
[null,null,null,12,null,null,null,null,null,{"$f":"IF(D29='User interface'!D29,0,1)","v":0}]
[null,null,null,7,null,"Calibrate indices",null,null,null,{"$f":"IF(D30='User interface'!D30,0,1)","v":0}]
[null,null,null,null,null,"Age (years)",null,12]
[null,null,null,0,null,"Stocking (sph)",null,300,null,{"$f":"IF(D32='User interface'!D32,0,1)","v":0}]
[null,null,null,0,null,"DBH (cm)",null,null,null,{"$f":"IF(D33='User interface'!D33,0,1)","v":0}]
[null,null,null,0,null,"Basal area (m2/ha)",null,18,null,{"$f":"IF(D34='User interface'!D34,0,1)","v":0}]
[null,null,null,0,null,"Volume (m3/ha)",null,null,null,{"$f":"IF(D35='User interface'!D35,0,1)","v":0}]
[null,null,null,"N",null,"MTH (m)",null,18,null,{"$f":"IF(D36='User interface'!D36,0,1)","v":0}]
[null,null,null,null,null,"MH (m)"]
[null,null,null,85,null,null,null,null,null,{"$f":"IF(D38='User interface'!D38,0,1)","v":0}]
[null,null,null,10,null,null,null,null,null,{"$f":"IF(D39='User interface'!D39,0,1)","v":0}]
[null,null,null,410,null,null,null,null,null,{"$f":"IF(D40='User interface'!D40,0,1)","v":0}]
[null,null,null,15,null,null,null,null,null,{"$f":"IF(D41='User interface'!D41,0,1)","v":0}]
[null,null,null,8,null,null,null,null,null,{"$f":"IF(D42='User interface'!D42,0,1)","v":0}]

{"sheet":"Summary","index":20,"n_rows":78,"n_cols":21,"rows_kept":78,"cut":false,"hidden":true,"merged":[[1,9,1,14],[31,1,31,7]]}
[]
[null,null,null,"Thin 1","Thin 2","Thin 3","Thin 4","Thin 5",null,"Pasture production",null,null,null,null,null,"Time","Weighted","Average"]
[null,null,"Age",{"$f":"conref3('User interface'!D18)","v":8.8000000000000007},{"$f":"conref3('User interface'!E18)","v":""},{"$f":"conref3('User interface'!F18)","v":""},{"$f":"conref3('User interface'!G18)","v":""},{"$f":"conref3('User interface'!H18)","v":""},null,"Age","Full PP","Slash","Time","Value","Full - slash",{"$f":"MAX(J4:J78)","v":30},{"$f":"SUM(Q4:Q78)","v":365.9773177921416},{"$f":"IF(ISERROR(Q3/P3),0,Q3/P3)","v":12.199243926404721},null,"Age","Crown closure"]
[null,null,"SPHb4",{"$f":"IF(D3<>\"\",atage2(D3,'300 Index'!$G$5:$G$105,'300 Index'!$H$5:$H$105),\"\")","v":804.11388333744719},{"$f":"IF(E3<>\"\",atage2(E3,'300 Index'!$G$5:$G$105,'300 Index'!$H$5:$H$105),\"\")","v":""},{"$f":"IF(F3<>\"\",atage2(F3,'300 Index'!$G$5:$G$105,'300 Index'!$H$5:$H$105),\"\")","v":""},{"$f":"IF(G3<>\"\",atage2(G3,'300 Index'!$G$5:$G$105,'300 Index'!$H$5:$H$105),\"\")","v":""},{"$f":"IF(H3<>\"\",atage2(H3,'300 Index'!$G$5:$G$105,'300 Index'!$H$5:$H$105),\"\")","v":""},null,{"$f":"ppcalc('300 Index'!G5:G106,'300 Index'!N5:N106,'300 Index'!J5:J106,'300 Index'!H5:H106,'300 Index'!K5:K106)","v":0},100,{"$f":"slashcalc(D18:H30,D3:H15,J4:J78)","v":0},{"$f":"ppvalue(J4:J78,K4:K78,L4:L78,Economics!D14,Economics!D12,'User interface'!D36)","v":0},0,0,{"$f":"J4","v":0},{"$f":"P4*O4","v":0},null,null,{"$f":"CCcalcPub('300 Index'!G5:G106,'300 Index'!N5:N106,'300 Index'!J5:J106,'300 Index'!H5:H106,'300 Index'!K5:K106)","v":0},0]
[null,null,"SPHaft",{"$f":"conref3('User interface'!D19)","v":307},{"$f":"conref3('User interface'!E19)","v":""},{"$f":"conref3('User interface'!F19)","v":""},{"$f":"conref3('User interface'!G19)","v":""},{"$f":"conref3('User interface'!H19)","v":""},null,1,100,0,0,0,0,{"$f":"J5-J4","v":1},{"$f":"P5*O5","v":0},null,null,1,0]
[null,null,"SPHdif",{"$f":"IF(D5<>\"\",D4-D5,\"\")","v":497.11388333744719},{"$f":"IF(E5<>\"\",E4-E5,\"\")","v":""},{"$f":"IF(F5<>\"\",F4-F5,\"\")","v":""},{"$f":"IF(G5<>\"\",G4-G5,\"\")","v":""},{"$f":"IF(H5<>\"\",H4-H5,\"\")","v":""},null,2,99.997542045943661,0,0,0,0,{"$f":"J6-J5","v":1},0,null,null,2,1.3266569817193671E-3]
[null,null,"Volb4",{"$f":"IF(D3<>\"\",atage2(D3,'300 Index'!$G$5:$G$105,'300 Index'!$L$5:$L$105),\"\")","v":105.31424784639131},{"$f":"IF(E3<>\"\",atage2(E3,'300 Index'!$G$5:$G$105,'300 Index'!$L$5:$L$105),\"\")","v":""},{"$f":"IF(F3<>\"\",atage2(F3,'300 Index'!$G$5:$G$105,'300 Index'!$L$5:$L$105),\"\")","v":""},{"$f":"IF(G3<>\"\",atage2(G3,'300 Index'!$G$5:$G$105,'300 Index'!$L$5:$L$105),\"\")","v":""},{"$f":"IF(H3<>\"\",atage2(H3,'300 Index'!$G$5:$G$105,'300 Index'!$L$5:$L$105),\"\")","v":""},null,3,98.919750571584984,0,0,0,0,1,0,null,null,3,0.58406315625885841]
[null,null,"Volaft",{"$f":"IF(D3<>\"\",atage2(D3,'300 Index'!$G$5:$G$105,'300 Index'!$M$5:$M$105),\"\")","v":40.225508959776271},{"$f":"IF(E3<>\"\",atage2(E3,'300 Index'!$G$5:$G$105,'300 Index'!$M$5:$M$105),\"\")","v":""},{"$f":"IF(F3<>\"\",atage2(F3,'300 Index'!$G$5:$G$105,'300 Index'!$M$5:$M$105),\"\")","v":""},{"$f":"IF(G3<>\"\",atage2(G3,'300 Index'!$G$5:$G$105,'300 Index'!$M$5:$M$105),\"\")","v":""},{"$f":"IF(H3<>\"\",atage2(H3,'300 Index'!$G$5:$G$105,'300 Index'!$M$5:$M$105),\"\")","v":""},null,4,91.012731454797049,0,0,0,{"$f":"K8*(1-L8)","v":91.012731454797049},1,91.012731454797049,null,null,4,4.9226058746622563]
[null,null,"VolDif",{"$f":"IF(D8<>\"\",D7-D8,\"\")","v":65.088738886615033},{"$f":"IF(E8<>\"\",E7-E8,\"\")","v":""},{"$f":"IF(F8<>\"\",F7-F8,\"\")","v":""},{"$f":"IF(G8<>\"\",G7-G8,\"\")","v":""},{"$f":"IF(H8<>\"\",H7-H8,\"\")","v":""},null,5,71.994885945312006,0,0,0,71.994885945312006,1,71.994885945312006,null,null,5,15.861208209083086]
[null,null,"BAb4",{"$f":"IF(D3<>\"\",atage2(D3,'300 Index'!$G$5:$G$105,'300 Index'!$N$5:$N$105),\"\")","v":23.427110663165131},{"$f":"IF(E3<>\"\",atage2(E3,'300 Index'!$G$5:$G$105,'300 Index'!$N$5:$N$105),\"\")","v":""},{"$f":"IF(F3<>\"\",atage2(F3,'300 Index'!$G$5:$G$105,'300 Index'!$N$5:$N$105),\"\")","v":""},{"$f":"IF(G3<>\"\",atage2(G3,'300 Index'!$G$5:$G$105,'300 Index'!$N$5:$N$105),\"\")","v":""},{"$f":"IF(H3<>\"\",atage2(H3,'300 Index'!$G$5:$G$105,'300 Index'!$N$5:$N$105),\"\")","v":""},null,5.5,65.389870267150727,0.3114879333242887,0,0,45.021714717292596,0.5,22.510857358646298,null,null,5.5,19.848243668139705]
[null,null,"BAaft",{"$f":"IF(D3<>\"\",atage2(D3,'300 Index'!$G$5:$G$105,'300 Index'!$O$5:$O$105),\"\")","v":8.9481477497454325},{"$f":"IF(E3<>\"\",atage2(E3,'300 Index'!$G$5:$G$105,'300 Index'!$O$5:$O$105),\"\")","v":""},{"$f":"IF(F3<>\"\",atage2(F3,'300 Index'!$G$5:$G$105,'300 Index'!$O$5:$O$105),\"\")","v":""},{"$f":"IF(G3<>\"\",atage2(G3,'300 Index'!$G$5:$G$105,'300 Index'!$O$5:$O$105),\"\")","v":""},{"$f":"IF(H3<>\"\",atage2(H3,'300 Index'!$G$5:$G$105,'300 Index'!$O$5:$O$105),\"\")","v":""},null,6,53.494970009511775,0.20765862221619247,0,0,42.386278241840024,0.5,21.193139120920012,null,null,6,27.311788574013022]
[null,null,"BADif",{"$f":"IF(D11<>\"\",D10-D11,\"\")","v":14.478962913419698},{"$f":"IF(E11<>\"\",E10-E11,\"\")","v":""},{"$f":"IF(F11<>\"\",F10-F11,\"\")","v":""},{"$f":"IF(G11<>\"\",G10-G11,\"\")","v":""},{"$f":"IF(H11<>\"\",H10-H11,\"\")","v":""},null,6.8,50.528244783279447,0.38445144187277247,0,0,31.10258822104727,0.79999999999999982,24.882070576837812,null,null,6.8,29.235515715166255]
[null,null,"DBHdiff",{"$f":"ba2dbh(D12,D6)","v":19.257319729230758},{"$f":"ba2dbh(E12,E6)","v":""},{"$f":"ba2dbh(F12,F6)","v":""},{"$f":"ba2dbh(G12,G6)","v":""},{"$f":"ba2dbh(H12,H6)","v":""},null,7,45.508622637730291,0.25630096124851498,0,0,33.844718910584085,0.20000000000000018,6.768943782116823,null,null,7,32.552315475030092]
[null,null,"MTH",{"$f":"IF(D3<>\"\",atage2(D3,'300 Index'!$G$5:$G$105,'300 Index'!$J$5:$J$105),\"\")","v":11.873001522898338},{"$f":"IF(E3<>\"\",atage2(E3,'300 Index'!$G$5:$G$105,'300 Index'!$J$5:$J$105),\"\")","v":""},{"$f":"IF(F3<>\"\",atage2(F3,'300 Index'!$G$5:$G$105,'300 Index'!$J$5:$J$105),\"\")","v":""},{"$f":"IF(G3<>\"\",atage2(G3,'300 Index'!$G$5:$G$105,'300 Index'!$J$5:$J$105),\"\")","v":""},{"$f":"IF(H3<>\"\",atage2(H3,'300 Index'!$G$5:$G$105,'300 Index'!$J$5:$J$105),\"\")","v":""},null,8,34.123666545269558,0.33048140944313609,0,0,22.846429130021285,1,22.846429130021285,null,null,8,40.392571348251273]
[null,null,"P/W",{"$f":"conref2('User interface'!D21)","v":"W"},{"$f":"conref2('User interface'!E21)","v":""},{"$f":"conref2('User interface'!F21)","v":""},{"$f":"conref2('User interface'!G21)","v":""},{"$f":"conref2('User interface'!H21)","v":""},null,8.8000000000000007,18.349487150558879,0.80814589812902549,0,0,3.5204243770634611,0.80000000000000071,2.8163395016507713,null,null,8.8000000000000007,52.123877155946836]
[null,null,null,null,null,null,null,null,null,9,61.123628752227802,0.53876393208601692,0,0,28.192422182311631,0.19999999999999929,5.6384844364623063,null,null,9,22.481297325445741]
[null,null,"Unpruned","Prune 1","Prune 2","Prune 3","Prune 4","Prune 5",null,10,49.050725646042267,0.35917595472401126,0,0,31.432884432219495,1,31.432884432219495,null,null,10,30.203559799513897]
[null,"Age at prune",null,{"$f":"conref3('User interface'!D11)","v":5.5},{"$f":"conref3('User interface'!E11)","v":6.8},{"$f":"conref3('User interface'!F11)","v":8},{"$f":"conref3('User interface'!G11)","v":""},{"$f":"conref3('User interface'!H11)","v":""},null,11,36.835138662385042,0.23945063648267417,0,0,28.014941264749385,1,28.014941264749385,null,null,11,38.482472200872316]
[null,"FC Vol",{"$f":"readoffpruned(D18:H18,'300 Index'!G5:G205,'300 Index'!S5:AJ205)","v":0},0,0,292.88393085907848,0,0,null,12,23.755040298464142,0.15963375765511612,0,0,19.9629339523716,1,19.9629339523716,null,null,12,47.975257498163359]
[null,"FC DBH",0,0,0,51.622999007878917,0,0,null,13,13.327244519695329,0.10642250510341074,0,0,11.908925771783649,1,11.908925771783649,null,null,13,56.115267411406997]
[null,"FC SPH",0,0,0,783.00664902621565,0,0,null,14,5.3751058866916841,7.0948336735607159E-2,0,0,4.9937510642531384,1,4.9937510642531384,null,null,14,62.742329263400947]
[null,"Stand SPH",null,{"$f":"IF(D18<>\"\",atage2(D18,'300 Index'!$G$5:$G$105,'300 Index'!$H$5:$H$105),\"\")","v":806.10841079028432},{"$f":"IF(E18<>\"\",atage2(E18,'300 Index'!$G$5:$G$105,'300 Index'!$H$5:$H$105),\"\")","v":805.56011897902579},{"$f":"IF(F18<>\"\",atage2(F18,'300 Index'!$G$5:$G$105,'300 Index'!$H$5:$H$105),\"\")","v":804.83642947512442},{"$f":"IF(G18<>\"\",atage2(G18,'300 Index'!$G$5:$G$105,'300 Index'!$H$5:$H$105),\"\")","v":""},{"$f":"IF(H18<>\"\",atage2(H18,'300 Index'!$G$5:$G$105,'300 Index'!$H$5:$H$105),\"\")","v":""},null,15,0,4.7298891157071435E-2,0,0,0,1,0,null,null,15,67.964616132033854]
[null,"MTH @ prune",{"$f":"IF(C18<>\"\",atage(C18,'300 Index'!$G$5:$G$105,'300 Index'!$J$5:$J$105),\"\")","v":""},{"$f":"IF(D18<>\"\",atage2(D18,'300 Index'!$G$5:$G$105,'300 Index'!$J$5:$J$105),\"\")","v":6.5871479238885584},{"$f":"IF(E18<>\"\",atage2(E18,'300 Index'!$G$5:$G$105,'300 Index'!$J$5:$J$105),\"\")","v":8.6396693816133894},{"$f":"IF(F18<>\"\",atage2(F18,'300 Index'!$G$5:$G$105,'300 Index'!$J$5:$J$105),\"\")","v":10.575378570444949},{"$f":"IF(G18<>\"\",atage2(G18,'300 Index'!$G$5:$G$105,'300 Index'!$J$5:$J$105),\"\")","v":""},{"$f":"IF(H18<>\"\",atage2(H18,'300 Index'!$G$5:$G$105,'300 Index'!$J$5:$J$105),\"\")","v":""},null,16,0,3.153259410471429E-2,0,0,0,1,0,null,null,16,70.536031045719511]
[null,"MH @ prune",null,{"$f":"IF(D18<>\"\",calcmeanht(D23,D22),\"\")","v":6.1536041989226664},{"$f":"IF(E18<>\"\",calcmeanht(E23,E22),\"\")","v":8.071114815197312},{"$f":"IF(F18<>\"\",calcmeanht(F23,F22),\"\")","v":9.8795681398435331},{"$f":"IF(G18<>\"\",calcmeanht(G23,G22),\"\")","v":""},{"$f":"IF(H18<>\"\",calcmeanht(H23,H22),\"\")","v":""},null,17,0,2.1021729403142859E-2,0,0,0,1,0,null,null,17,71.876566053874242]
[null,"PruneH",null,{"$f":"conref3('User interface'!D12)","v":2.4},{"$f":"conref3('User interface'!E12)","v":4.5999999999999996},{"$f":"conref3('User interface'!F12)","v":6},{"$f":"conref3('User interface'!G12)","v":""},{"$f":"conref3('User interface'!H12)","v":""},null,18,0,1.4014486268761905E-2,0,0,0,1,0,null,null,18,72.956726326505944]
[null,"DBH at prune",null,{"$f":"IF(D18<>\"\",atage2(D18,'300 Index'!$G$5:$G$105,'300 Index'!$T$5:$T$105),\"\")","v":11.159908630373026},{"$f":"IF(E18<>\"\",atage2(E18,'300 Index'!$G$5:$G$105,'300 Index'!$T$5:$T$105),\"\")","v":14.980742209766703},{"$f":"IF(F18<>\"\",atage2(F18,'300 Index'!$G$5:$G$105,'300 Index'!$T$5:$T$105),\"\")","v":17.652863269739427},{"$f":"IF(G18<>\"\",atage2(G18,'300 Index'!$G$5:$G$105,'300 Index'!$T$5:$T$105),\"\")","v":""},{"$f":"IF(H18<>\"\",atage2(H18,'300 Index'!$G$5:$G$105,'300 Index'!$T$5:$T$105),\"\")","v":""},null,19,0,9.3429908458412692E-3,0,0,0,1,0,null,null,19,73.834267333945718]
[null,"DOSheight",null,{"$f":"IF(D18<>\"\",0.8,\"\")","v":0.8},{"$f":"IF(E18<>\"\",D25+0.2,\"\")","v":2.6},{"$f":"IF(F18<>\"\",E25+0.2,\"\")","v":4.8},{"$f":"IF(G18<>\"\",F25+0.2,\"\")","v":""},{"$f":"IF(H18<>\"\",G25+0.2,\"\")","v":""},null,20,0,6.2286605638941792E-3,0,0,0,1,0,null,null,20,74.551525159695643]
[null,"DOS ",null,{"$f":"doscalc(D26,D24,D27)","v":15.647755636733534},{"$f":"doscalc(E26,E24,E27)","v":16.710553675172683},{"$f":"doscalc(F26,F24,F27)","v":15.934753112573203},{"$f":"doscalc(G26,G24,G27)","v":0},{"$f":"doscalc(H26,H24,H27)","v":0},null,21,0,4.1524403759294528E-3,0,0,0,1,0,null,null,21,75.140144278020145]
[null,"GCL",null,{"$f":"IF(D18<>\"\",atage2(D18,'300 Index'!$G$5:$G$105,'300 Index'!$K$5:$K$105),\"\")","v":3.8401521848294569},{"$f":"IF(E18<>\"\",atage2(E18,'300 Index'!$G$5:$G$105,'300 Index'!$K$5:$K$105),\"\")","v":3.6579344052569205},{"$f":"IF(F18<>\"\",atage2(F18,'300 Index'!$G$5:$G$105,'300 Index'!$K$5:$K$105),\"\")","v":4.1428323751132936},{"$f":"IF(G18<>\"\",atage2(G18,'300 Index'!$G$5:$G$105,'300 Index'!$K$5:$K$105),\"\")","v":""},{"$f":"IF(H18<>\"\",atage2(H18,'300 Index'!$G$5:$G$105,'300 Index'!$K$5:$K$105),\"\")","v":""},null,22,0,2.7682935839529682E-3,0,0,0,1,0,null,null,22,75.617085438147441]
[null,"Pruned SPH",null,{"$f":"IF(ISNUMBER(D55),MIN($D$55:D55),\"\")","v":450},{"$f":"IF(ISNUMBER(E55),MIN($D$55:E55),\"\")","v":350},{"$f":"IF(ISNUMBER(F55),MIN($D$55:F55),\"\")","v":320},{"$f":"IF(ISNUMBER(G55),MIN($D$55:G55),\"\")","v":0},{"$f":"IF(ISNUMBER(H55),MIN($D$55:H55),\"\")","v":0},null,23,0,1.8455290559686453E-3,0,0,0,1,0,null,null,23,76.06147421423988]
[null,null,null,null,null,null,null,null,null,24,0,1.2303527039790969E-3,0,0,0,1,0,null,null,24,76.468715804760038]
[null,"Volume and stocking at thinnings for pruned elements",null,null,null,null,null,null,null,25,0,8.2023513598606453E-4,0,0,0,1,0,null,null,25,76.842304987681842]
[null,"Thin stats","Unpruned","Prune 1","Prune 2","Prune 3","Prune 4","Prune 5",null,26,0,5.4682342399070961E-4,0,0,0,1,0,null,null,26,77.185467684528703]
[null,null,null,{"$f":"D18","v":5.5},{"$f":"E18","v":6.8},{"$f":"F18","v":8},{"$f":"G18","v":""},{"$f":"H18","v":""},null,27,0,3.6454894932713971E-4,0,0,0,1,0,null,null,27,77.5011773019109]
[null,{"$f":"D3","v":8.8000000000000007},null,null,null,null,null,null,null,28,0,2.430326328847598E-4,0,0,0,1,0,null,null,28,77.792173435092224]
["SPH",{"$f":"D6","v":497.11388333744719},{"$f":"readoffprunedatthinning(D18:H18,'300 Index'!G5:G205,'300 Index'!S5:AJ205,B35,B37,B36)","v":355.54649723295944},99.604361072984872,29.685571169180264,12.277453862322616,0,0,{"$f":"SUM(C36:H36)","v":497.11388333744719},29,0,1.6202175525650652E-4,0,0,0,1,0,null,null,29,78.060981236022698]
["Vol",{"$f":"D9","v":65.088738886615033},34.727827257327633,9.0324521504047173,2.3202180862483677,19.008241392634318,0,0,{"$f":"SUM(C37:H37)","v":65.088738886615033},30,0,1.0801450350433767E-4,0,0,0,1,0,null,null,30,78.309930453218627]
[null,{"$f":"E3","v":""},null,null,null,null,null,null,null,0,0,7.2009669002891775E-5,0,0,0,-30,0,null,null,0,0]
["SPH",{"$f":"E6","v":""},{"$f":"readoffprunedatthinning(D18:H18,'300 Index'!G5:G205,'300 Index'!S5:AJ205,B38,B40,B39)","v":0},0,0,0,0,0,0,0,0,4.8006446001927848E-5,0,0,0,0,0,null,null,0,0]
["Vol",{"$f":"E9","v":""},0,0,0,0,0,0,0,0,0,3.2004297334618563E-5,0,0,0,0,0,null,null,0,0]
[null,{"$f":"F3","v":""},null,null,null,null,null,null,null,0,0,2.1336198223079041E-5,0,0,0,0,0,null,null,0,0]
["SPH",{"$f":"F6","v":""},{"$f":"readoffprunedatthinning(D18:H18,'300 Index'!G5:G205,'300 Index'!S5:AJ205,B41,B43,B42)","v":0},0,0,0,0,0,0,0,0,1.4224132148719361E-5,0,0,0,0,0,null,null,0,0]
["Vol",{"$f":"F9","v":""},0,0,0,0,0,0,0,0,0,9.482754765812907E-6,0,0,0,0,0,null,null,0,0]
[null,{"$f":"G3","v":""},null,null,null,null,null,null,null,0,0,6.3218365105419375E-6,0,0,0,0,0,null,null,0,0]
["SPH",{"$f":"G6","v":""},{"$f":"readoffprunedatthinning(D18:H18,'300 Index'!G5:G205,'300 Index'!S5:AJ205,B44,B46,B45)","v":0},0,0,0,0,0,0,0,0,4.214557673694625E-6,0,0,0,0,0,null,null,0,0]
["Vol",{"$f":"G9","v":""},0,0,0,0,0,0,0,0,0,2.8097051157964164E-6,0,0,0,0,0,null,null,0,0]
[null,{"$f":"H3","v":""},null,null,null,null,null,null,null,0,0,1.8731367438642776E-6,0,0,0,0,0,null,null,0,0]
["SPH",{"$f":"H6","v":""},{"$f":"readoffprunedatthinning(D18:H18,'300 Index'!G5:G205,'300 Index'!S5:AJ205,B47,B49,B48)","v":0},0,0,0,0,0,0,0,0,1.2487578292428516E-6,0,0,0,0,0,null,null,0,0]
["Vol",{"$f":"H9","v":""},0,0,0,0,0,0,0,0,0,8.3250521949523439E-7,0,0,0,0,0,null,null,0,0]
[null,null,null,null,null,null,null,null,null,0,0,5.5500347966348959E-7,0,0,0,0,0,null,null,0,0]
[null,null,null,null,null,null,null,null,null,0,0,3.7000231977565973E-7,0,0,0,0,0,null,null,0,0]
[null,null,null,null,null,null,null,null,null,0,0,2.4666821318377312E-7,0,0,0,0,0,null,null,0,0]
[null,"Pruned stocking intermediate calculations",null,null,null,null,null,null,null,0,0,1.6444547545584874E-7,0,0,0,0,0,null,null,0,0]
[null,"Pruned SPH step 1",null,{"$f":"VLOOKUP('User interface'!D11,'300 Index'!$G$5:$H$48,2)","v":806.10841079028432},{"$f":"VLOOKUP('User interface'!E11,'300 Index'!$G$5:$H$48,2)","v":805.56011897902579},{"$f":"VLOOKUP('User interface'!F11,'300 Index'!$G$5:$H$48,2)","v":804.83642947512442},{"$f":"VLOOKUP('User interface'!G11,'300 Index'!$G$5:$H$48,2)","v":807.5},{"$f":"VLOOKUP('User interface'!H11,'300 Index'!$G$5:$H$48,2)","v":807.5},null,0,0,1.0963031697056582E-7,0,0,0,0,0,null,null,0,0]
[null,"Pruned SPH step 2",null,{"$f":"IF(ISNUMBER('User interface'!D13),MIN('User interface'!D13,D54),0)","v":450},{"$f":"IF(ISNUMBER('User interface'!E13),MIN('User interface'!E13,E54),0)","v":350},{"$f":"IF(ISNUMBER('User interface'!F13),MIN('User interface'!F13,F54),0)","v":320},{"$f":"IF(ISNUMBER('User interface'!G13),MIN('User interface'!G13,G54),0)","v":0},{"$f":"IF(ISNUMBER('User interface'!H13),MIN('User interface'!H13,H54),0)","v":0},null,0,0,7.3086877980377217E-8,0,0,0,0,0,null,null,0,0]
[null,null,null,null,null,null,null,null,null,0,0,4.8724585320251476E-8,0,0,0,0,0,null,null,0,0]
[null,null,null,null,null,null,null,null,null,0,0,3.248305688016765E-8,0,0,0,0,0,null,null,0,0]
[null,null,null,null,null,null,null,null,null,0,0,2.1655371253445099E-8,0,0,0,0,0,null,null,0,0]
[null,null,null,null,null,null,null,null,null,0,0,1.4436914168963399E-8,0,0,0,0,0,null,null,0,0]
[null,null,null,null,null,null,null,null,null,0,0,9.6246094459755981E-9,0,0,0,0,0,null,null,0,0]
[null,null,null,null,null,null,null,null,null,0,0,6.4164062973170652E-9,0,0,0,0,0,null,null,0,0]
[null,null,null,null,null,null,null,null,null,0,0,4.2776041982113765E-9,0,0,0,0,0,null,null,0,0]
[null,null,null,null,null,null,null,null,null,0,0,2.8517361321409174E-9,0,0,0,0,0,null,null,0,0]
[null,null,null,null,null,null,null,null,null,0,0,1.901157421427278E-9,0,0,0,0,0,null,null,0,0]
[null,null,null,null,null,null,null,null,null,0,0,1.2674382809515186E-9,0,0,0,0,0,null,null,0,0]
[null,null,null,null,null,null,null,null,null,0,0,8.4495885396767902E-10,0,0,0,0,0,null,null,0,0]
[null,null,null,null,null,null,null,null,null,0,0,5.6330590264511931E-10,0,0,0,0,0,null,null,0,0]
[null,null,null,null,null,null,null,null,null,0,0,3.7553726843007951E-10,0,0,0,0,0,null,null,0,0]
[null,null,null,null,null,null,null,null,null,0,0,2.5035817895338632E-10,0,0,{"$f":"K69*(1-L69)","v":0},0,{"$f":"P69*O69","v":0},null,null,0,0]
[null,null,null,null,null,null,null,null,null,0,0,1.6690545263559088E-10,0,0,0,{"$f":"J70-J69","v":0},0,null,null,0,0]
[null,null,null,null,null,null,null,null,null,0,0,1.1127030175706058E-10,0,0,0,0,0,null,null,0,0]
[null,null,null,null,null,null,null,null,null,0,0,7.4180201171373718E-11,0,0,0,0,0,null,null,0,0]
[null,null,null,null,null,null,null,null,null,0,0,4.9453467447582478E-11,0,0,0,0,0,null,null,0,0]
[null,null,null,null,null,null,null,null,null,0,0,3.2968978298388315E-11,0,0,0,0,0,null,null,0,0]
[null,null,null,null,null,null,null,null,null,0,0,2.197931886559221E-11,0,0,0,0,0,null,null,0,0]
[null,null,null,null,null,null,null,null,null,0,0,1.4652879243728138E-11,0,0,0,0,0,null,null,0,0]
[null,null,null,null,null,null,null,null,null,0,0,9.7685861624854241E-12,0,0,0,0,0,null,null,0,0]
[null,null,null,null,null,null,null,null,null,0,0,6.5123907749902822E-12,0,0,0,0,0,null,null,0,0]

{"sheet":"Clearfell","index":21,"n_rows":44,"n_cols":17,"rows_kept":44,"cut":false,"hidden":true,"merged":[[0,0,0,10],[10,0,10,9]]}
["Log grades"]
["Grade","Pruned","S1","S2","S3","L1","L2","L3","Pulp"]
["Pruned",1,0,0,0,0,0,0,0]
["Length min",4.2,4,4,4,4,4,4,4]
["Length max",5.5,5.5,5.5,5.5,5.5,5.5,5.5,5.5]
["SED minimum",300,400,300,200,400,300,200,100]
["Branch maximum",0,6,6,6,12,12,12,15]
["Nominal Conversion",1,1,1,1,1,1,1,1]
["Pulp downgrade",0,0.05,0.05,0.1,0.05,0.1,0.15]
["Prices",146.27316819417788,88,80,64,65,56,52,40,null,null,null,null,null,null,"DOS estimate",{"$f":"K13","v":16.710553675172683}]
["BIX calculations",null,null,null,null,null,null,null,null,null,null,null,null,null,null,"DOS override value",{"$f":"MAX(Overriding!C7:G7)","v":0}]
["BIX calculations","DBH 20","ThinHT","SI ","FCS-SPH",null,null,"BIX1","BIX2","BIXn","DOS","Sweep",null,null,null,"DOS to be used",{"$f":"IF(Q11>0,Q11,Q10)","v":16.710553675172683}]
[null,{"$f":"atage2(20,'300 Index'!G5:G205,'300 Index'!P5:P205)","v":41.295168775733408},{"$f":"MIN('User interface'!L18:P18)","v":11.873001522898338},{"$f":"'User interface'!D4","v":28.3},{"$f":"E16","v":292.88393085907848},null,null,{"$f":"bix1calc(I13,E13)","v":3.7324971958987754},{"$f":"bix2calc(B13,C13,D13)","v":4.9278807157929183},{"$f":"bixncalc(I13,E13,C13)","v":5.2349902223618932},{"$f":"MAX('User interface'!L11:P11)","v":16.710553675172683},{"$f":"'User interface'!D42","v":8}]
[null,null,null,null,null,null,null,null,null,null,null,{"$f":"L13","v":8},"Change unit to mm/m"]
[null,"Age","DBH","MH","SPH","BA","VOL","MTH"]
["Stand",{"$f":"'User interface'!J5","v":30},{"$f":"'User interface'!K5","v":51.622999007878917},{"$f":"calcmeanht(H16,E16)","v":37.113885203839992},{"$f":"'User interface'!M5","v":292.88393085907848},{"$f":"'User interface'!N5","v":61.31314636144478},{"$f":"'User interface'!O5","v":783.00664902621565},{"$f":"'User interface'!L5","v":38.562939382088778},null,null,null,"Juvenile"]
[]
["Peterson","a","b",null,null,"minDBH","maxDBH","VarDBH"]
["Parms",{"$f":"PetersonParms(C16,D16,F16,B16)","v":0.24963763273935038},-0.53586495263725042,null,null,{"$f":"wmindbh(B$16,C16,H$16,E16,F16)","v":31.740760988644322},{"$f":"wmaxdbh(B$16,C16,H$16,E16,F16)","v":71.480076677835328},{"$f":"Wvar(F19,G19)","v":5.3020776909863086E-3}]
[]
["Weibull","alpha","beta","gamma",null,null,null,null,null,null,null,null,"Conversion factor (%)",{"$f":"'User interface'!D38/100","v":0.85}]
["Parms",{"$f":"Wparms(F19,G19,C16,E16)","v":39.701219542203283},1.97935950756073,{"$f":"F19^2*PI()/40000-0.01","v":6.9126972791895419E-2}]
[]
["Elements","TSV","Pruned Height",{"$f":"B2","v":"Pruned"},"S1","S2","S3","L1","L2","L3","Pulp",0,0,"Average"]
["Unpruned",{"$f":"G16-SUM(B26:B30)","v":0},0,{"$f":"DistLogs($B$3:$K$7,$B16:$H16,$B$22:$D$22,$B$19:$C$19,$B$13:$E$13,$F$19:$G$19,B25:B30,C25:C30)","v":0},0,0,0,0,0,0,0,0,0,0,0]
[1,{"$f":"conref4('User interface'!L15)","v":0},{"$f":"'User interface'!D12","v":2.4},0,0,0,0,0,0,0,0,0,0,27.034263033300888,0,"average sed unpruned"]
[2,{"$f":"conref4('User interface'!M15)","v":0},{"$f":"'User interface'!E12","v":4.5999999999999996},0,0,0,0,0,0,0,0,0,0,5.1688168020958463,0,"average BIX unpruned"]
[3,{"$f":"conref4('User interface'!N15)","v":783.00664902621565},{"$f":"'User interface'!F12","v":6},233.92228883836285,11.409830325706356,64.606661188983992,71.308875262158054,66.209564251004835,150.53373046469528,103.77260014541967,56.652287956541109,0,0,5.4999999999999982,25.153726225695593,"average lth (m) (pruned logs)"]
[4,{"$f":"conref4('User interface'!O15)","v":0},{"$f":"'User interface'!G12","v":0},0,0,0,0,0,0,0,0,0,0,41.643346490224907,0,"average pruned sed (cm)"]
[5,{"$f":"conref4('User interface'!P15)","v":0},{"$f":"'User interface'!H12","v":0},0,0,0,0,0,0,0,0,0,0,9.3800091547379072,0,"average pruned taper (mm/m)"]
[null,null,null,null,null,null,null,null,null,null,null,null,null,null,{"$f":"plicalc(N28,N29*10,L14,N30,Q12*10,SUM(B26:B30))","v":6.6273168194177874},"pli"]
[]
[null,null,"Adjusted",{"$f":"ConverAdj(D25:M30,B8:K8,B9:K9,N21,B2:K2,G16)","v":205.2809204383048},9.5121737171360792,53.861430623485084,56.320055945655852,55.197742552972763,118.89218684646718,77.406709437254719,89.084432111006777,0,0,null,{"$f":"SUM(D25:M30)/G16","v":0.96859437831859307}]
[null,"Transposed"]
[null,{"$f":"IF(D33>0,D33,\"\")","v":205.2809204383048},null,null,null,null,null,null,null,null,null,null,null,{"$f":"(N29*IF(ISNUMBER(B35),B35,0)+N26*SUM(B36:B40))/SUM(B35:B40)","v":33.043438276100872},null,"Average SED"]
[null,{"$f":"IF(E33>0,E33,\"\")","v":9.5121737171360792}]
[null,{"$f":"IF(F33>0,F33,\"\")","v":53.861430623485084},null,null,null,null,null,null,null,null,null,null,null,{"$f":"IF(ISNUMBER(H27),SUM(D25:M30),0)","v":758.41583843287219},"Merchantable volume before TSV correction"]
[null,{"$f":"IF(G33>0,G33,\"\")","v":56.320055945655852},null,null,null,null,null,null,null,null,null,null,null,{"$f":"IF(ISNUMBER(H28),SUM(D25:M30)+SUM(O25:O30),0)","v":783.56956465856774},"Merchantable volume before TSV correction + Scrap"]
[null,{"$f":"IF(H33>0,H33,\"\")","v":55.197742552972763},null,null,null,null,null,null,null,null,null,null,null,{"$f":"N37/N38","v":0.96789854103552886},"Theoretical yield"]
[null,{"$f":"IF(I33>0,I33,\"\")","v":118.89218684646718}]
[null,{"$f":"IF(J33>0,J33,\"\")","v":77.406709437254719}]
[null,{"$f":"IF(K33>0,K33,\"\")","v":89.084432111006777}]
[null,{"$f":"IF(L33>0,L33,\"\")","v":""}]
[null,{"$f":"IF(M33>0,M33,\"\")","v":""}]

{"sheet":"Prod thin 1","index":22,"n_rows":44,"n_cols":16,"rows_kept":44,"cut":false,"hidden":true,"merged":[[10,0,10,9]]}
[]
[null,{"$f":"Clearfell!B2","v":"Pruned"},{"$f":"Clearfell!C2","v":"S1"},{"$f":"Clearfell!D2","v":"S2"},{"$f":"Clearfell!E2","v":"S3"},{"$f":"Clearfell!F2","v":"L1"},{"$f":"Clearfell!G2","v":"L2"},{"$f":"Clearfell!H2","v":"L3"},{"$f":"Clearfell!I2","v":"Pulp"},{"$f":"Clearfell!J2","v":0},{"$f":"Clearfell!K2","v":0}]
[null,{"$f":"Clearfell!B3","v":1},{"$f":"Clearfell!C3","v":0},{"$f":"Clearfell!D3","v":0},{"$f":"Clearfell!E3","v":0},{"$f":"Clearfell!F3","v":0},{"$f":"Clearfell!G3","v":0},{"$f":"Clearfell!H3","v":0},{"$f":"Clearfell!I3","v":0},{"$f":"Clearfell!J3","v":0},{"$f":"Clearfell!K3","v":0}]
[null,{"$f":"Clearfell!B4","v":4.2},{"$f":"Clearfell!C4","v":4},{"$f":"Clearfell!D4","v":4},{"$f":"Clearfell!E4","v":4},{"$f":"Clearfell!F4","v":4},{"$f":"Clearfell!G4","v":4},{"$f":"Clearfell!H4","v":4},{"$f":"Clearfell!I4","v":4},{"$f":"Clearfell!J4","v":0},{"$f":"Clearfell!K4","v":0}]
[null,{"$f":"Clearfell!B5","v":5.5},{"$f":"Clearfell!C5","v":5.5},{"$f":"Clearfell!D5","v":5.5},{"$f":"Clearfell!E5","v":5.5},{"$f":"Clearfell!F5","v":5.5},{"$f":"Clearfell!G5","v":5.5},{"$f":"Clearfell!H5","v":5.5},{"$f":"Clearfell!I5","v":5.5},{"$f":"Clearfell!J5","v":0},{"$f":"Clearfell!K5","v":0}]
[null,{"$f":"Clearfell!B6","v":300},{"$f":"Clearfell!C6","v":400},{"$f":"Clearfell!D6","v":300},{"$f":"Clearfell!E6","v":200},{"$f":"Clearfell!F6","v":400},{"$f":"Clearfell!G6","v":300},{"$f":"Clearfell!H6","v":200},{"$f":"Clearfell!I6","v":100},{"$f":"Clearfell!J6","v":0},{"$f":"Clearfell!K6","v":0}]
[null,{"$f":"Clearfell!B7","v":0},{"$f":"Clearfell!C7","v":6},{"$f":"Clearfell!D7","v":6},{"$f":"Clearfell!E7","v":6},{"$f":"Clearfell!F7","v":12},{"$f":"Clearfell!G7","v":12},{"$f":"Clearfell!H7","v":12},{"$f":"Clearfell!I7","v":15},{"$f":"Clearfell!J7","v":0},{"$f":"Clearfell!K7","v":0}]
[null,{"$f":"Clearfell!B8","v":1},{"$f":"Clearfell!C8","v":1},{"$f":"Clearfell!D8","v":1},{"$f":"Clearfell!E8","v":1},{"$f":"Clearfell!F8","v":1},{"$f":"Clearfell!G8","v":1},{"$f":"Clearfell!H8","v":1},{"$f":"Clearfell!I8","v":1},{"$f":"Clearfell!J8","v":0},{"$f":"Clearfell!K8","v":0}]
[null,{"$f":"Clearfell!B9","v":0},{"$f":"Clearfell!C9","v":0.05},{"$f":"Clearfell!D9","v":0.05},{"$f":"Clearfell!E9","v":0.1},{"$f":"Clearfell!F9","v":0.05},{"$f":"Clearfell!G9","v":0.1},{"$f":"Clearfell!H9","v":0.15},{"$f":"Clearfell!I9","v":0},{"$f":"Clearfell!J9","v":0},{"$f":"Clearfell!K9","v":0}]
[]
["BIX calculations"]
["BIX calculations","DBH30","ThinHT","SI ","FCS-SPH",null,null,"BIX1","BIX2","BIXn","DOS","Sweep"]
[null,{"$f":"atage2(20,'300 Index'!G5:G205,'300 Index'!P5:P205)","v":41.295168775733408},{"$f":"MIN('User interface'!L18:P18)","v":11.873001522898338},{"$f":"'User interface'!D4","v":28.3},{"$f":"E16","v":497.11388333744719},null,null,{"$f":"bix1calc(I13,E13)","v":4.1747120420383634},{"$f":"bix2calc(B13,C13,D13)","v":4.9278807157929183},{"$f":"bixncalc(I13,E13,C13)","v":5.2752130218928226},{"$f":"MAX('User interface'!L11:P11)","v":16.710553675172683},{"$f":"conref3('User interface'!D42)","v":8}]
[null,null,null,null,null,null,null,null,null,null,null,{"$f":"L13","v":8},"Change unit to mm/m"]
[null,"Age","DBH","MH","SPH","BA","VOL","MTH"]
["Stand",{"$f":"conref4(Summary!D3)","v":8.8000000000000007},{"$f":"IF(E16>0,ba2dbh(F16,E16),0)","v":19.257319729230758},{"$f":"calcmeanht(H16,E16)","v":11.212313446364638},{"$f":"conref4('User interface'!L20)","v":497.11388333744719},{"$f":"conref4(Summary!D12)","v":14.478962913419698},{"$f":"IF('User interface'!D21=\"P\",'User interface'!L22,0)","v":0},{"$f":"conref4(Summary!D14)","v":11.873001522898338}]
[]
["Peterson","a","b",null,null,"minDBH","maxDBH","VarDBH"]
["Parms",{"$f":"PetersonParms(C16,D16,F16,B16)","v":0.38024814350297731},0.40224048968871601,null,null,{"$f":"wmindbh(B$16,C16,H$16,E16,F16)","v":13.646662138450216},{"$f":"wmaxdbh(B$16,C16,H$16,E16,F16)","v":24.726273404455423},{"$f":"Wvar(F19,G19)","v":1.3534868589789309E-4}]
[]
["Weibull","alpha","beta","gamma",null,null,null,null,null,null,null,null,"Conversion factor (%)",{"$f":"('User interface'!D38-'User interface'!D39)/100","v":0.75}]
["Parms",{"$f":"Wparms(F19,G19,C16,E16)","v":190.48721688750499},1.2641540765762329,{"$f":"F19^2*PI()/40000-0.01","v":4.6265789725960221E-3}]
[]
["Elements","TSV","Pruned Height",{"$f":"B2","v":"Pruned"},"S1","S2","S3","L1","L2","L3","Pulp",0,0,"Average"]
["Unpruned",{"$f":"G16-SUM(B26:B30)","v":-30.360911629287401},0,{"$f":"DistLogs(Clearfell!B3:K7,$B16:$H16,$B$22:$D$22,$B$19:$C$19,$B$13:$E$13,$F$19:$G$19,B25:B30,C25:C30)","v":0},0,0,0,0,0,0,0,0,0,0,0]
[1,{"$f":"conref4(Summary!D37)","v":9.0324521504047173},{"$f":"'User interface'!D12","v":2.4},0,0,0,0,0,0,0,0,0,0,0,0,"average sed unpruned"]
[2,{"$f":"conref4(Summary!E37)","v":2.3202180862483677},{"$f":"'User interface'!E12","v":4.5999999999999996},0,0,0,0,0,0,0,0,0,0,0,0,"average BIX unpruned"]
[3,{"$f":"conref4(Summary!F37)","v":19.008241392634318},{"$f":"'User interface'!F12","v":6},0,0,0,0,0,0,0,0,0,0,0,0,"average lth (m) (pruned logs)"]
[4,{"$f":"conref4(Summary!G37)","v":0},{"$f":"'User interface'!G12","v":0},0,0,0,0,0,0,0,0,0,0,0,0,"average pruned sed (cm)"]
[5,{"$f":"conref4(Summary!H37)","v":0},{"$f":"'User interface'!H12","v":0},0,0,0,0,0,0,0,0,0,0,0,0,"average pruned taper (mm/m)"]
[null,null,null,null,null,null,null,null,null,null,null,null,null,null,{"$f":"plicalc(N28,N29*10,L14,N30,K13*10,SUM(B26:B30))","v":0},"pli"]
[]
[null,null,"Adjusted",{"$f":"ConverAdj(D25:M30,B8:K8,B9:K9,N21,B2:K2,G16)","v":0},0,0,0,0,0,0,0,0,0]
[null,"Transposed"]
[null,{"$f":"IF(D33>0,D33,\"\")","v":""}]
[null,{"$f":"IF(E33>0,E33,\"\")","v":""}]
[null,{"$f":"IF(F33>0,F33,\"\")","v":""}]
[null,{"$f":"IF(G33>0,G33,\"\")","v":""}]
[null,{"$f":"IF(H33>0,H33,\"\")","v":""}]
[null,{"$f":"IF(I33>0,I33,\"\")","v":""}]
[null,{"$f":"IF(J33>0,J33,\"\")","v":""}]
[null,{"$f":"IF(K33>0,K33,\"\")","v":""}]
[null,{"$f":"IF(L33>0,L33,\"\")","v":""}]
[null,{"$f":"IF(M33>0,M33,\"\")","v":""}]

{"sheet":"Prod thin 2","index":23,"n_rows":44,"n_cols":16,"rows_kept":44,"cut":false,"hidden":true,"merged":[[10,0,10,9]]}
[]
[null,{"$f":"Clearfell!B2","v":"Pruned"},{"$f":"Clearfell!C2","v":"S1"},{"$f":"Clearfell!D2","v":"S2"},{"$f":"Clearfell!E2","v":"S3"},{"$f":"Clearfell!F2","v":"L1"},{"$f":"Clearfell!G2","v":"L2"},{"$f":"Clearfell!H2","v":"L3"},{"$f":"Clearfell!I2","v":"Pulp"},{"$f":"Clearfell!J2","v":0},{"$f":"Clearfell!K2","v":0},{"$f":"Clearfell!L2","v":0}]
[null,{"$f":"Clearfell!B3","v":1},{"$f":"Clearfell!C3","v":0},{"$f":"Clearfell!D3","v":0},{"$f":"Clearfell!E3","v":0},{"$f":"Clearfell!F3","v":0},{"$f":"Clearfell!G3","v":0},{"$f":"Clearfell!H3","v":0},{"$f":"Clearfell!I3","v":0},{"$f":"Clearfell!J3","v":0},{"$f":"Clearfell!K3","v":0},{"$f":"Clearfell!L3","v":0}]
[null,{"$f":"Clearfell!B4","v":4.2},{"$f":"Clearfell!C4","v":4},{"$f":"Clearfell!D4","v":4},{"$f":"Clearfell!E4","v":4},{"$f":"Clearfell!F4","v":4},{"$f":"Clearfell!G4","v":4},{"$f":"Clearfell!H4","v":4},{"$f":"Clearfell!I4","v":4},{"$f":"Clearfell!J4","v":0},{"$f":"Clearfell!K4","v":0},{"$f":"Clearfell!L4","v":0}]
[null,{"$f":"Clearfell!B5","v":5.5},{"$f":"Clearfell!C5","v":5.5},{"$f":"Clearfell!D5","v":5.5},{"$f":"Clearfell!E5","v":5.5},{"$f":"Clearfell!F5","v":5.5},{"$f":"Clearfell!G5","v":5.5},{"$f":"Clearfell!H5","v":5.5},{"$f":"Clearfell!I5","v":5.5},{"$f":"Clearfell!J5","v":0},{"$f":"Clearfell!K5","v":0},{"$f":"Clearfell!L5","v":0}]
[null,{"$f":"Clearfell!B6","v":300},{"$f":"Clearfell!C6","v":400},{"$f":"Clearfell!D6","v":300},{"$f":"Clearfell!E6","v":200},{"$f":"Clearfell!F6","v":400},{"$f":"Clearfell!G6","v":300},{"$f":"Clearfell!H6","v":200},{"$f":"Clearfell!I6","v":100},{"$f":"Clearfell!J6","v":0},{"$f":"Clearfell!K6","v":0},{"$f":"Clearfell!L6","v":0}]
[null,{"$f":"Clearfell!B7","v":0},{"$f":"Clearfell!C7","v":6},{"$f":"Clearfell!D7","v":6},{"$f":"Clearfell!E7","v":6},{"$f":"Clearfell!F7","v":12},{"$f":"Clearfell!G7","v":12},{"$f":"Clearfell!H7","v":12},{"$f":"Clearfell!I7","v":15},{"$f":"Clearfell!J7","v":0},{"$f":"Clearfell!K7","v":0},{"$f":"Clearfell!L7","v":0}]
[null,{"$f":"Clearfell!B8","v":1},{"$f":"Clearfell!C8","v":1},{"$f":"Clearfell!D8","v":1},{"$f":"Clearfell!E8","v":1},{"$f":"Clearfell!F8","v":1},{"$f":"Clearfell!G8","v":1},{"$f":"Clearfell!H8","v":1},{"$f":"Clearfell!I8","v":1},{"$f":"Clearfell!J8","v":0},{"$f":"Clearfell!K8","v":0},{"$f":"Clearfell!L8","v":0}]
[null,{"$f":"Clearfell!B9","v":0},{"$f":"Clearfell!C9","v":0.05},{"$f":"Clearfell!D9","v":0.05},{"$f":"Clearfell!E9","v":0.1},{"$f":"Clearfell!F9","v":0.05},{"$f":"Clearfell!G9","v":0.1},{"$f":"Clearfell!H9","v":0.15},{"$f":"Clearfell!I9","v":0},{"$f":"Clearfell!J9","v":0},{"$f":"Clearfell!K9","v":0},{"$f":"Clearfell!L9","v":0}]
[]
["BIX calculations"]
["BIX calculations","DBH30","ThinHT","SI ","FCS-SPH",null,null,"BIX1","BIX2","BIXn","DOS","Sweep"]
[null,{"$f":"atage2(20,'300 Index'!G5:G205,'300 Index'!P5:P205)","v":41.295168775733408},{"$f":"MIN('User interface'!L18:P18)","v":11.873001522898338},{"$f":"'User interface'!D4","v":28.3},{"$f":"E16","v":0},null,null,{"$f":"bix1calc(I13,E13)","v":3.0060072366336805},{"$f":"bix2calc(B13,C13,D13)","v":4.9278807157929183},{"$f":"bixncalc(I13,E13,C13)","v":5.1773071475052665},{"$f":"MAX('User interface'!L11:P11)","v":16.710553675172683},{"$f":"conref3('User interface'!D42)","v":8}]
[null,null,null,null,null,null,null,null,null,null,null,{"$f":"L13","v":8},"Change unit to mm/m"]
[null,"Age","DBH","MH","SPH","BA","VOL","MTH"]
["Stand",{"$f":"conref4(Summary!E3)","v":0},{"$f":"IF(E16>0,ba2dbh(F16,E16),0)","v":0},{"$f":"calcmeanht(H16,E16)","v":0},{"$f":"conref4('User interface'!M20)","v":0},{"$f":"conref4(Summary!E12)","v":0},{"$f":"IF('User interface'!E21=\"P\",'User interface'!M22,0)","v":0},{"$f":"conref4(Summary!E14)","v":0}]
[]
["Peterson","a","b",null,null,"minDBH","maxDBH","VarDBH"]
["Parms",{"$f":"PetersonParms(C16,D16,F16,B16)","v":0},0,null,null,{"$f":"wmindbh(B$16,C16,H$16,E16,F16)","v":-10},{"$f":"wmaxdbh(B$16,C16,H$16,E16,F16)","v":10},{"$f":"Wvar(F19,G19)","v":7.9239999999999993E-5}]
[]
["Weibull","alpha","beta","gamma",null,null,null,null,null,null,null,null,"Conversion factor (%)",{"$f":"('User interface'!D38-'User interface'!D39)/100","v":0.75}]
["Parms",{"$f":"Wparms(F19,G19,C16,E16)","v":0},0,{"$f":"F19^2*PI()/40000-0.01","v":-2.1460183660255167E-3}]
[]
["Elements","TSV","Pruned Height",{"$f":"B2","v":"Pruned"},"S1","S2","S3","L1","L2","L3","Pulp",0,0,"Average"]
["Unpruned",{"$f":"G16-SUM(B26:B30)","v":0},0,{"$f":"DistLogs(Clearfell!B3:K7,$B16:$H16,$B$22:$D$22,$B$19:$C$19,$B$13:$E$13,$F$19:$G$19,B25:B30,C25:C30)","v":0},0,0,0,0,0,0,0,0,0,0,0]
[1,{"$f":"conref4(Summary!D40)","v":0},{"$f":"'User interface'!D12","v":2.4},0,0,0,0,0,0,0,0,0,0,0,0,"average sed unpruned"]
[2,{"$f":"conref4(Summary!E40)","v":0},{"$f":"'User interface'!E12","v":4.5999999999999996},0,0,0,0,0,0,0,0,0,0,0,0,"average BIX unpruned"]
[3,{"$f":"conref4(Summary!F40)","v":0},{"$f":"'User interface'!F12","v":6},0,0,0,0,0,0,0,0,0,0,0,0,"average lth (m) (pruned logs)"]
[4,{"$f":"conref4(Summary!G40)","v":0},{"$f":"'User interface'!G12","v":0},0,0,0,0,0,0,0,0,0,0,0,0,"average pruned sed (cm)"]
[5,{"$f":"conref4(Summary!H40)","v":0},{"$f":"'User interface'!H12","v":0},0,0,0,0,0,0,0,0,0,0,0,0,"average pruned taper (mm/m)"]
[null,null,null,null,null,null,null,null,null,null,null,null,null,null,{"$f":"plicalc(N28,N29*10,L14,N30,K13*10,SUM(B26:B30))","v":0},"pli"]
[]
[null,null,"Adjusted",{"$f":"ConverAdj(D25:M30,B8:K8,B9:K9,N21,B2:K2,G16)","v":0},0,0,0,0,0,0,0,0,0]
[null,"Transposed"]
[null,{"$f":"IF(D33>0,D33,\"\")","v":""}]
[null,{"$f":"IF(E33>0,E33,\"\")","v":""}]
[null,{"$f":"IF(F33>0,F33,\"\")","v":""}]
[null,{"$f":"IF(G33>0,G33,\"\")","v":""}]
[null,{"$f":"IF(H33>0,H33,\"\")","v":""}]
[null,{"$f":"IF(I33>0,I33,\"\")","v":""}]
[null,{"$f":"IF(J33>0,J33,\"\")","v":""}]
[null,{"$f":"IF(K33>0,K33,\"\")","v":""}]
[null,{"$f":"IF(L33>0,L33,\"\")","v":""}]
[null,{"$f":"IF(M33>0,M33,\"\")","v":""}]

{"sheet":"Prod thin 3","index":24,"n_rows":44,"n_cols":16,"rows_kept":44,"cut":false,"hidden":true,"merged":[[10,0,10,9]]}
[]
[null,{"$f":"Clearfell!B2","v":"Pruned"},{"$f":"Clearfell!C2","v":"S1"},{"$f":"Clearfell!D2","v":"S2"},{"$f":"Clearfell!E2","v":"S3"},{"$f":"Clearfell!F2","v":"L1"},{"$f":"Clearfell!G2","v":"L2"},{"$f":"Clearfell!H2","v":"L3"},{"$f":"Clearfell!I2","v":"Pulp"},{"$f":"Clearfell!J2","v":0},{"$f":"Clearfell!K2","v":0}]
[null,{"$f":"Clearfell!B3","v":1},{"$f":"Clearfell!C3","v":0},{"$f":"Clearfell!D3","v":0},{"$f":"Clearfell!E3","v":0},{"$f":"Clearfell!F3","v":0},{"$f":"Clearfell!G3","v":0},{"$f":"Clearfell!H3","v":0},{"$f":"Clearfell!I3","v":0},{"$f":"Clearfell!J3","v":0},{"$f":"Clearfell!K3","v":0}]
[null,{"$f":"Clearfell!B4","v":4.2},{"$f":"Clearfell!C4","v":4},{"$f":"Clearfell!D4","v":4},{"$f":"Clearfell!E4","v":4},{"$f":"Clearfell!F4","v":4},{"$f":"Clearfell!G4","v":4},{"$f":"Clearfell!H4","v":4},{"$f":"Clearfell!I4","v":4},{"$f":"Clearfell!J4","v":0},{"$f":"Clearfell!K4","v":0}]
[null,{"$f":"Clearfell!B5","v":5.5},{"$f":"Clearfell!C5","v":5.5},{"$f":"Clearfell!D5","v":5.5},{"$f":"Clearfell!E5","v":5.5},{"$f":"Clearfell!F5","v":5.5},{"$f":"Clearfell!G5","v":5.5},{"$f":"Clearfell!H5","v":5.5},{"$f":"Clearfell!I5","v":5.5},{"$f":"Clearfell!J5","v":0},{"$f":"Clearfell!K5","v":0}]
[null,{"$f":"Clearfell!B6","v":300},{"$f":"Clearfell!C6","v":400},{"$f":"Clearfell!D6","v":300},{"$f":"Clearfell!E6","v":200},{"$f":"Clearfell!F6","v":400},{"$f":"Clearfell!G6","v":300},{"$f":"Clearfell!H6","v":200},{"$f":"Clearfell!I6","v":100},{"$f":"Clearfell!J6","v":0},{"$f":"Clearfell!K6","v":0}]
[null,{"$f":"Clearfell!B7","v":0},{"$f":"Clearfell!C7","v":6},{"$f":"Clearfell!D7","v":6},{"$f":"Clearfell!E7","v":6},{"$f":"Clearfell!F7","v":12},{"$f":"Clearfell!G7","v":12},{"$f":"Clearfell!H7","v":12},{"$f":"Clearfell!I7","v":15},{"$f":"Clearfell!J7","v":0},{"$f":"Clearfell!K7","v":0}]
[null,{"$f":"Clearfell!B8","v":1},{"$f":"Clearfell!C8","v":1},{"$f":"Clearfell!D8","v":1},{"$f":"Clearfell!E8","v":1},{"$f":"Clearfell!F8","v":1},{"$f":"Clearfell!G8","v":1},{"$f":"Clearfell!H8","v":1},{"$f":"Clearfell!I8","v":1},{"$f":"Clearfell!J8","v":0},{"$f":"Clearfell!K8","v":0}]
[null,{"$f":"Clearfell!B9","v":0},{"$f":"Clearfell!C9","v":0.05},{"$f":"Clearfell!D9","v":0.05},{"$f":"Clearfell!E9","v":0.1},{"$f":"Clearfell!F9","v":0.05},{"$f":"Clearfell!G9","v":0.1},{"$f":"Clearfell!H9","v":0.15},{"$f":"Clearfell!I9","v":0},{"$f":"Clearfell!J9","v":0},{"$f":"Clearfell!K9","v":0}]
[]
["BIX calculations"]
["BIX calculations","DBH30","ThinHT","SI ","FCS-SPH",null,null,"BIX1","BIX2","BIXn","DOS","Sweep"]
[null,{"$f":"atage2(20,'300 Index'!G5:G205,'300 Index'!P5:P205)","v":41.295168775733408},{"$f":"MIN('User interface'!L18:P18)","v":11.873001522898338},{"$f":"'User interface'!D4","v":28.3},{"$f":"E16","v":0},null,null,{"$f":"bix1calc(I13,E13)","v":3.0060072366336805},{"$f":"bix2calc(B13,C13,D13)","v":4.9278807157929183},{"$f":"bixncalc(I13,E13,C13)","v":5.1773071475052665},{"$f":"MAX('User interface'!L11:P11)","v":16.710553675172683},{"$f":"conref3('User interface'!D42)","v":8}]
[null,null,null,null,null,null,null,null,null,null,null,{"$f":"L13","v":8},"Change unit to mm/m"]
[null,"Age","DBH","MH","SPH","BA","VOL","MTH"]
["Stand",{"$f":"conref4(Summary!F3)","v":0},{"$f":"IF(E16>0,ba2dbh(F16,E16),0)","v":0},{"$f":"calcmeanht(H16,E16)","v":0},{"$f":"conref4('User interface'!N20)","v":0},{"$f":"conref4(Summary!F12)","v":0},{"$f":"IF('User interface'!F21=\"P\",'User interface'!N22,0)","v":0},{"$f":"conref4(Summary!F14)","v":0}]
[]
["Peterson","a","b",null,null,"minDBH","maxDBH","VarDBH"]
["Parms",{"$f":"PetersonParms(C16,D16,F16,B16)","v":0},0,null,null,{"$f":"wmindbh(B$16,C16,H$16,E16,F16)","v":-10},{"$f":"wmaxdbh(B$16,C16,H$16,E16,F16)","v":10},{"$f":"Wvar(F19,G19)","v":7.9239999999999993E-5}]
[]
["Weibull","alpha","beta","gamma",null,null,null,null,null,null,null,null,"Conversion factor (%)",{"$f":"('User interface'!D38-'User interface'!D39)/100","v":0.75}]
["Parms",{"$f":"Wparms(F19,G19,C16,E16)","v":0},0,{"$f":"F19^2*PI()/40000-0.01","v":-2.1460183660255167E-3}]
[]
["Elements","TSV","Pruned Height",{"$f":"B2","v":"Pruned"},"S1","S2","S3","L1","L2","L3","Pulp",0,0,"Average"]
["Unpruned",{"$f":"G16-SUM(B26:B30)","v":0},0,{"$f":"DistLogs(Clearfell!B3:K7,$B16:$H16,$B$22:$D$22,$B$19:$C$19,$B$13:$E$13,$F$19:$G$19,B25:B30,C25:C30)","v":0},0,0,0,0,0,0,0,0,0,0,0]
[1,{"$f":"conref4(Summary!D43)","v":0},{"$f":"'User interface'!D12","v":2.4},0,0,0,0,0,0,0,0,0,0,0,0,"average sed unpruned"]
[2,{"$f":"conref4(Summary!E43)","v":0},{"$f":"'User interface'!E12","v":4.5999999999999996},0,0,0,0,0,0,0,0,0,0,0,0,"average BIX unpruned"]
[3,{"$f":"conref4(Summary!F43)","v":0},{"$f":"'User interface'!F12","v":6},0,0,0,0,0,0,0,0,0,0,0,0,"average lth (m) (pruned logs)"]
[4,{"$f":"conref4(Summary!G43)","v":0},{"$f":"'User interface'!G12","v":0},0,0,0,0,0,0,0,0,0,0,0,0,"average pruned sed (cm)"]
[5,{"$f":"conref4(Summary!H43)","v":0},{"$f":"'User interface'!H12","v":0},0,0,0,0,0,0,0,0,0,0,0,0,"average pruned taper (mm/m)"]
[null,null,null,null,null,null,null,null,null,null,null,null,null,null,{"$f":"plicalc(N28,N29*10,L14,N30,K13*10,SUM(B26:B30))","v":0},"pli"]
[]
[null,null,"Adjusted",{"$f":"ConverAdj(D25:M30,B8:K8,B9:K9,N21,B2:K2,G16)","v":0},0,0,0,0,0,0,0,0,0]
[null,"Transposed"]
[null,{"$f":"IF(D33>0,D33,\"\")","v":""}]
[null,{"$f":"IF(E33>0,E33,\"\")","v":""}]
[null,{"$f":"IF(F33>0,F33,\"\")","v":""}]
[null,{"$f":"IF(G33>0,G33,\"\")","v":""}]
[null,{"$f":"IF(H33>0,H33,\"\")","v":""}]
[null,{"$f":"IF(I33>0,I33,\"\")","v":""}]
[null,{"$f":"IF(J33>0,J33,\"\")","v":""}]
[null,{"$f":"IF(K33>0,K33,\"\")","v":""}]
[null,{"$f":"IF(L33>0,L33,\"\")","v":""}]
[null,{"$f":"IF(M33>0,M33,\"\")","v":""}]

{"sheet":"Prod thin 4","index":25,"n_rows":44,"n_cols":16,"rows_kept":44,"cut":false,"hidden":true,"merged":[[10,0,10,9]]}
[]
[null,{"$f":"Clearfell!B2","v":"Pruned"},{"$f":"Clearfell!C2","v":"S1"},{"$f":"Clearfell!D2","v":"S2"},{"$f":"Clearfell!E2","v":"S3"},{"$f":"Clearfell!F2","v":"L1"},{"$f":"Clearfell!G2","v":"L2"},{"$f":"Clearfell!H2","v":"L3"},{"$f":"Clearfell!I2","v":"Pulp"},{"$f":"Clearfell!J2","v":0},{"$f":"Clearfell!K2","v":0}]
[null,{"$f":"Clearfell!B3","v":1},{"$f":"Clearfell!C3","v":0},{"$f":"Clearfell!D3","v":0},{"$f":"Clearfell!E3","v":0},{"$f":"Clearfell!F3","v":0},{"$f":"Clearfell!G3","v":0},{"$f":"Clearfell!H3","v":0},{"$f":"Clearfell!I3","v":0},{"$f":"Clearfell!J3","v":0},{"$f":"Clearfell!K3","v":0}]
[null,{"$f":"Clearfell!B4","v":4.2},{"$f":"Clearfell!C4","v":4},{"$f":"Clearfell!D4","v":4},{"$f":"Clearfell!E4","v":4},{"$f":"Clearfell!F4","v":4},{"$f":"Clearfell!G4","v":4},{"$f":"Clearfell!H4","v":4},{"$f":"Clearfell!I4","v":4},{"$f":"Clearfell!J4","v":0},{"$f":"Clearfell!K4","v":0}]
[null,{"$f":"Clearfell!B5","v":5.5},{"$f":"Clearfell!C5","v":5.5},{"$f":"Clearfell!D5","v":5.5},{"$f":"Clearfell!E5","v":5.5},{"$f":"Clearfell!F5","v":5.5},{"$f":"Clearfell!G5","v":5.5},{"$f":"Clearfell!H5","v":5.5},{"$f":"Clearfell!I5","v":5.5},{"$f":"Clearfell!J5","v":0},{"$f":"Clearfell!K5","v":0}]
[null,{"$f":"Clearfell!B6","v":300},{"$f":"Clearfell!C6","v":400},{"$f":"Clearfell!D6","v":300},{"$f":"Clearfell!E6","v":200},{"$f":"Clearfell!F6","v":400},{"$f":"Clearfell!G6","v":300},{"$f":"Clearfell!H6","v":200},{"$f":"Clearfell!I6","v":100},{"$f":"Clearfell!J6","v":0},{"$f":"Clearfell!K6","v":0}]
[null,{"$f":"Clearfell!B7","v":0},{"$f":"Clearfell!C7","v":6},{"$f":"Clearfell!D7","v":6},{"$f":"Clearfell!E7","v":6},{"$f":"Clearfell!F7","v":12},{"$f":"Clearfell!G7","v":12},{"$f":"Clearfell!H7","v":12},{"$f":"Clearfell!I7","v":15},{"$f":"Clearfell!J7","v":0},{"$f":"Clearfell!K7","v":0}]
[null,{"$f":"Clearfell!B8","v":1},{"$f":"Clearfell!C8","v":1},{"$f":"Clearfell!D8","v":1},{"$f":"Clearfell!E8","v":1},{"$f":"Clearfell!F8","v":1},{"$f":"Clearfell!G8","v":1},{"$f":"Clearfell!H8","v":1},{"$f":"Clearfell!I8","v":1},{"$f":"Clearfell!J8","v":0},{"$f":"Clearfell!K8","v":0}]
[null,{"$f":"Clearfell!B9","v":0},{"$f":"Clearfell!C9","v":0.05},{"$f":"Clearfell!D9","v":0.05},{"$f":"Clearfell!E9","v":0.1},{"$f":"Clearfell!F9","v":0.05},{"$f":"Clearfell!G9","v":0.1},{"$f":"Clearfell!H9","v":0.15},{"$f":"Clearfell!I9","v":0},{"$f":"Clearfell!J9","v":0},{"$f":"Clearfell!K9","v":0}]
[]
["BIX calculations"]
["BIX calculations","DBH30","ThinHT","SI ","FCS-SPH",null,null,"BIX1","BIX2","BIXn","DOS","Sweep"]
[null,{"$f":"atage2(20,'300 Index'!G5:G205,'300 Index'!P5:P205)","v":41.295168775733408},{"$f":"MIN('User interface'!L18:P18)","v":11.873001522898338},{"$f":"'User interface'!D4","v":28.3},{"$f":"E16","v":0},null,null,{"$f":"bix1calc(I13,E13)","v":3.0060072366336805},{"$f":"bix2calc(B13,C13,D13)","v":4.9278807157929183},{"$f":"bixncalc(I13,E13,C13)","v":5.1773071475052665},{"$f":"MAX('User interface'!L11:P11)","v":16.710553675172683},{"$f":"conref3('User interface'!D42)","v":8}]
[null,null,null,null,null,null,null,null,null,null,null,{"$f":"L13","v":8},"Change unit to mm/m"]
[null,"Age","DBH","MH","SPH","BA","VOL","MTH"]
["Stand",{"$f":"conref4(Summary!G3)","v":0},{"$f":"IF(E16>0,ba2dbh(F16,E16),0)","v":0},{"$f":"calcmeanht(H16,E16)","v":0},{"$f":"conref4('User interface'!O20)","v":0},{"$f":"conref4(Summary!F12)","v":0},{"$f":"IF('User interface'!G21=\"P\",'User interface'!O22,0)","v":0},{"$f":"conref4(Summary!G14)","v":0}]
[]
["Peterson","a","b",null,null,"minDBH","maxDBH","VarDBH"]
["Parms",{"$f":"PetersonParms(C16,D16,F16,B16)","v":0},0,null,null,{"$f":"wmindbh(B$16,C16,H$16,E16,F16)","v":-10},{"$f":"wmaxdbh(B$16,C16,H$16,E16,F16)","v":10},{"$f":"Wvar(F19,G19)","v":7.9239999999999993E-5}]
[]
["Weibull","alpha","beta","gamma",null,null,null,null,null,null,null,null,"Conversion factor (%)",{"$f":"('User interface'!D38-'User interface'!D39)/100","v":0.75}]
["Parms",{"$f":"Wparms(F19,G19,C16,E16)","v":0},0,{"$f":"F19^2*PI()/40000-0.01","v":-2.1460183660255167E-3}]
[]
["Elements","TSV","Pruned Height",{"$f":"B2","v":"Pruned"},"S1","S2","S3","L1","L2","L3","Pulp",0,0,"Average"]
["Unpruned",{"$f":"G16-SUM(B26:B30)","v":0},0,{"$f":"DistLogs(Clearfell!B3:K7,$B16:$H16,$B$22:$D$22,$B$19:$C$19,$B$13:$E$13,$F$19:$G$19,B25:B30,C25:C30)","v":0},0,0,0,0,0,0,0,0,0,0,0]
[1,{"$f":"conref4(Summary!D46)","v":0},{"$f":"'User interface'!D12","v":2.4},0,0,0,0,0,0,0,0,0,0,0,0,"average sed unpruned"]
[2,{"$f":"conref4(Summary!E46)","v":0},{"$f":"'User interface'!E12","v":4.5999999999999996},0,0,0,0,0,0,0,0,0,0,0,0,"average BIX unpruned"]
[3,{"$f":"conref4(Summary!F46)","v":0},{"$f":"'User interface'!F12","v":6},0,0,0,0,0,0,0,0,0,0,0,0,"average lth (m) (pruned logs)"]
[4,{"$f":"conref4(Summary!G46)","v":0},{"$f":"'User interface'!G12","v":0},0,0,0,0,0,0,0,0,0,0,0,0,"average pruned sed (cm)"]
[5,{"$f":"conref4(Summary!H46)","v":0},{"$f":"'User interface'!H12","v":0},0,0,0,0,0,0,0,0,0,0,0,0,"average pruned taper (mm/m)"]
[null,null,null,null,null,null,null,null,null,null,null,null,null,null,{"$f":"plicalc(N28,N29*10,L14,N30,K13*10,SUM(B26:B30))","v":0},"pli"]
[]
[null,null,"Adjusted",{"$f":"ConverAdj(D25:M30,B8:K8,B9:K9,N21,B2:K2,G16)","v":0},0,0,0,0,0,0,0,0,0]
[null,"Transposed"]
[null,{"$f":"IF(D33>0,D33,\"\")","v":""}]
[null,{"$f":"IF(E33>0,E33,\"\")","v":""}]
[null,{"$f":"IF(F33>0,F33,\"\")","v":""}]
[null,{"$f":"IF(G33>0,G33,\"\")","v":""}]
[null,{"$f":"IF(H33>0,H33,\"\")","v":""}]
[null,{"$f":"IF(I33>0,I33,\"\")","v":""}]
[null,{"$f":"IF(J33>0,J33,\"\")","v":""}]
[null,{"$f":"IF(K33>0,K33,\"\")","v":""}]
[null,{"$f":"IF(L33>0,L33,\"\")","v":""}]
[null,{"$f":"IF(M33>0,M33,\"\")","v":""}]

{"sheet":"Prod thin 5","index":26,"n_rows":44,"n_cols":16,"rows_kept":44,"cut":false,"hidden":true,"merged":[[10,0,10,9]]}
[]
[null,{"$f":"Clearfell!B2","v":"Pruned"},{"$f":"Clearfell!C2","v":"S1"},{"$f":"Clearfell!D2","v":"S2"},{"$f":"Clearfell!E2","v":"S3"},{"$f":"Clearfell!F2","v":"L1"},{"$f":"Clearfell!G2","v":"L2"},{"$f":"Clearfell!H2","v":"L3"},{"$f":"Clearfell!I2","v":"Pulp"},{"$f":"Clearfell!J2","v":0},{"$f":"Clearfell!K2","v":0}]
[null,{"$f":"Clearfell!B3","v":1},{"$f":"Clearfell!C3","v":0},{"$f":"Clearfell!D3","v":0},{"$f":"Clearfell!E3","v":0},{"$f":"Clearfell!F3","v":0},{"$f":"Clearfell!G3","v":0},{"$f":"Clearfell!H3","v":0},{"$f":"Clearfell!I3","v":0},{"$f":"Clearfell!J3","v":0},{"$f":"Clearfell!K3","v":0}]
[null,{"$f":"Clearfell!B4","v":4.2},{"$f":"Clearfell!C4","v":4},{"$f":"Clearfell!D4","v":4},{"$f":"Clearfell!E4","v":4},{"$f":"Clearfell!F4","v":4},{"$f":"Clearfell!G4","v":4},{"$f":"Clearfell!H4","v":4},{"$f":"Clearfell!I4","v":4},{"$f":"Clearfell!J4","v":0},{"$f":"Clearfell!K4","v":0}]
[null,{"$f":"Clearfell!B5","v":5.5},{"$f":"Clearfell!C5","v":5.5},{"$f":"Clearfell!D5","v":5.5},{"$f":"Clearfell!E5","v":5.5},{"$f":"Clearfell!F5","v":5.5},{"$f":"Clearfell!G5","v":5.5},{"$f":"Clearfell!H5","v":5.5},{"$f":"Clearfell!I5","v":5.5},{"$f":"Clearfell!J5","v":0},{"$f":"Clearfell!K5","v":0}]
[null,{"$f":"Clearfell!B6","v":300},{"$f":"Clearfell!C6","v":400},{"$f":"Clearfell!D6","v":300},{"$f":"Clearfell!E6","v":200},{"$f":"Clearfell!F6","v":400},{"$f":"Clearfell!G6","v":300},{"$f":"Clearfell!H6","v":200},{"$f":"Clearfell!I6","v":100},{"$f":"Clearfell!J6","v":0},{"$f":"Clearfell!K6","v":0}]
[null,{"$f":"Clearfell!B7","v":0},{"$f":"Clearfell!C7","v":6},{"$f":"Clearfell!D7","v":6},{"$f":"Clearfell!E7","v":6},{"$f":"Clearfell!F7","v":12},{"$f":"Clearfell!G7","v":12},{"$f":"Clearfell!H7","v":12},{"$f":"Clearfell!I7","v":15},{"$f":"Clearfell!J7","v":0},{"$f":"Clearfell!K7","v":0}]
[null,{"$f":"Clearfell!B8","v":1},{"$f":"Clearfell!C8","v":1},{"$f":"Clearfell!D8","v":1},{"$f":"Clearfell!E8","v":1},{"$f":"Clearfell!F8","v":1},{"$f":"Clearfell!G8","v":1},{"$f":"Clearfell!H8","v":1},{"$f":"Clearfell!I8","v":1},{"$f":"Clearfell!J8","v":0},{"$f":"Clearfell!K8","v":0}]
[null,{"$f":"Clearfell!B9","v":0},{"$f":"Clearfell!C9","v":0.05},{"$f":"Clearfell!D9","v":0.05},{"$f":"Clearfell!E9","v":0.1},{"$f":"Clearfell!F9","v":0.05},{"$f":"Clearfell!G9","v":0.1},{"$f":"Clearfell!H9","v":0.15},{"$f":"Clearfell!I9","v":0},{"$f":"Clearfell!J9","v":0},{"$f":"Clearfell!K9","v":0}]
[]
["BIX calculations"]
["BIX calculations","DBH30","ThinHT","SI ","FCS-SPH",null,null,"BIX1","BIX2","BIXn","DOS","Sweep"]
[null,{"$f":"atage2(20,'300 Index'!G5:G205,'300 Index'!P5:P205)","v":41.295168775733408},{"$f":"MIN('User interface'!L18:P18)","v":11.873001522898338},{"$f":"'User interface'!D4","v":28.3},{"$f":"E16","v":0},null,null,{"$f":"bix1calc(I13,E13)","v":3.0060072366336805},{"$f":"bix2calc(B13,C13,D13)","v":4.9278807157929183},{"$f":"bixncalc(I13,E13,C13)","v":5.1773071475052665},{"$f":"MAX('User interface'!L11:P11)","v":16.710553675172683},{"$f":"conref3('User interface'!D42)","v":8}]
[null,null,null,null,null,null,null,null,null,null,null,{"$f":"L13","v":8},"Change unit to mm/m"]
[null,"Age","DBH","MH","SPH","BA","VOL","MTH"]
["Stand",{"$f":"conref4(Summary!H3)","v":0},{"$f":"IF(E16>0,ba2dbh(F16,E16),0)","v":0},{"$f":"calcmeanht(H16,E16)","v":0},{"$f":"conref4('User interface'!P20)","v":0},{"$f":"conref4(Summary!H12)","v":0},{"$f":"IF('User interface'!H21=\"P\",'User interface'!P22,0)","v":0},{"$f":"conref4(Summary!H14)","v":0}]
[]
["Peterson","a","b",null,null,"minDBH","maxDBH","VarDBH"]
["Parms",{"$f":"PetersonParms(C16,D16,F16,B16)","v":0},0,null,null,{"$f":"wmindbh(B$16,C16,H$16,E16,F16)","v":-10},{"$f":"wmaxdbh(B$16,C16,H$16,E16,F16)","v":10},{"$f":"Wvar(F19,G19)","v":7.9239999999999993E-5}]
[]
["Weibull","alpha","beta","gamma",null,null,null,null,null,null,null,null,"Conversion factor (%)",{"$f":"('User interface'!D38-'User interface'!D39)/100","v":0.75}]
["Parms",{"$f":"Wparms(F19,G19,C16,E16)","v":0},0,{"$f":"F19^2*PI()/40000-0.01","v":-2.1460183660255167E-3}]
[]
["Elements","TSV","Pruned Height",{"$f":"B2","v":"Pruned"},"S1","S2","S3","L1","L2","L3","Pulp",0,0,"Average"]
["Unpruned",{"$f":"G16-SUM(B26:B30)","v":0},0,{"$f":"DistLogs(Clearfell!B3:K7,$B16:$H16,$B$22:$D$22,$B$19:$C$19,$B$13:$E$13,$F$19:$G$19,B25:B30,C25:C30)","v":0},0,0,0,0,0,0,0,0,0,0,0]
[1,{"$f":"conref4(Summary!D49)","v":0},{"$f":"'User interface'!D12","v":2.4},0,0,0,0,0,0,0,0,0,0,0,0,"average sed unpruned"]
[2,{"$f":"conref4(Summary!E49)","v":0},{"$f":"'User interface'!E12","v":4.5999999999999996},0,0,0,0,0,0,0,0,0,0,0,0,"average BIX unpruned"]
[3,{"$f":"conref4(Summary!F49)","v":0},{"$f":"'User interface'!F12","v":6},0,0,0,0,0,0,0,0,0,0,0,0,"average lth (m) (pruned logs)"]
[4,{"$f":"conref4(Summary!G49)","v":0},{"$f":"'User interface'!G12","v":0},0,0,0,0,0,0,0,0,0,0,0,0,"average pruned sed (cm)"]
[5,{"$f":"conref4(Summary!H49)","v":0},{"$f":"'User interface'!H12","v":0},0,0,0,0,0,0,0,0,0,0,0,0,"average pruned taper (mm/m)"]
[null,null,null,null,null,null,null,null,null,null,null,null,null,null,{"$f":"plicalc(N28,N29*10,L14,N30,K13*10,SUM(B26:B30))","v":0},"pli"]
[]
[null,null,"Adjusted",{"$f":"ConverAdj(D25:M30,B8:K8,B9:K9,N21,B2:K2,G16)","v":0},0,0,0,0,0,0,0,0,0]
[null,"Transposed"]
[null,{"$f":"IF(D33>0,D33,\"\")","v":""}]
[null,{"$f":"IF(E33>0,E33,\"\")","v":""}]
[null,{"$f":"IF(F33>0,F33,\"\")","v":""}]
[null,{"$f":"IF(G33>0,G33,\"\")","v":""}]
[null,{"$f":"IF(H33>0,H33,\"\")","v":""}]
[null,{"$f":"IF(I33>0,I33,\"\")","v":""}]
[null,{"$f":"IF(J33>0,J33,\"\")","v":""}]
[null,{"$f":"IF(K33>0,K33,\"\")","v":""}]
[null,{"$f":"IF(L33>0,L33,\"\")","v":""}]
[null,{"$f":"IF(M33>0,M33,\"\")","v":""}]

{"sheet":"Stand histories","index":27,"n_rows":125,"n_cols":12,"rows_kept":125,"cut":false,"hidden":true,"merged":[[0,10,0,11]]}
[null,null,null,null,null,null,null,null,null,null,"CO2 equivalents (t/ha)"]
["Age","DBH","MTH","MH","SPH","BA","VOL","Root Biomass","Grazing","Crown closure","Rotation 1","Rotation 2"]
[1,0,0.78196079470838642,0.72906589393721288,950,0,7.1602130301916631E-2,null,null,0,0.19331159183122207,326.8206216494151]
[2,0.29665635665491102,1.754166531879424,1.635509469879584,949.89965919944029,6.5668431857841261E-3,0.4317984466288009,4.3204195970422167E-3,null,0,1.1120099714536025,279.28873408930895]
[3,2.5672739302143137,2.96836208619077,2.7675859515755046,949.44369818124721,0.49156984556195549,1.2777071501554549,0.54285890740881459,null,1.4972555942575689E-5,3.0267969875039236,240.44509096756701]
[4,5.5467620269879854,4.340864533334714,4.0472727837487579,948.98790487511428,2.293566523201561,5.8367145127158597,3.0472580484840788,null,7.2214679979287081E-3,13.702518257752592,216.75503553160215]
[5,8.7783356987802339,5.8196514720007126,5.426068060102426,948.52958515080718,5.7417839591034037,16.199208132006849,8.5171476430203281,null,6.0332601280225502E-2,33.964151250699977,207.97514439179761]
[6,12.025567537119503,7.3684459171939825,6.8701515532469468,948.04039613359794,10.769848717101977,34.5504204460495,17.229129928447978,null,0.18958103356973596,66.526604581449618,215.940279920336]
[7,14.807639122504552,8.9604830247507596,8.3545789003580211,947.42343419956092,16.318767779414866,59.507500682033523,27.443049134800301,null,0.23512400468306718,105.82003589755813,234.35429911088707]
[8,17.354482882157544,10.575378570444949,9.8603713441531831,946.47483407701327,22.392574203542878,92.084241320921265,39.119313811233113,null,0.32117534903879197,153.66082235733256,264.43297107750772]
[9,19.647049361164626,12.197314394936845,11.372828896737072,944.91708565810507,28.652331731979018,131.57281172078982,51.567934324606362,null,0.3420492920271534,200.46693778961662,296.09658767057732]
[10,21.738532770848799,13.813883732202004,13.270564568648808,306.83092371773961,11.390195555880728,57.836909650151583,21.003653201940409,null,0.37809979667885429,199.3438103263048,282.03732125504376]
[11,23.752873517814898,15.415306359582594,14.809344165308438,306.64908297707854,13.590817445006099,75.619004544099724,54.595382782511194,null,0.4612057102029356,205.94408046455052,277.56392994764241]
[12,26.37094122127025,16.99386860909004,16.326282077401597,306.44370823310851,16.740698192914287,101.22634410059371,59.75088527862313,null,0.57845858126366745,224.08795944317345,286.20985085773617]
[13,28.804788047782139,18.54350885964466,17.815593837326226,306.20290464378758,19.957689899602769,130.18668376397093,65.296904752771994,null,0.22222721759341837,246.1051233650204,300.06508596217355]
[14,31.049358215750647,20.059501858739296,19.272779804702253,305.91762204285652,23.167616028700476,161.96629615686442,71.048492685007488,null,0.29779697511794706,273.29070983087774,320.22401970195926]
[15,33.114281630294265,21.53821286393341,20.694390181283886,305.58004533763653,26.322507823849435,196.07374129013553,76.874323571994196,null,0.37975035767094539,303.70045691318711,344.57386324020609]
[16,35.014417045997341,22.976902711511887,22.077835491610504,305.183869797461,29.391853372107164,232.06155911892884,82.681932754726574,null,0.47475398582741241,337.15191880399652,372.79038133721906]
[17,36.764855809577483,24.373571024973682,23.421234097307867,304.72437280225756,32.355232297504479,269.51235815050848,88.403087954182624,null,0.55673451905535976,372.74594036997786,403.85485916765498]
[18,38.379158968729165,25.726828621838049,24.723288110236748,304.19838663653206,35.19811530759717,308.03032497023571,93.984833320769241,null,0.62376521960892961,410.02257382088425,437.20631039795262]
[19,39.869142561772321,27.035792690070863,25.983181520269994,303.60421371394455,37.909947461828551,347.24080872123528,99.385194978037887,null,0.67673376465461066,448.36876925889334,472.14611104158502]
[20,41.245156947558065,28.300000000000399,27.200495997976752,302.94149997152783,40.483335610464977,386.79414296273353,104.57126973781106,null,0.70267116943942232,487.33928231323654,508.15638295898725]
[21,42.516415725873316,29.519334592337206,28.375140945047995,302.21107799812785,42.913631365342731,426.37019828934353,109.51819216811509,null,0.71649616613197975,526.51141970680362,544.7526510226877]
[22,43.691248415834558,30.69396721729607,29.507295143054307,301.41479213142475,45.198608701956054,465.68188767049048,114.20830740301942,null,0.72763769615235518,565.5554437690588,581.55251630730106]
[23,44.777269848335038,31.824304405334878,30.597357915827899,300.55531736211697,47.338144697190039,504.47708205711399,118.63033741428485,null,0.73669016739832993,604.18675116004863,618.22639659620233]
[24,45.78148901952477,32.910945497939558,31.645908143712877,299.63598197889149,49.333893118460416,542.53900059135674,122.7785167742792,null,0.74409026353897434,642.17589245686884,654.50634875683829]
[25,46.710380095615264,33.954646303934339,32.653669791991057,298.66060131145321,51.18896329179892,579.68536374131168,126.65172997600058,null,0.75016473782259796,679.33223758143811,690.16873547624027]
[26,47.569931587762369,34.956288304342543,33.62148286821354,297.63332737542316,52.907618044345114,615.76663963799967,130.25268729549464,null,0.75516252783570037,715.50343202530894,725.03284661477221]
[27,48.365683559905861,35.916852528353616,34.550278922244829,296.55851704239012,54.495000119505761,650.66368304870991,133.58716604434812,null,0.75927639175699968,750.56864008011951,758.95344300857585]
[28,49.102758471653488,36.83739737946896,35.441060361362382,295.44061966122877,55.95689175607005,684.28501318761721,136.66333230022272,null,0.76265773061278708,784.43585011312643,791.81747451482397]
[29,50.058974097552756,37.719039815062182,36.294924465773256,294.27553468816581,57.928147965695779,724.42542583019076,141.07663707226371,null,0.76542696157419199,827.57376364881929,834.07547498942085]
[30,51.02883503442559,38.562939382088778,37.113056671807733,293.05006090731433,59.943861991811048,765.52004412242491,145.66448070671026,null,0.76768093362927969,869.58090406355711,875.31025433120203]
[31,null,null,null,null,null,null,74.388837704127567]
[32,null,null,null,null,null,null,37.989351612167681]
[33,null,null,null,null,null,null,19.400636983374049]
[34,null,null,null,null,null,null,9.9076372559122046]
[35,null,null,null,null,null,null,5.0596934563984552]
[36,null,null,null,null,null,null,2.5839155402510023]
[37,null,null,null,null,null,null,1.3195699653913662]
[38,null,null,null,null,null,null,0.67388614931036894]
[39,null,null,null,null,null,null,0.34414434561464941]
[40,null,null,null,null,null,null,0.17574976238899964]
[41,null,null,null,null,null,null,8.9752975381952566E-2]
[1,0,0.78196079470838642,0.72991502806706876,855,0,6.5000109757249666E-2,null,null,0,0.1755044334240001,364.4038383074157]
[2,0.3048499888073945,1.754166531879424,1.6374149457080995,854.90558865520654,6.2411140553555603E-3,0.39224348106883949,4.1330552127944818E-3,null,0,1.0099924303903605,311.07738905827375]
[3,2.5793383411056383,2.96836208619077,2.7708143646136985,854.49522571462842,0.44657855547591702,1.1607640675871318,0.49372857547941201,null,1.3894681148509578E-5,2.7493030085181291,267.27745851335976]
[4,5.5667759718487506,4.340864533334714,4.0519998063801266,854.08502537553852,2.079123043396419,5.2909944047205588,2.7647348953104651,null,6.2977753821709158E-3,12.416415125282919,238.56709956028666]
[5,8.8129247668293615,5.8196514720007126,5.4324132858810614,853.67318160036996,5.2083883629958985,14.694347214287719,7.7332237951401668,null,5.2917923138160454E-2,30.799641096170731,224.53475475175847]
[6,12.085320875140159,7.3684459171939825,6.8781953695125519,853.24062970233251,9.7894771143219348,31.405320458188907,15.679415309758873,null,0.16906396850787464,60.4456407465509,226.73912619062375]
[7,14.883068345981153,8.9604830247507596,8.3643725398538447,852.72225051133978,14.83761657118936,54.106381692837736,24.982663705337774,null,0.21092520825059463,96.152515658179084,239.16329254841889]
[8,17.449535510234771,10.575378570444949,9.8719434404274633,851.98054355216868,20.378349917670153,83.801213495320994,35.647210274856377,null,0.28917427741434981,139.49948233423174,262.71279079223217]
[9,19.77435999476252,12.197314394936845,11.386190042523483,850.82738450868351,26.134724627552362,120.0118452823082,47.109762719737823,null,0.30916238369500676,183.13540712210124,289.47851552906485]
[10,21.733517115656142,13.813883732202004,13.139329727612598,399.74576458666883,14.832538842537167,75.316372287855145,27.349859598411651,null,0.34347012929500459,194.03481586387196,285.97190023825539]
[11,23.811223776125193,15.415306359582594,14.662935591760158,399.45157528892423,17.790951164760191,98.988454698594737,54.744120819265163,null,0.42388694640794244,212.12530740277134,291.73538607563086]
[12,26.249965947415181,16.99386860909004,16.164972192308245,399.09079647408299,21.60234002097744,130.62333954906663,61.736472058575643,null,0.5416818234422468,241.1410605456299,310.1821249319824]
[13,28.465392546982212,18.54350885964466,17.639740679965612,398.63664610870779,25.373663212583288,165.51580294149329,68.881780306619589,null,0.28998614571506637,273.17026580975988,333.13214992626359]
[14,30.471073089940969,20.059501858739296,19.082811700988103,398.07078928126987,29.034035537157475,202.97881286596711,75.990935233697655,null,0.38491668568149967,309.50388950346343,361.65193890236225]
[15,32.291148810848483,21.53821286393341,20.490793405347556,397.37902212417833,32.549440301409639,242.45754164102971,82.956653674973694,null,0.47803502409074128,348.17089803073901,393.58211011717282]
[16,33.950426014051246,22.976902711511887,21.861143204246055,396.55116850196674,35.905525455205662,283.48985389355369,89.719308743666531,null,0.57129434758361286,389.01870569724224,428.61169964255151]
[17,35.470196285997368,24.373571024973682,23.192016538138141,395.58074484374043,39.096143834731684,325.66274977116137,96.241866545584344,null,0.6445204749969955,431.18647457706339,465.74639554936931]
[18,36.867578647283167,25.726828621838049,24.482143847256246,394.46462073805702,42.11811099992056,368.58949137079941,102.49748448605617,null,0.69963125072901178,474.30867381799749,504.50793125052388]
[19,38.156216604032899,27.035792690070863,25.730729572965807,393.20269065264455,44.969565187798231,411.90424226718721,108.46509268667279,null,0.74022377076045842,517.89057495166321,544.30614861571075]
[20,39.347190466373362,28.300000000000399,26.937368718143343,391.79752778327241,47.649762772123829,455.26508317305905,114.12840238270354,null,0.75488318258478726,561.601284071804,584.72919723550615]
[21,40.449756584060857,29.519334592337206,28.101977596352722,390.25400793609089,50.159222185771092,498.35907213991277,119.47588221690218,null,0.76359457525249541,605.1043264671423,625.37177631568727]
[22,41.471860261364355,30.69396721729607,29.224736152647466,388.57891132106721,52.499825095805974,540.90642068651709,124.50074852826708,null,0.77046937248335068,648.12913706951429,665.90468394510742]
[23,42.42047039411905,31.824304405334878,30.306039783936772,386.78051952109092,54.674793170604751,582.66288840044399,129.20073059214658,null,0.77595677532323426,690.42987707621148,706.03202203218177]
[24,43.301794578174579,32.910945497939558,31.346458997956056,384.8682258350828,56.688562586586372,623.42041437590387,133.57763099207452,null,0.78036864814753981,731.80348964004122,745.50791112672653]
[25,44.121419644204032,33.954646303934339,32.346705568011011,382.85217389001429,58.546598673535406,663.00632334396846,137.63676378952374,null,0.78392830854862494,772.07832215710323,784.12399481729892]
[26,44.884407157333484,34.956288304342543,33.307604090906153,380.74293475198903,60.255186646808497,701.28150110948729,141.38634735720012,null,0.78680035140610882,811.11679574414313,821.71117523753446]
[27,45.595361952560339,35.916852528353616,34.23006805453204,378.5512282272739,61.821222836893924,738.13789252989591,144.8369064857595,null,0.78910919268862245,848.81035276387865,858.13377860501669]
[28,46.275131967910916,36.83739737946896,35.115081869107605,376.28704990010624,63.297447957318077,774.05112490933516,148.11321291815625,null,0.79095091971147113,885.83222947015167,894.04167171468782]
[29,47.17274841770724,37.719039815062182,35.963768660952397,373.93557883961921,65.365824817569759,817.43793200934363,152.90748554008107,null,0.7924011040043577,933.41235872965296,940.64461289721146]
[30,48.047704204429856,38.562939382088778,36.777307186848184,371.47973469624856,67.367744230402053,860.32759355296128,157.59314557485078,null,0.79352011391511412,977.66218951345388,984.03660651806467]
[31,null,null,null,null,null,null,80.480642038292586]
[32,null,null,null,null,null,null,41.100351917396011]
[33,null,null,null,null,null,null,20.989381855702153]
[34,null,null,null,null,null,null,10.718987311104042]
[35,null,null,null,null,null,null,5.4740387194583224]
[36,null,null,null,null,null,null,2.7955159412389046]
[37,null,null,null,null,null,null,1.4276313665706331]
[38,null,null,null,null,null,null,0.72907161384781116]
[39,null,null,null,null,null,null,0.37232679987656586]
[40,null,null,null,null,null,null,0.19014215239390991]
[41,null,null,null,null,null,null,9.7102970103077862E-2]
[1,0,0.78196079470838642,0.73115552478768364,760,0,5.8253048992091626E-2,null,null,0,0.15730092400641285,399.60205069111458]
[2,0.31265585234458027,1.754166531879424,1.6401985499027034,759.91243026722145,5.8353682686746906E-3,0.35174652978618998,3.8878781752970698E-3,null,0,0.90558632055021759,340.8855692184905]
[3,2.5908395363108387,2.96836208619077,2.7755297166034469,759.54766496447905,0.40050474046569551,1.0410072448182295,0.44326331320685425,null,1.2585061592807056E-5,2.4652583040791956,292.45981871458127]
[4,5.585880642050201,4.340864533334714,4.0589027404505691,759.18305281995583,1.8608073133453391,4.7354201159205163,2.4764627750917376,null,5.3873840619027514E-3,11.108437194800009,258.98971027442593]
[5,8.8460199554345031,5.8196514720007126,5.4416776136280349,758.81744422356508,4.6644960756640366,13.159872140575974,6.9319055273073227,null,4.554596500673596E-2,27.575380298828787,239.89483352215714]
[6,12.142723113266095,7.3684459171939825,6.8899374917192837,758.43866365513918,8.7846455876998135,28.181751340907745,14.086026805983398,null,0.14802123981017234,54.219722699569893,236.44163041177646]
[7,14.928217310297057,8.9604830247507596,8.3786657165353553,758.00597092974476,13.269669917971292,48.388757188525325,22.358899880035192,null,0.18578880018017732,85.127959541494306,241.8199138666736]
[8,17.493705601678656,10.575378570444949,9.8888263913079921,757.43307388050277,18.208722968859327,74.879128445400283,31.871281590210522,null,0.25637061518361626,123.19829863891505,258.18689784110512]
[9,19.852856891164812,12.197314394936845,11.405672905590681,756.59903081153254,23.425205041657421,107.56960799204059,42.265822759527232,null,0.2747939584971642,163.54548319447198,280.04376306677347]
[10,21.944662565160058,13.813883732202004,13.043236350392814,499.59914743250357,18.899534147205156,95.967680584509296,34.929988352082702,null,0.30627156498801877,187.79837409586196,288.51028207922866]
[11,24.022814574014259,15.415306359582594,14.555762124814569,499.09272859420963,22.625626682973365,125.88848123933425,55.007565729748322,null,0.38227340303343937,218.20085638481581,305.40705031571173]
[12,26.271518041794096,16.99386860909004,16.04694967490121,498.42608395948366,27.023568327666059,163.40399873644841,63.753838743444327,null,0.49855256461958325,258.19995367382347,333.82838811366747]
[13,28.272763577692182,18.54350885964466,17.511169000167182,497.55025298723774,31.242449092096681,203.79867912697185,72.334984920577568,null,0.36649798665651595,300.02378756750119,365.70789122107044]
[14,30.058029970546681,20.059501858739296,18.944045020286588,496.43643728757468,35.233539419276248,246.31994388924412,80.600630755306241,null,0.47468884031523301,344.95044122069618,402.0771575180525]
[15,31.662698955610658,21.53821286393341,20.342228856544136,495.06565730846296,38.987937411079116,290.41726588260843,88.494714381878993,null,0.56965104629846042,391.10330782356215,440.85284211506843]
[16,33.117785271841825,22.976902711511887,21.703211346466816,493.42720328857769,42.512559941838248,335.6552857467056,96.003981401068927,null,0.65262048293134645,438.443076074175,481.82184688289084]
[17,34.447672802219273,24.373571024973682,23.02517329540979,491.51727987973243,45.817370573885334,381.64917111647401,103.12821878238954,null,0.71227340420429774,486.29379816444794,524.16181037660101]
[18,35.670811313036509,25.726828621838049,24.306863581451346,489.33801976539058,48.910998737569507,428.03629410522615,109.86870579969148,null,0.75402853243348811,534.4596318424426,567.55326362266396]
[19,36.801195123905998,27.035792690070863,25.547499037688979,486.89669134149079,51.800298818207985,474.47118389566327,116.22589895855501,null,0.78304170563390951,582.5712178942664,611.52223008033627]
[20,37.849696136598602,28.300000000000399,26.746681737453013,484.2049453157976,54.491104588432997,520.63002666527393,122.20028470596314,null,0.79063935225202409,630.37759563091242,655.72902403783598]
[21,38.825031907807634,29.519334592337206,27.904330373695199,481.27803886814968,56.989032479392272,566.21694099231729,127.79367733281985,null,0.79555823472719633,677.59646379026117,699.8159345240789]
[22,39.734410113479832,30.69396721729607,29.020623148496291,478.13404022956877,59.300014590851305,610.9688666669108,133.01010188941135,null,0.7993547321988983,723.99569806512193,743.48660821818874]
[23,40.583944356403983,31.824304405334878,30.095950117441049,474.79304348802737,61.43055673191779,654.65827204464665,137.85616037070201,null,0.80231832629419497,769.35916557770031,786.47009221001497]
[24,41.37892272930678,32.910945497939558,31.130873336293291,471.27642751904864,63.387799245142588,697.09384519010462,142.34100673088352,null,0.80464230341029852,813.50763849254156,828.54027410541141]
[25,42.123985310552023,33.954646303934339,32.126093471278054,467.60618658939785,65.179458790802059,738.11962282231457,146.47608229559233,null,0.80646088205862232,856.2894137383928,869.50527370402972]
[26,42.823245992158753,34.956288304342543,33.082421782309858,463.80435056428212,66.813709070467993,777.61302883810947,150.27473081749395,null,0.80787073995362646,897.5839923687771,909.21009672464004]
[27,43.480379991087283,35.916852528353616,34.000756586367103,459.89250323968855,68.299038257849318,815.48222193012498,153.75177324554616,null,0.80894379704779629,937.29782022392476,947.53151704436402]
[28,44.169508792570994,36.83739737946896,34.882080298234719,455.88463177892982,69.866934333776129,854.38798656610891,157.46882290486471,null,0.80973504989910294,979.10366605331285,988.11673479640797]
[29,45.015412804102631,37.719039815062182,35.727555416603813,451.74465217924734,71.909636028399461,899.27212470207303,162.39359404597695,null,0.81028754415387638,1028.7684127224138,1036.710562323349]
[30,45.833142863233384,38.562939382088778,36.538325362673781,447.46436884637154,73.839599459429081,942.97717160576553,167.09000338513823,null,0.81063564346486938,1075.1386471880535,1082.1405042667955]
[31,null,null,null,null,null,null,85.330556107399659]
[32,null,null,null,null,null,null,43.577136023002282]
[33,null,null,null,null,null,null,22.254241277616252]
[34,null,null,null,null,null,null,11.364933541776118]
[35,null,null,null,null,null,null,5.8039145346600192]
[36,null,null,null,null,null,null,2.9639789622890693]
[37,null,null,null,null,null,null,1.5136631038290795]
[38,null,null,null,null,null,null,0.77300683339668974]
[39,null,null,null,null,null,null,0.39476390946333823]
[40,null,null,null,null,null,null,0.20160047425454761]
[41,null,null,null,null,null,null,0.10295457676186828]